{"text_format":"1","workbook":"xlsx","n_sheets":3,"sheets":["Please Read","Interactive Report","Coding"],"not_rendered":{"charts":1,"images":2,"macros":1,"external_links":0,"defined_names":183,"comments":1,"pivot_tables":0},"unopened":[],"bounds":{"document_bytes":16777216,"sheet_cells":100000,"rows_first":2000,"rows_last":500,"rows_between":2000,"halvings":0,"cell_chars":16384,"cell_head_chars":4096},"cells_cut":0,"cells_raw":0,"read":"whole","date_system":"1900"}

{"sheet":"Please Read","index":0,"n_rows":141,"n_cols":3,"rows_kept":141,"cut":false,"hidden":false,"merged":[[68,1,68,9],[42,1,42,9],[48,1,48,9],[66,1,66,9],[52,1,52,9],[54,1,54,9],[50,1,50,9],[57,1,57,9],[1,0,1,9],[0,0,0,9],[9,1,9,9],[67,1,67,9],[59,1,59,9],[61,1,61,9],[6,2,6,8],[5,1,5,9]]}
[{"$f":"ClubForIR&\" \"&Coding!AV6","v":"CIPFA Public Libraries Profile 2019"}]
["INTERACTIVE REPORT"]
[]
[null,"A) What is the Interactive Report?"]
[]
[null,"The Interactive Report is another version of the club's final reports.  It contains the same data and will faithfully recreate the charts displayed in the pdf/hardcopy reports.  It is easy to use and provides additional information."]
[]
[null,"B) What are the advantages of the Interactive Report compared to the normal reports?"]
[]
[null,"The Interactive Report has the following advantages over the normal reports:"]
[]
[null,"1) The comparison group can be changed."]
[]
[null,"•  This enables multiple comparisons e.g. against neighbouring authorities, high performers or family groups."]
[null,"•  Different comparison groups can be used for different charts."]
[]
[null,"2) The value for each authority displaying on the graph is displayed in a table below the chart."]
[null,"This information is not available in the normal reports and has several uses."]
[]
[null,"• Giving detailed information on family groups, e.g. the values of the headline indicators for each member."]
[null,"• Identifying authorities with high, low or similar values."]
[null,"• Identifying quartiles, and which authorities fall into each quartile."]
[]
[null,"3) The format of the chart can be changed."]
[null,"The charts in our reports have been formatted to print clearly on a wide range of printers in both colour"]
[null,"and in black and white.  In the interactive report this can be amended to suit your preferences."]
[]
[null,"• The colour scheme can be amended to match 'corporate' colour schemes."]
[null,"• More 'aesthetic' options can be used."]
[]
[null,"4) Charts automatically print as an A4 page or charts can be copied to produce custom reports"]
[null,"or presentations."]
[]
[null,"• The Chart prints automatically as an A4 sheet containing all the relevant information."]
[null,"• Please see below for details of how to use this to copy charts and produce your own reports."]
[null,"This could be used to produce for example summary reports, any selection of charts or the same "]
[null,"chart compared to multiple comparison groups."]
[]
[null,"C) Instructions for the Interactive Report"]
[]
[null,"The report sheet is split into two sections:"]
[]
[null,"The Upper section: \nThis section prints out on one page of A4 paper.\nIt allows you to view or print out a copy of individual charts from the original report.  Using 3 controls, you can choose which graph is to be displayed, which authority's value you would like to see and within which comparator group set.\nIf the chosen chart contains less than 22 authorities' data, e.g. if the \"Original Comparators\" selection is chosen, a key with corresponding letters will appear on the right of the chart.\nThe boxes \"Black Bar\" and \"Average\" display the value of the selected authority and the average value across the selected comparator group."]
[null,"The three controls are in the form of three drop down lists:"]
[null,null,"Step 1 - Graph:  This selects the graph you would like to display"]
[null,null,"Step 2 - Authority:  This highlights any authority on the graph"]
[null,null,"Step 3 - Comparator Group:  This chooses which overall comparison group is used"]
[]
[null,"The Bottom section: \nThis section does not print.  This section provides data for the authorities displaying on the graph and enables you to select customised comparison groups."]
[]
[null,"The contents of this bottom section are affected by the comparator group chosen in Step 3 of the Upper section.  Only authorities present in the selected comparator group will be displayed in the bottom section."]
[]
[null,"The table of data is automatically sorted by the value displayed on the chart.  This means that the first value showing in the table corresponds to the first bar on the left of the chart and so on.  You can change how the data is sorted by using the \"radio buttons\" at the top of the table."]
[]
[null,"Using the Radio buttons to sort the data:  \nThe small circles beside each column heading of the Bottom section are radio buttons.  By using these buttons, the information on the Bottom section can be sorted in a different order.  This has no effect on the way the chart is displayed.\n\n\"Short Name\", causes information to be displayed in alphabetical order.\n\"Data\", causes information to be displayed in descending order of the graph data.\n\"Tier\", causes information to be displayed by order of tier."]
[]
[null,"Selecting Authorities:"]
[null,"\nAuthorities of interest can be selected and then either be made to display at the top of the table, so their data can be found quickly or displayed on the chart on their own as a customised comparator group."]
[]
[null,"To select an authority:\nTick the tickbox beside the authority's name."]
[]
[null,"To unselect an authority:\nUntick the tickbox beside the authority's name."]
[]
[null,"You will then be able to use the two additional tick boxes to bring this data to the top of the table or to display"]
[null,"the selected group on the chart."]
[]
[null,"\"Force Selected Authorities to top\" tick box:  \nTicking this box has no effect on the chart itself but it will force the selected authorities to rise to the top of the table.  This would be particularly useful if you want to see how other authorities perform in the same comparator group."]
[null,"\"Display only selected authorities\" tick box:  \nWhen this is selected the chart will only display the authorities that have been selected.  If this is unchecked the chart will display all authorities in the overall Comparator Group from the Upper section.\n"]
[]
[null,"D) Copying Charts to produce your own reports"]
[]
[null,"Our Benchmarking reports contain a lot of information, and members may sometimes find it"]
[null,"useful to summarise key aspects, or incorporate some of this information into their own reports."]
[]
[null,"Charts produced in the Interactive Report can be used in member's own reports.  There are many"]
[null,"ways in which the charts can be copied, however some produce lower quality charts, here we give"]
[null,"two options."]
[]
[null,"In either case, the member may wish to change the format of the graph (colours/backgrounds/shading etc…)"]
[null,"to suit their requirements."]
[]
[null,"The Simpler method - however quality of charts may be reduced"]
[]
[null,"I) Highlight the chart:"]
[]
[null,null,"Hold down shift and left click on the chart.  The chart will be selected."]
[]
[null,"II) Copy the chart:"]
[]
[null,null,"Hold down shift and using the menus select Edit --> Copy Picture"]
[null,null,"Select the options \"As shown on screen\" and \"Picture\" and press Okay"]
[]
[null,"III) You can now paste the chart into a Word, Powerpoint or new Excel document."]
[]
[null,null,"(Edit --> Paste)"]
[]
[null,"A slightly longer method which produces full quality charts"]
[]
[null,"This method produces higher quality charts, but the 'size' (in kb) of the picture produced will also be"]
[null,"much bigger."]
[]
[null,"I) Remove the textured background for the view."]
[]
[null,null,"View --> \"Page Break Preview\""]
[]
[null,null,"You may need to refresh the screen.  This can been done by pressing \"Page Down\" "]
[null,null,"and then \"Page Up\". You may also wish to change the colour of the background."]
[]
[null,"II) Copy the whole Screen."]
[]
[null,null,"Press the \"Print Screen\" key."]
[]
[null,null,"You will need to make sure that the cursor and active cell are not in near the chart"]
[null,null,"to prevent them disrupting the picture."]
[]
[null,"III) Paste into a new Excel Worksheet (or word/powerpoint etc…)"]
[]
[null,null,"Edit --> Paste"]
[]
[null,"IV) Activate the \"Picture\" Toolbar."]
[]
[null,null,"View --> Toolbars --> Picture"]
[]
[null,"V) Crop the picture to leave only the chart."]
[]
[]
[]
[]
[]
[null,null,"Left click on the picture to activate it."]
[null,null,"Select the crop tool from the toolbar (circled above)."]
[null,null,"At the corners and centre of the sides short, thick black bars will appear."]
[null,null,"Move these bars to crop the picture to leave only the chart."]
[]
[null,"VI) The cropped picture can now be copied and pasted into your report."]
[]
[]
[null,"E) Please Note"]
[]
[null,"We hope that you find this reasonably intuitive to use after a little practice and that it provides "]
[null,{"$f":"\"some interesting comparisons.  If you have any queries please e-mail \"&Coding!AV7","v":"some interesting comparisons.  If you have any queries please e-mail analytics@cipfa.org"}]

{"sheet":"Interactive Report","index":1,"n_rows":159,"n_cols":13,"rows_kept":159,"cut":false,"hidden":false,"merged":[[23,3,23,4],[28,1,28,11],[1,1,1,9]]}
[]
[null,{"$f":"ClubForIR&\" \"&Coding!AV6","v":"CIPFA Public Libraries Profile 2019"}]
[]
[null,null,null,null,null,null,null,null,null,null,null,{"$f":"IF(ISERROR(Coding!Z7),\"\",Coding!Z7)","v":""},{"$f":"IF(L4=\"\",\"\",OFFSET($C$35,MATCH(L4,OFFSET($D$35,0,0,Coding!$J$4,1),FALSE)-1,0,,))","v":""}]
[null,null,null,null,null,null,null,null,null,null,null,{"$f":"IF(ISERROR(Coding!Z8),\"\",Coding!Z8)","v":""},{"$f":"IF(L5=\"\",\"\",OFFSET($C$35,MATCH(L5,OFFSET($D$35,0,0,Coding!$J$4,1),FALSE)-1,0,,))","v":""}]
[null,null,null,null,null,null,null,null,null,null,null,{"$f":"IF(ISERROR(Coding!Z9),\"\",Coding!Z9)","v":""},{"$f":"IF(L6=\"\",\"\",OFFSET($C$35,MATCH(L6,OFFSET($D$35,0,0,Coding!$J$4,1),FALSE)-1,0,,))","v":""}]
[null,null,null,null,null,null,null,null,null,null,null,{"$f":"IF(ISERROR(Coding!Z10),\"\",Coding!Z10)","v":""},{"$f":"IF(L7=\"\",\"\",OFFSET($C$35,MATCH(L7,OFFSET($D$35,0,0,Coding!$J$4,1),FALSE)-1,0,,))","v":""}]
[null,null,null,null,null,null,null,null,null,null,null,{"$f":"IF(ISERROR(Coding!Z11),\"\",Coding!Z11)","v":""},{"$f":"IF(L8=\"\",\"\",OFFSET($C$35,MATCH(L8,OFFSET($D$35,0,0,Coding!$J$4,1),FALSE)-1,0,,))","v":""}]
[null,null,null,null,null,null,null,null,null,null,null,{"$f":"IF(ISERROR(Coding!Z12),\"\",Coding!Z12)","v":""},{"$f":"IF(L9=\"\",\"\",OFFSET($C$35,MATCH(L9,OFFSET($D$35,0,0,Coding!$J$4,1),FALSE)-1,0,,))","v":""}]
[null,null,null,null,null,null,null,null,null,null,null,{"$f":"IF(ISERROR(Coding!Z13),\"\",Coding!Z13)","v":""},{"$f":"IF(L10=\"\",\"\",OFFSET($C$35,MATCH(L10,OFFSET($D$35,0,0,Coding!$J$4,1),FALSE)-1,0,,))","v":""}]
[null,null,null,null,null,null,null,null,null,null,null,{"$f":"IF(ISERROR(Coding!Z14),\"\",Coding!Z14)","v":""},{"$f":"IF(L11=\"\",\"\",OFFSET($C$35,MATCH(L11,OFFSET($D$35,0,0,Coding!$J$4,1),FALSE)-1,0,,))","v":""}]
[null,null,null,null,null,null,null,null,null,null,null,{"$f":"IF(ISERROR(Coding!Z15),\"\",Coding!Z15)","v":""},{"$f":"IF(L12=\"\",\"\",OFFSET($C$35,MATCH(L12,OFFSET($D$35,0,0,Coding!$J$4,1),FALSE)-1,0,,))","v":""}]
[null,null,null,null,null,null,null,null,null,null,null,{"$f":"IF(ISERROR(Coding!Z16),\"\",Coding!Z16)","v":""},{"$f":"IF(L13=\"\",\"\",OFFSET($C$35,MATCH(L13,OFFSET($D$35,0,0,Coding!$J$4,1),FALSE)-1,0,,))","v":""}]
[null,null,null,null,null,null,null,null,null,null,null,{"$f":"IF(ISERROR(Coding!Z17),\"\",Coding!Z17)","v":""},{"$f":"IF(L14=\"\",\"\",OFFSET($C$35,MATCH(L14,OFFSET($D$35,0,0,Coding!$J$4,1),FALSE)-1,0,,))","v":""}]
[null,null,null,null,null,null,null,null,null,null,null,{"$f":"IF(ISERROR(Coding!Z18),\"\",Coding!Z18)","v":""},{"$f":"IF(L15=\"\",\"\",OFFSET($C$35,MATCH(L15,OFFSET($D$35,0,0,Coding!$J$4,1),FALSE)-1,0,,))","v":""}]
[null,null,null,null,null,null,null,null,null,null,null,{"$f":"IF(ISERROR(Coding!Z19),\"\",Coding!Z19)","v":""},{"$f":"IF(L16=\"\",\"\",OFFSET($C$35,MATCH(L16,OFFSET($D$35,0,0,Coding!$J$4,1),FALSE)-1,0,,))","v":""}]
[null,null,5,null,null,null,null,null,null,null,null,{"$f":"IF(ISERROR(Coding!Z20),\"\",Coding!Z20)","v":""},{"$f":"IF(L17=\"\",\"\",OFFSET($C$35,MATCH(L17,OFFSET($D$35,0,0,Coding!$J$4,1),FALSE)-1,0,,))","v":""}]
[null,null,null,null,null,null,null,null,null,null,null,{"$f":"IF(ISERROR(Coding!Z21),\"\",Coding!Z21)","v":""},{"$f":"IF(L18=\"\",\"\",OFFSET($C$35,MATCH(L18,OFFSET($D$35,0,0,Coding!$J$4,1),FALSE)-1,0,,))","v":""}]
[null,null,null,null,null,null,null,null,null,null,null,{"$f":"IF(ISERROR(Coding!Z22),\"\",Coding!Z22)","v":""},{"$f":"IF(L19=\"\",\"\",OFFSET($C$35,MATCH(L19,OFFSET($D$35,0,0,Coding!$J$4,1),FALSE)-1,0,,))","v":""}]
[null,null,null,null,null,null,null,null,null,null,null,{"$f":"IF(ISERROR(Coding!Z23),\"\",Coding!Z23)","v":""},{"$f":"IF(L20=\"\",\"\",OFFSET($C$35,MATCH(L20,OFFSET($D$35,0,0,Coding!$J$4,1),FALSE)-1,0,,))","v":""}]
[null,null,null,null,null,null,null,null,null,null,null,{"$f":"IF(ISERROR(Coding!Z24),\"\",Coding!Z24)","v":""},{"$f":"IF(L21=\"\",\"\",OFFSET($C$35,MATCH(L21,OFFSET($D$35,0,0,Coding!$J$4,1),FALSE)-1,0,,))","v":""}]
[null,null,null,null,null,null,null,null,null,null,null,{"$f":"IF(ISERROR(Coding!Z25),\"\",Coding!Z25)","v":""},{"$f":"IF(L22=\"\",\"\",OFFSET($C$35,MATCH(L22,OFFSET($D$35,0,0,Coding!$J$4,1),FALSE)-1,0,,))","v":""}]
[null,null,null,null,null,null,null,null,null,null,null,{"$f":"IF(ISERROR(Coding!Z26),\"\",Coding!Z26)","v":""}]
[null,null,"Black Bar:   ",{"$f":"TEXT(Coding!AB2,OFFSET(Coding!$IU$2,MAX(Coding!$G$38-2,0),0))","v":""},null,null,null,"Average:   ",{"$f":"TEXT(IF(ISERROR(Coding!AB3),\"na\",Coding!AB3),OFFSET(Coding!$IU$2,MAX(Coding!$G$38-2,0),0))","v":"19"},null,null,{"$f":"IF(ISERROR(Coding!Z27),\"\",Coding!Z27)","v":""},{"$f":"IF(L24=\"\",\"\",OFFSET($C$35,MATCH(L24,OFFSET($D$35,0,0,Coding!$J$4,1),FALSE)-1,0,,))","v":""}]
[]
[]
[]
[]
[null,"Confidential - Please remember that club information is confidential and named data must not be passed beyond club members."]
[]
[null,{"$f":"IF(Coding!J9=0,\"   These two tickboxes are currently inactive as no authorities are selected in the table below.\",\"   Use tickboxes to display selected authorities on graph or bring selected authorities to the top of the data table.\")","v":"   These two tickboxes are currently inactive as no authorities are selected in the table below."}]
[null,"         Bring selected authorities to top of data table",null,null,null,null,null,"Display selected authorities on chart"]
[null,"DATA TABLE",null,null,null,null,null,null,null,null,null,"Use radio buttons (next to Shortname, Data and Tier) to sort table."]
[null,"Select","    Authority:"," Letter:",null,"       Data:","       Tier:","Full Name:"]
[null,null,{"$f":"IF(ROW()-34>AuthNo,\"na\",Coding!AR7)","v":"Barking & Dagenham"},{"$f":"IF(C35=\"\",\"\",VLOOKUP(C35,OFFSET(Coding!$L$7,0,0,AuthorityCounter,11),11,FALSE))","v":""},null,{"$f":"IF(C35=\"\",\"\",TEXT(VLOOKUP(C35,OFFSET(Coding!$L$7,0,0,AuthorityCounter,4),4,FALSE),OFFSET(Coding!$IU$2,MAX(Coding!$G$38-2,0),0)))","v":"6"},{"$f":"IF(C35=\"\",\"\",VLOOKUP(C35,OFFSET(Coding!$L$7,0,0,AuthorityCounter,2),2,FALSE))","v":"ul"},{"$f":"IF(C35=\"\",\"\",VLOOKUP(C35,NameRange,2,FALSE))","v":"London Borough of Barking & Dagenham"}]
[null,null,{"$f":"IF(ROW()-34>AuthNo,\"na\",Coding!AR8)","v":"Barnet"},{"$f":"IF(C36=\"\",\"\",VLOOKUP(C36,OFFSET(Coding!$L$7,0,0,AuthorityCounter,11),11,FALSE))","v":""},null,{"$f":"IF(C36=\"\",\"\",TEXT(VLOOKUP(C36,OFFSET(Coding!$L$7,0,0,AuthorityCounter,4),4,FALSE),OFFSET(Coding!$IU$2,MAX(Coding!$G$38-2,0),0)))","v":"15"},{"$f":"IF(C36=\"\",\"\",VLOOKUP(C36,OFFSET(Coding!$L$7,0,0,AuthorityCounter,2),2,FALSE))","v":"ul"},{"$f":"IF(C36=\"\",\"\",VLOOKUP(C36,NameRange,2,FALSE))","v":"London Borough of Barnet"}]
[null,null,{"$f":"IF(ROW()-34>AuthNo,\"na\",Coding!AR9)","v":"Bedford"},{"$f":"IF(C37=\"\",\"\",VLOOKUP(C37,OFFSET(Coding!$L$7,0,0,AuthorityCounter,11),11,FALSE))","v":""},null,{"$f":"IF(C37=\"\",\"\",TEXT(VLOOKUP(C37,OFFSET(Coding!$L$7,0,0,AuthorityCounter,4),4,FALSE),OFFSET(Coding!$IU$2,MAX(Coding!$G$38-2,0),0)))","v":"7"},{"$f":"IF(C37=\"\",\"\",VLOOKUP(C37,OFFSET(Coding!$L$7,0,0,AuthorityCounter,2),2,FALSE))","v":"uu"},"Bedford Council"]
[null,null,{"$f":"IF(ROW()-34>AuthNo,\"na\",Coding!AR10)","v":"Bexley"},{"$f":"IF(C38=\"\",\"\",VLOOKUP(C38,OFFSET(Coding!$L$7,0,0,AuthorityCounter,11),11,FALSE))","v":""},null,{"$f":"IF(C38=\"\",\"\",TEXT(VLOOKUP(C38,OFFSET(Coding!$L$7,0,0,AuthorityCounter,4),4,FALSE),OFFSET(Coding!$IU$2,MAX(Coding!$G$38-2,0),0)))","v":"6"},{"$f":"IF(C38=\"\",\"\",VLOOKUP(C38,OFFSET(Coding!$L$7,0,0,AuthorityCounter,2),2,FALSE))","v":"ul"},"London Borough of Bexley"]
[null,null,{"$f":"IF(ROW()-34>AuthNo,\"na\",Coding!AR11)","v":"Blackburn with Darwen"},{"$f":"IF(C39=\"\",\"\",VLOOKUP(C39,OFFSET(Coding!$L$7,0,0,AuthorityCounter,11),11,FALSE))","v":""},null,{"$f":"IF(C39=\"\",\"\",TEXT(VLOOKUP(C39,OFFSET(Coding!$L$7,0,0,AuthorityCounter,4),4,FALSE),OFFSET(Coding!$IU$2,MAX(Coding!$G$38-2,0),0)))","v":"5"},{"$f":"IF(C39=\"\",\"\",VLOOKUP(C39,OFFSET(Coding!$L$7,0,0,AuthorityCounter,2),2,FALSE))","v":"uu"},"Blackburn with Darwen Borough Council"]
[null,null,{"$f":"IF(ROW()-34>AuthNo,\"na\",Coding!AR12)","v":"Blackpool"},{"$f":"IF(C40=\"\",\"\",VLOOKUP(C40,OFFSET(Coding!$L$7,0,0,AuthorityCounter,11),11,FALSE))","v":""},null,{"$f":"IF(C40=\"\",\"\",TEXT(VLOOKUP(C40,OFFSET(Coding!$L$7,0,0,AuthorityCounter,4),4,FALSE),OFFSET(Coding!$IU$2,MAX(Coding!$G$38-2,0),0)))","v":"8"},{"$f":"IF(C40=\"\",\"\",VLOOKUP(C40,OFFSET(Coding!$L$7,0,0,AuthorityCounter,2),2,FALSE))","v":"uu"},"Blackpool Borough Council"]
[null,null,{"$f":"IF(ROW()-34>AuthNo,\"na\",Coding!AR13)","v":"Bolton"},{"$f":"IF(C41=\"\",\"\",VLOOKUP(C41,OFFSET(Coding!$L$7,0,0,AuthorityCounter,11),11,FALSE))","v":""},null,{"$f":"IF(C41=\"\",\"\",TEXT(VLOOKUP(C41,OFFSET(Coding!$L$7,0,0,AuthorityCounter,4),4,FALSE),OFFSET(Coding!$IU$2,MAX(Coding!$G$38-2,0),0)))","v":"10"},{"$f":"IF(C41=\"\",\"\",VLOOKUP(C41,OFFSET(Coding!$L$7,0,0,AuthorityCounter,2),2,FALSE))","v":"um"},"Bolton Metropolitan Borough Council"]
[null,null,{"$f":"IF(ROW()-34>AuthNo,\"na\",Coding!AR14)","v":"Bournemouth & Poole"},{"$f":"IF(C42=\"\",\"\",VLOOKUP(C42,OFFSET(Coding!$L$7,0,0,AuthorityCounter,11),11,FALSE))","v":""},null,{"$f":"IF(C42=\"\",\"\",TEXT(VLOOKUP(C42,OFFSET(Coding!$L$7,0,0,AuthorityCounter,4),4,FALSE),OFFSET(Coding!$IU$2,MAX(Coding!$G$38-2,0),0)))","v":"22"},{"$f":"IF(C42=\"\",\"\",VLOOKUP(C42,OFFSET(Coding!$L$7,0,0,AuthorityCounter,2),2,FALSE))","v":"uu"},"Bournemouth & Poole Libraries"]
[null,null,{"$f":"IF(ROW()-34>AuthNo,\"na\",Coding!AR15)","v":"Bournemouth, Christchurch & Poole"},{"$f":"IF(C43=\"\",\"\",VLOOKUP(C43,OFFSET(Coding!$L$7,0,0,AuthorityCounter,11),11,FALSE))","v":""},null,{"$f":"IF(C43=\"\",\"\",TEXT(VLOOKUP(C43,OFFSET(Coding!$L$7,0,0,AuthorityCounter,4),4,FALSE),OFFSET(Coding!$IU$2,MAX(Coding!$G$38-2,0),0)))","v":"na"},{"$f":"IF(C43=\"\",\"\",VLOOKUP(C43,OFFSET(Coding!$L$7,0,0,AuthorityCounter,2),2,FALSE))","v":"uu"},"Bournemouth, Christchurch & Poole Council"]
[null,null,{"$f":"IF(ROW()-34>AuthNo,\"na\",Coding!AR16)","v":"Brent"},{"$f":"IF(C44=\"\",\"\",VLOOKUP(C44,OFFSET(Coding!$L$7,0,0,AuthorityCounter,11),11,FALSE))","v":""},null,{"$f":"IF(C44=\"\",\"\",TEXT(VLOOKUP(C44,OFFSET(Coding!$L$7,0,0,AuthorityCounter,4),4,FALSE),OFFSET(Coding!$IU$2,MAX(Coding!$G$38-2,0),0)))","v":"6"},{"$f":"IF(C44=\"\",\"\",VLOOKUP(C44,OFFSET(Coding!$L$7,0,0,AuthorityCounter,2),2,FALSE))","v":"ul"},"London Borough of Brent"]
[null,null,{"$f":"IF(ROW()-34>AuthNo,\"na\",Coding!AR17)","v":"Brighton & Hove"},{"$f":"IF(C45=\"\",\"\",VLOOKUP(C45,OFFSET(Coding!$L$7,0,0,AuthorityCounter,11),11,FALSE))","v":""},null,{"$f":"IF(C45=\"\",\"\",TEXT(VLOOKUP(C45,OFFSET(Coding!$L$7,0,0,AuthorityCounter,4),4,FALSE),OFFSET(Coding!$IU$2,MAX(Coding!$G$38-2,0),0)))","v":"14"},{"$f":"IF(C45=\"\",\"\",VLOOKUP(C45,OFFSET(Coding!$L$7,0,0,AuthorityCounter,2),2,FALSE))","v":"uu"},"Brighton & Hove City Council"]
[null,null,{"$f":"IF(ROW()-34>AuthNo,\"na\",Coding!AR18)","v":"Bristol"},{"$f":"IF(C46=\"\",\"\",VLOOKUP(C46,OFFSET(Coding!$L$7,0,0,AuthorityCounter,11),11,FALSE))","v":""},null,{"$f":"IF(C46=\"\",\"\",TEXT(VLOOKUP(C46,OFFSET(Coding!$L$7,0,0,AuthorityCounter,4),4,FALSE),OFFSET(Coding!$IU$2,MAX(Coding!$G$38-2,0),0)))","v":"27"},{"$f":"IF(C46=\"\",\"\",VLOOKUP(C46,OFFSET(Coding!$L$7,0,0,AuthorityCounter,2),2,FALSE))","v":"uu"},"Bristol City Council"]
[null,null,{"$f":"IF(ROW()-34>AuthNo,\"na\",Coding!AR19)","v":"Bromley"},{"$f":"IF(C47=\"\",\"\",VLOOKUP(C47,OFFSET(Coding!$L$7,0,0,AuthorityCounter,11),11,FALSE))","v":""},null,{"$f":"IF(C47=\"\",\"\",TEXT(VLOOKUP(C47,OFFSET(Coding!$L$7,0,0,AuthorityCounter,4),4,FALSE),OFFSET(Coding!$IU$2,MAX(Coding!$G$38-2,0),0)))","v":"14"},{"$f":"IF(C47=\"\",\"\",VLOOKUP(C47,OFFSET(Coding!$L$7,0,0,AuthorityCounter,2),2,FALSE))","v":"ul"},"London Borough of Bromley"]
[null,null,{"$f":"IF(ROW()-34>AuthNo,\"na\",Coding!AR20)","v":"Buckinghamshire"},{"$f":"IF(C48=\"\",\"\",VLOOKUP(C48,OFFSET(Coding!$L$7,0,0,AuthorityCounter,11),11,FALSE))","v":""},null,{"$f":"IF(C48=\"\",\"\",TEXT(VLOOKUP(C48,OFFSET(Coding!$L$7,0,0,AuthorityCounter,4),4,FALSE),OFFSET(Coding!$IU$2,MAX(Coding!$G$38-2,0),0)))","v":"29"},{"$f":"IF(C48=\"\",\"\",VLOOKUP(C48,OFFSET(Coding!$L$7,0,0,AuthorityCounter,2),2,FALSE))","v":"c"},"Buckinghamshire County Council"]
[null,null,{"$f":"IF(ROW()-34>AuthNo,\"na\",Coding!AR21)","v":"Bury"},{"$f":"IF(C49=\"\",\"\",VLOOKUP(C49,OFFSET(Coding!$L$7,0,0,AuthorityCounter,11),11,FALSE))","v":""},null,{"$f":"IF(C49=\"\",\"\",TEXT(VLOOKUP(C49,OFFSET(Coding!$L$7,0,0,AuthorityCounter,4),4,FALSE),OFFSET(Coding!$IU$2,MAX(Coding!$G$38-2,0),0)))","v":"4"},{"$f":"IF(C49=\"\",\"\",VLOOKUP(C49,OFFSET(Coding!$L$7,0,0,AuthorityCounter,2),2,FALSE))","v":"um"},"Bury Metropolitan Borough Council"]
[null,null,{"$f":"IF(ROW()-34>AuthNo,\"na\",Coding!AR22)","v":"Calderdale"},{"$f":"IF(C50=\"\",\"\",VLOOKUP(C50,OFFSET(Coding!$L$7,0,0,AuthorityCounter,11),11,FALSE))","v":""},null,{"$f":"IF(C50=\"\",\"\",TEXT(VLOOKUP(C50,OFFSET(Coding!$L$7,0,0,AuthorityCounter,4),4,FALSE),OFFSET(Coding!$IU$2,MAX(Coding!$G$38-2,0),0)))","v":"22"},{"$f":"IF(C50=\"\",\"\",VLOOKUP(C50,OFFSET(Coding!$L$7,0,0,AuthorityCounter,2),2,FALSE))","v":"um"},"Calderdale Metropolitan Borough Council"]
[null,null,{"$f":"IF(ROW()-34>AuthNo,\"na\",Coding!AR23)","v":"Cambridgeshire"},{"$f":"IF(C51=\"\",\"\",VLOOKUP(C51,OFFSET(Coding!$L$7,0,0,AuthorityCounter,11),11,FALSE))","v":""},null,{"$f":"IF(C51=\"\",\"\",TEXT(VLOOKUP(C51,OFFSET(Coding!$L$7,0,0,AuthorityCounter,4),4,FALSE),OFFSET(Coding!$IU$2,MAX(Coding!$G$38-2,0),0)))","v":"35"},{"$f":"IF(C51=\"\",\"\",VLOOKUP(C51,OFFSET(Coding!$L$7,0,0,AuthorityCounter,2),2,FALSE))","v":"c"},"Cambridgeshire County Council"]
[null,null,{"$f":"IF(ROW()-34>AuthNo,\"na\",Coding!AR24)","v":"Camden"},{"$f":"IF(C52=\"\",\"\",VLOOKUP(C52,OFFSET(Coding!$L$7,0,0,AuthorityCounter,11),11,FALSE))","v":""},null,{"$f":"IF(C52=\"\",\"\",TEXT(VLOOKUP(C52,OFFSET(Coding!$L$7,0,0,AuthorityCounter,4),4,FALSE),OFFSET(Coding!$IU$2,MAX(Coding!$G$38-2,0),0)))","v":"9"},{"$f":"IF(C52=\"\",\"\",VLOOKUP(C52,OFFSET(Coding!$L$7,0,0,AuthorityCounter,2),2,FALSE))","v":"ul"},"London Borough of Camden"]
[null,null,{"$f":"IF(ROW()-34>AuthNo,\"na\",Coding!AR25)","v":"Central Bedfordshire"},{"$f":"IF(C53=\"\",\"\",VLOOKUP(C53,OFFSET(Coding!$L$7,0,0,AuthorityCounter,11),11,FALSE))","v":""},null,{"$f":"IF(C53=\"\",\"\",TEXT(VLOOKUP(C53,OFFSET(Coding!$L$7,0,0,AuthorityCounter,4),4,FALSE),OFFSET(Coding!$IU$2,MAX(Coding!$G$38-2,0),0)))","v":"12"},{"$f":"IF(C53=\"\",\"\",VLOOKUP(C53,OFFSET(Coding!$L$7,0,0,AuthorityCounter,2),2,FALSE))","v":"uu"},"Central Bedfordshire Council"]
[null,null,{"$f":"IF(ROW()-34>AuthNo,\"na\",Coding!AR26)","v":"Cheshire East"},{"$f":"IF(C54=\"\",\"\",VLOOKUP(C54,OFFSET(Coding!$L$7,0,0,AuthorityCounter,11),11,FALSE))","v":""},null,{"$f":"IF(C54=\"\",\"\",TEXT(VLOOKUP(C54,OFFSET(Coding!$L$7,0,0,AuthorityCounter,4),4,FALSE),OFFSET(Coding!$IU$2,MAX(Coding!$G$38-2,0),0)))","v":"17"},{"$f":"IF(C54=\"\",\"\",VLOOKUP(C54,OFFSET(Coding!$L$7,0,0,AuthorityCounter,2),2,FALSE))","v":"uu"},"Cheshire East Council"]
[null,null,{"$f":"IF(ROW()-34>AuthNo,\"na\",Coding!AR27)","v":"Cheshire West & Chester"},{"$f":"IF(C55=\"\",\"\",VLOOKUP(C55,OFFSET(Coding!$L$7,0,0,AuthorityCounter,11),11,FALSE))","v":""},null,{"$f":"IF(C55=\"\",\"\",TEXT(VLOOKUP(C55,OFFSET(Coding!$L$7,0,0,AuthorityCounter,4),4,FALSE),OFFSET(Coding!$IU$2,MAX(Coding!$G$38-2,0),0)))","v":"23"},{"$f":"IF(C55=\"\",\"\",VLOOKUP(C55,OFFSET(Coding!$L$7,0,0,AuthorityCounter,2),2,FALSE))","v":"uu"},"Cheshire West and Chester Council"]
[null,null,{"$f":"IF(ROW()-34>AuthNo,\"na\",Coding!AR28)","v":"Coventry"},{"$f":"IF(C56=\"\",\"\",VLOOKUP(C56,OFFSET(Coding!$L$7,0,0,AuthorityCounter,11),11,FALSE))","v":""},null,{"$f":"IF(C56=\"\",\"\",TEXT(VLOOKUP(C56,OFFSET(Coding!$L$7,0,0,AuthorityCounter,4),4,FALSE),OFFSET(Coding!$IU$2,MAX(Coding!$G$38-2,0),0)))","v":"16"},{"$f":"IF(C56=\"\",\"\",VLOOKUP(C56,OFFSET(Coding!$L$7,0,0,AuthorityCounter,2),2,FALSE))","v":"um"},"Coventry City Council"]
[null,null,{"$f":"IF(ROW()-34>AuthNo,\"na\",Coding!AR29)","v":"Croydon"},{"$f":"IF(C57=\"\",\"\",VLOOKUP(C57,OFFSET(Coding!$L$7,0,0,AuthorityCounter,11),11,FALSE))","v":""},null,{"$f":"IF(C57=\"\",\"\",TEXT(VLOOKUP(C57,OFFSET(Coding!$L$7,0,0,AuthorityCounter,4),4,FALSE),OFFSET(Coding!$IU$2,MAX(Coding!$G$38-2,0),0)))","v":"13"},{"$f":"IF(C57=\"\",\"\",VLOOKUP(C57,OFFSET(Coding!$L$7,0,0,AuthorityCounter,2),2,FALSE))","v":"ul"},"London Borough of Croydon"]
[null,null,{"$f":"IF(ROW()-34>AuthNo,\"na\",Coding!AR30)","v":"Cumbria"},{"$f":"IF(C58=\"\",\"\",VLOOKUP(C58,OFFSET(Coding!$L$7,0,0,AuthorityCounter,11),11,FALSE))","v":""},null,{"$f":"IF(C58=\"\",\"\",TEXT(VLOOKUP(C58,OFFSET(Coding!$L$7,0,0,AuthorityCounter,4),4,FALSE),OFFSET(Coding!$IU$2,MAX(Coding!$G$38-2,0),0)))","v":"37"},{"$f":"IF(C58=\"\",\"\",VLOOKUP(C58,OFFSET(Coding!$L$7,0,0,AuthorityCounter,2),2,FALSE))","v":"c"},"Cumbria County Council"]
[null,null,{"$f":"IF(ROW()-34>AuthNo,\"na\",Coding!AR31)","v":"Darlington"},{"$f":"IF(C59=\"\",\"\",VLOOKUP(C59,OFFSET(Coding!$L$7,0,0,AuthorityCounter,11),11,FALSE))","v":""},null,{"$f":"IF(C59=\"\",\"\",TEXT(VLOOKUP(C59,OFFSET(Coding!$L$7,0,0,AuthorityCounter,4),4,FALSE),OFFSET(Coding!$IU$2,MAX(Coding!$G$38-2,0),0)))","v":"2"},{"$f":"IF(C59=\"\",\"\",VLOOKUP(C59,OFFSET(Coding!$L$7,0,0,AuthorityCounter,2),2,FALSE))","v":"uu"},"Darlington Borough Council"]
[null,null,{"$f":"IF(ROW()-34>AuthNo,\"na\",Coding!AR32)","v":"Derby"},{"$f":"IF(C60=\"\",\"\",VLOOKUP(C60,OFFSET(Coding!$L$7,0,0,AuthorityCounter,11),11,FALSE))","v":""},null,{"$f":"IF(C60=\"\",\"\",TEXT(VLOOKUP(C60,OFFSET(Coding!$L$7,0,0,AuthorityCounter,4),4,FALSE),OFFSET(Coding!$IU$2,MAX(Coding!$G$38-2,0),0)))","v":"12"},{"$f":"IF(C60=\"\",\"\",VLOOKUP(C60,OFFSET(Coding!$L$7,0,0,AuthorityCounter,2),2,FALSE))","v":"uu"},"Derby City Council"]
[null,null,{"$f":"IF(ROW()-34>AuthNo,\"na\",Coding!AR33)","v":"Devon"},{"$f":"IF(C61=\"\",\"\",VLOOKUP(C61,OFFSET(Coding!$L$7,0,0,AuthorityCounter,11),11,FALSE))","v":""},null,{"$f":"IF(C61=\"\",\"\",TEXT(VLOOKUP(C61,OFFSET(Coding!$L$7,0,0,AuthorityCounter,4),4,FALSE),OFFSET(Coding!$IU$2,MAX(Coding!$G$38-2,0),0)))","v":"54"},{"$f":"IF(C61=\"\",\"\",VLOOKUP(C61,OFFSET(Coding!$L$7,0,0,AuthorityCounter,2),2,FALSE))","v":"c"},"Devon County Council"]
[null,null,{"$f":"IF(ROW()-34>AuthNo,\"na\",Coding!AR34)","v":"Dorset"},{"$f":"IF(C62=\"\",\"\",VLOOKUP(C62,OFFSET(Coding!$L$7,0,0,AuthorityCounter,11),11,FALSE))","v":""},null,{"$f":"IF(C62=\"\",\"\",TEXT(VLOOKUP(C62,OFFSET(Coding!$L$7,0,0,AuthorityCounter,4),4,FALSE),OFFSET(Coding!$IU$2,MAX(Coding!$G$38-2,0),0)))","v":"26"},{"$f":"IF(C62=\"\",\"\",VLOOKUP(C62,OFFSET(Coding!$L$7,0,0,AuthorityCounter,2),2,FALSE))","v":"c"},"Dorset County Council"]
[null,null,{"$f":"IF(ROW()-34>AuthNo,\"na\",Coding!AR35)","v":"Dorset"},{"$f":"IF(C63=\"\",\"\",VLOOKUP(C63,OFFSET(Coding!$L$7,0,0,AuthorityCounter,11),11,FALSE))","v":""},null,{"$f":"IF(C63=\"\",\"\",TEXT(VLOOKUP(C63,OFFSET(Coding!$L$7,0,0,AuthorityCounter,4),4,FALSE),OFFSET(Coding!$IU$2,MAX(Coding!$G$38-2,0),0)))","v":"26"},{"$f":"IF(C63=\"\",\"\",VLOOKUP(C63,OFFSET(Coding!$L$7,0,0,AuthorityCounter,2),2,FALSE))","v":"c"},"Dorset County Council"]
[null,null,{"$f":"IF(ROW()-34>AuthNo,\"na\",Coding!AR36)","v":"Dudley"},{"$f":"IF(C64=\"\",\"\",VLOOKUP(C64,OFFSET(Coding!$L$7,0,0,AuthorityCounter,11),11,FALSE))","v":""},null,{"$f":"IF(C64=\"\",\"\",TEXT(VLOOKUP(C64,OFFSET(Coding!$L$7,0,0,AuthorityCounter,4),4,FALSE),OFFSET(Coding!$IU$2,MAX(Coding!$G$38-2,0),0)))","v":"16"},{"$f":"IF(C64=\"\",\"\",VLOOKUP(C64,OFFSET(Coding!$L$7,0,0,AuthorityCounter,2),2,FALSE))","v":"um"},"Dudley Metropolitan Borough Council"]
[null,null,{"$f":"IF(ROW()-34>AuthNo,\"na\",Coding!AR37)","v":"Durham"},{"$f":"IF(C65=\"\",\"\",VLOOKUP(C65,OFFSET(Coding!$L$7,0,0,AuthorityCounter,11),11,FALSE))","v":""},null,{"$f":"IF(C65=\"\",\"\",TEXT(VLOOKUP(C65,OFFSET(Coding!$L$7,0,0,AuthorityCounter,4),4,FALSE),OFFSET(Coding!$IU$2,MAX(Coding!$G$38-2,0),0)))","v":"42"},{"$f":"IF(C65=\"\",\"\",VLOOKUP(C65,OFFSET(Coding!$L$7,0,0,AuthorityCounter,2),2,FALSE))","v":"uu"},"Durham County Council"]
[null,null,{"$f":"IF(ROW()-34>AuthNo,\"na\",Coding!AR38)","v":"Ealing"},{"$f":"IF(C66=\"\",\"\",VLOOKUP(C66,OFFSET(Coding!$L$7,0,0,AuthorityCounter,11),11,FALSE))","v":""},null,{"$f":"IF(C66=\"\",\"\",TEXT(VLOOKUP(C66,OFFSET(Coding!$L$7,0,0,AuthorityCounter,4),4,FALSE),OFFSET(Coding!$IU$2,MAX(Coding!$G$38-2,0),0)))","v":"14"},{"$f":"IF(C66=\"\",\"\",VLOOKUP(C66,OFFSET(Coding!$L$7,0,0,AuthorityCounter,2),2,FALSE))","v":"ul"},"London Borough of Ealing"]
[null,null,{"$f":"IF(ROW()-34>AuthNo,\"na\",Coding!AR39)","v":"East Sussex"},{"$f":"IF(C67=\"\",\"\",VLOOKUP(C67,OFFSET(Coding!$L$7,0,0,AuthorityCounter,11),11,FALSE))","v":""},null,{"$f":"IF(C67=\"\",\"\",TEXT(VLOOKUP(C67,OFFSET(Coding!$L$7,0,0,AuthorityCounter,4),4,FALSE),OFFSET(Coding!$IU$2,MAX(Coding!$G$38-2,0),0)))","v":"17"},{"$f":"IF(C67=\"\",\"\",VLOOKUP(C67,OFFSET(Coding!$L$7,0,0,AuthorityCounter,2),2,FALSE))","v":"c"},"East Sussex County Council"]
[null,null,{"$f":"IF(ROW()-34>AuthNo,\"na\",Coding!AR40)","v":"Enfield"},{"$f":"IF(C68=\"\",\"\",VLOOKUP(C68,OFFSET(Coding!$L$7,0,0,AuthorityCounter,11),11,FALSE))","v":""},null,{"$f":"IF(C68=\"\",\"\",TEXT(VLOOKUP(C68,OFFSET(Coding!$L$7,0,0,AuthorityCounter,4),4,FALSE),OFFSET(Coding!$IU$2,MAX(Coding!$G$38-2,0),0)))","v":"17"},{"$f":"IF(C68=\"\",\"\",VLOOKUP(C68,OFFSET(Coding!$L$7,0,0,AuthorityCounter,2),2,FALSE))","v":"ul"},"London Borough of Enfield"]
[null,null,{"$f":"IF(ROW()-34>AuthNo,\"na\",Coding!AR41)","v":"Essex"},{"$f":"IF(C69=\"\",\"\",VLOOKUP(C69,OFFSET(Coding!$L$7,0,0,AuthorityCounter,11),11,FALSE))","v":""},null,{"$f":"IF(C69=\"\",\"\",TEXT(VLOOKUP(C69,OFFSET(Coding!$L$7,0,0,AuthorityCounter,4),4,FALSE),OFFSET(Coding!$IU$2,MAX(Coding!$G$38-2,0),0)))","v":"77"},{"$f":"IF(C69=\"\",\"\",VLOOKUP(C69,OFFSET(Coding!$L$7,0,0,AuthorityCounter,2),2,FALSE))","v":"c"},"Essex County Council"]
[null,null,{"$f":"IF(ROW()-34>AuthNo,\"na\",Coding!AR42)","v":"Gateshead"},{"$f":"IF(C70=\"\",\"\",VLOOKUP(C70,OFFSET(Coding!$L$7,0,0,AuthorityCounter,11),11,FALSE))","v":""},null,{"$f":"IF(C70=\"\",\"\",TEXT(VLOOKUP(C70,OFFSET(Coding!$L$7,0,0,AuthorityCounter,4),4,FALSE),OFFSET(Coding!$IU$2,MAX(Coding!$G$38-2,0),0)))","v":"8"},{"$f":"IF(C70=\"\",\"\",VLOOKUP(C70,OFFSET(Coding!$L$7,0,0,AuthorityCounter,2),2,FALSE))","v":"um"},"Gateshead Metropolitan Borough Council"]
[null,null,{"$f":"IF(ROW()-34>AuthNo,\"na\",Coding!AR43)","v":"Gloucestershire"},{"$f":"IF(C71=\"\",\"\",VLOOKUP(C71,OFFSET(Coding!$L$7,0,0,AuthorityCounter,11),11,FALSE))","v":""},null,{"$f":"IF(C71=\"\",\"\",TEXT(VLOOKUP(C71,OFFSET(Coding!$L$7,0,0,AuthorityCounter,4),4,FALSE),OFFSET(Coding!$IU$2,MAX(Coding!$G$38-2,0),0)))","v":"32"},{"$f":"IF(C71=\"\",\"\",VLOOKUP(C71,OFFSET(Coding!$L$7,0,0,AuthorityCounter,2),2,FALSE))","v":"c"},"Gloucestershire County Council"]
[null,null,{"$f":"IF(ROW()-34>AuthNo,\"na\",Coding!AR44)","v":"Greenwich"},{"$f":"IF(C72=\"\",\"\",VLOOKUP(C72,OFFSET(Coding!$L$7,0,0,AuthorityCounter,11),11,FALSE))","v":""},null,{"$f":"IF(C72=\"\",\"\",TEXT(VLOOKUP(C72,OFFSET(Coding!$L$7,0,0,AuthorityCounter,4),4,FALSE),OFFSET(Coding!$IU$2,MAX(Coding!$G$38-2,0),0)))","v":"12"},{"$f":"IF(C72=\"\",\"\",VLOOKUP(C72,OFFSET(Coding!$L$7,0,0,AuthorityCounter,2),2,FALSE))","v":"ul"},"Royal Borough of Greenwich"]
[null,null,{"$f":"IF(ROW()-34>AuthNo,\"na\",Coding!AR45)","v":"Hackney"},{"$f":"IF(C73=\"\",\"\",VLOOKUP(C73,OFFSET(Coding!$L$7,0,0,AuthorityCounter,11),11,FALSE))","v":""},null,{"$f":"IF(C73=\"\",\"\",TEXT(VLOOKUP(C73,OFFSET(Coding!$L$7,0,0,AuthorityCounter,4),4,FALSE),OFFSET(Coding!$IU$2,MAX(Coding!$G$38-2,0),0)))","v":"8"},{"$f":"IF(C73=\"\",\"\",VLOOKUP(C73,OFFSET(Coding!$L$7,0,0,AuthorityCounter,2),2,FALSE))","v":"ul"},"London Borough of Hackney"]
[null,null,{"$f":"IF(ROW()-34>AuthNo,\"na\",Coding!AR46)","v":"Halton"},{"$f":"IF(C74=\"\",\"\",VLOOKUP(C74,OFFSET(Coding!$L$7,0,0,AuthorityCounter,11),11,FALSE))","v":""},null,{"$f":"IF(C74=\"\",\"\",TEXT(VLOOKUP(C74,OFFSET(Coding!$L$7,0,0,AuthorityCounter,4),4,FALSE),OFFSET(Coding!$IU$2,MAX(Coding!$G$38-2,0),0)))","v":"4"},{"$f":"IF(C74=\"\",\"\",VLOOKUP(C74,OFFSET(Coding!$L$7,0,0,AuthorityCounter,2),2,FALSE))","v":"uu"},"Halton Borough Council"]
[null,null,{"$f":"IF(ROW()-34>AuthNo,\"na\",Coding!AR47)","v":"Hammersmith & Fulham"},{"$f":"IF(C75=\"\",\"\",VLOOKUP(C75,OFFSET(Coding!$L$7,0,0,AuthorityCounter,11),11,FALSE))","v":""},null,{"$f":"IF(C75=\"\",\"\",TEXT(VLOOKUP(C75,OFFSET(Coding!$L$7,0,0,AuthorityCounter,4),4,FALSE),OFFSET(Coding!$IU$2,MAX(Coding!$G$38-2,0),0)))","v":"4"},{"$f":"IF(C75=\"\",\"\",VLOOKUP(C75,OFFSET(Coding!$L$7,0,0,AuthorityCounter,2),2,FALSE))","v":"ul"},"London Borough of Hammersmith & Fulham"]
[null,null,{"$f":"IF(ROW()-34>AuthNo,\"na\",Coding!AR48)","v":"Hampshire"},{"$f":"IF(C76=\"\",\"\",VLOOKUP(C76,OFFSET(Coding!$L$7,0,0,AuthorityCounter,11),11,FALSE))","v":""},null,{"$f":"IF(C76=\"\",\"\",TEXT(VLOOKUP(C76,OFFSET(Coding!$L$7,0,0,AuthorityCounter,4),4,FALSE),OFFSET(Coding!$IU$2,MAX(Coding!$G$38-2,0),0)))","v":"52"},{"$f":"IF(C76=\"\",\"\",VLOOKUP(C76,OFFSET(Coding!$L$7,0,0,AuthorityCounter,2),2,FALSE))","v":"c"},"Hampshire County Council"]
[null,null,{"$f":"IF(ROW()-34>AuthNo,\"na\",Coding!AR49)","v":"Haringey"},{"$f":"IF(C77=\"\",\"\",VLOOKUP(C77,OFFSET(Coding!$L$7,0,0,AuthorityCounter,11),11,FALSE))","v":""},null,{"$f":"IF(C77=\"\",\"\",TEXT(VLOOKUP(C77,OFFSET(Coding!$L$7,0,0,AuthorityCounter,4),4,FALSE),OFFSET(Coding!$IU$2,MAX(Coding!$G$38-2,0),0)))","v":"9"},{"$f":"IF(C77=\"\",\"\",VLOOKUP(C77,OFFSET(Coding!$L$7,0,0,AuthorityCounter,2),2,FALSE))","v":"ul"},"London Borough of Haringey"]
[null,null,{"$f":"IF(ROW()-34>AuthNo,\"na\",Coding!AR50)","v":"Harrow"},{"$f":"IF(C78=\"\",\"\",VLOOKUP(C78,OFFSET(Coding!$L$7,0,0,AuthorityCounter,11),11,FALSE))","v":""},null,{"$f":"IF(C78=\"\",\"\",TEXT(VLOOKUP(C78,OFFSET(Coding!$L$7,0,0,AuthorityCounter,4),4,FALSE),OFFSET(Coding!$IU$2,MAX(Coding!$G$38-2,0),0)))","v":"6"},{"$f":"IF(C78=\"\",\"\",VLOOKUP(C78,OFFSET(Coding!$L$7,0,0,AuthorityCounter,2),2,FALSE))","v":"ul"},"London Borough of Harrow"]
[null,null,{"$f":"IF(ROW()-34>AuthNo,\"na\",Coding!AR51)","v":"Havering"},{"$f":"IF(C79=\"\",\"\",VLOOKUP(C79,OFFSET(Coding!$L$7,0,0,AuthorityCounter,11),11,FALSE))","v":""},null,{"$f":"IF(C79=\"\",\"\",TEXT(VLOOKUP(C79,OFFSET(Coding!$L$7,0,0,AuthorityCounter,4),4,FALSE),OFFSET(Coding!$IU$2,MAX(Coding!$G$38-2,0),0)))","v":"10"},{"$f":"IF(C79=\"\",\"\",VLOOKUP(C79,OFFSET(Coding!$L$7,0,0,AuthorityCounter,2),2,FALSE))","v":"ul"},"London Borough of Havering"]
[null,null,{"$f":"IF(ROW()-34>AuthNo,\"na\",Coding!AR52)","v":"Herefordshire"},{"$f":"IF(C80=\"\",\"\",VLOOKUP(C80,OFFSET(Coding!$L$7,0,0,AuthorityCounter,11),11,FALSE))","v":""},null,{"$f":"IF(C80=\"\",\"\",TEXT(VLOOKUP(C80,OFFSET(Coding!$L$7,0,0,AuthorityCounter,4),4,FALSE),OFFSET(Coding!$IU$2,MAX(Coding!$G$38-2,0),0)))","v":"11"},{"$f":"IF(C80=\"\",\"\",VLOOKUP(C80,OFFSET(Coding!$L$7,0,0,AuthorityCounter,2),2,FALSE))","v":"uu"},"Herefordshire Council"]
[null,null,{"$f":"IF(ROW()-34>AuthNo,\"na\",Coding!AR53)","v":"Hertfordshire"},{"$f":"IF(C81=\"\",\"\",VLOOKUP(C81,OFFSET(Coding!$L$7,0,0,AuthorityCounter,11),11,FALSE))","v":""},null,{"$f":"IF(C81=\"\",\"\",TEXT(VLOOKUP(C81,OFFSET(Coding!$L$7,0,0,AuthorityCounter,4),4,FALSE),OFFSET(Coding!$IU$2,MAX(Coding!$G$38-2,0),0)))","v":"48"},{"$f":"IF(C81=\"\",\"\",VLOOKUP(C81,OFFSET(Coding!$L$7,0,0,AuthorityCounter,2),2,FALSE))","v":"c"},"Hertfordshire County Council"]
[null,null,{"$f":"IF(ROW()-34>AuthNo,\"na\",Coding!AR54)","v":"Hounslow"},{"$f":"IF(C82=\"\",\"\",VLOOKUP(C82,OFFSET(Coding!$L$7,0,0,AuthorityCounter,11),11,FALSE))","v":""},null,{"$f":"IF(C82=\"\",\"\",TEXT(VLOOKUP(C82,OFFSET(Coding!$L$7,0,0,AuthorityCounter,4),4,FALSE),OFFSET(Coding!$IU$2,MAX(Coding!$G$38-2,0),0)))","v":"11"},{"$f":"IF(C82=\"\",\"\",VLOOKUP(C82,OFFSET(Coding!$L$7,0,0,AuthorityCounter,2),2,FALSE))","v":"ul"},"London Borough of Hounslow"]
[null,null,{"$f":"IF(ROW()-34>AuthNo,\"na\",Coding!AR55)","v":"Isle of Wight"},{"$f":"IF(C83=\"\",\"\",VLOOKUP(C83,OFFSET(Coding!$L$7,0,0,AuthorityCounter,11),11,FALSE))","v":""},null,{"$f":"IF(C83=\"\",\"\",TEXT(VLOOKUP(C83,OFFSET(Coding!$L$7,0,0,AuthorityCounter,4),4,FALSE),OFFSET(Coding!$IU$2,MAX(Coding!$G$38-2,0),0)))","v":"8"},{"$f":"IF(C83=\"\",\"\",VLOOKUP(C83,OFFSET(Coding!$L$7,0,0,AuthorityCounter,2),2,FALSE))","v":"uu"},"Isle of Wight Council"]
[null,null,{"$f":"IF(ROW()-34>AuthNo,\"na\",Coding!AR56)","v":"Islington"},{"$f":"IF(C84=\"\",\"\",VLOOKUP(C84,OFFSET(Coding!$L$7,0,0,AuthorityCounter,11),11,FALSE))","v":""},null,{"$f":"IF(C84=\"\",\"\",TEXT(VLOOKUP(C84,OFFSET(Coding!$L$7,0,0,AuthorityCounter,4),4,FALSE),OFFSET(Coding!$IU$2,MAX(Coding!$G$38-2,0),0)))","v":"10"},{"$f":"IF(C84=\"\",\"\",VLOOKUP(C84,OFFSET(Coding!$L$7,0,0,AuthorityCounter,2),2,FALSE))","v":"ul"},"London Borough of Islington"]
[null,null,{"$f":"IF(ROW()-34>AuthNo,\"na\",Coding!AR57)","v":"Kensington & Chelsea"},{"$f":"IF(C85=\"\",\"\",VLOOKUP(C85,OFFSET(Coding!$L$7,0,0,AuthorityCounter,11),11,FALSE))","v":""},null,{"$f":"IF(C85=\"\",\"\",TEXT(VLOOKUP(C85,OFFSET(Coding!$L$7,0,0,AuthorityCounter,4),4,FALSE),OFFSET(Coding!$IU$2,MAX(Coding!$G$38-2,0),0)))","v":"6"},{"$f":"IF(C85=\"\",\"\",VLOOKUP(C85,OFFSET(Coding!$L$7,0,0,AuthorityCounter,2),2,FALSE))","v":"ul"},"Royal Borough of Kensington & Chelsea"]
[null,null,{"$f":"IF(ROW()-34>AuthNo,\"na\",Coding!AR58)","v":"Kent"},{"$f":"IF(C86=\"\",\"\",VLOOKUP(C86,OFFSET(Coding!$L$7,0,0,AuthorityCounter,11),11,FALSE))","v":""},null,{"$f":"IF(C86=\"\",\"\",TEXT(VLOOKUP(C86,OFFSET(Coding!$L$7,0,0,AuthorityCounter,4),4,FALSE),OFFSET(Coding!$IU$2,MAX(Coding!$G$38-2,0),0)))","v":"104"},{"$f":"IF(C86=\"\",\"\",VLOOKUP(C86,OFFSET(Coding!$L$7,0,0,AuthorityCounter,2),2,FALSE))","v":"c"},"Kent County Council"]
[null,null,{"$f":"IF(ROW()-34>AuthNo,\"na\",Coding!AR59)","v":"Kingston-upon-Thames"},{"$f":"IF(C87=\"\",\"\",VLOOKUP(C87,OFFSET(Coding!$L$7,0,0,AuthorityCounter,11),11,FALSE))","v":""},null,{"$f":"IF(C87=\"\",\"\",TEXT(VLOOKUP(C87,OFFSET(Coding!$L$7,0,0,AuthorityCounter,4),4,FALSE),OFFSET(Coding!$IU$2,MAX(Coding!$G$38-2,0),0)))","v":"7"},{"$f":"IF(C87=\"\",\"\",VLOOKUP(C87,OFFSET(Coding!$L$7,0,0,AuthorityCounter,2),2,FALSE))","v":"ul"},"Royal Borough of Kingston-upon-Thames"]
[null,null,{"$f":"IF(ROW()-34>AuthNo,\"na\",Coding!AR60)","v":"Lancashire"},{"$f":"IF(C88=\"\",\"\",VLOOKUP(C88,OFFSET(Coding!$L$7,0,0,AuthorityCounter,11),11,FALSE))","v":""},null,{"$f":"IF(C88=\"\",\"\",TEXT(VLOOKUP(C88,OFFSET(Coding!$L$7,0,0,AuthorityCounter,4),4,FALSE),OFFSET(Coding!$IU$2,MAX(Coding!$G$38-2,0),0)))","v":"68"},{"$f":"IF(C88=\"\",\"\",VLOOKUP(C88,OFFSET(Coding!$L$7,0,0,AuthorityCounter,2),2,FALSE))","v":"c"},"Lancashire County Council"]
[null,null,{"$f":"IF(ROW()-34>AuthNo,\"na\",Coding!AR61)","v":"Leicester"},{"$f":"IF(C89=\"\",\"\",VLOOKUP(C89,OFFSET(Coding!$L$7,0,0,AuthorityCounter,11),11,FALSE))","v":""},null,{"$f":"IF(C89=\"\",\"\",TEXT(VLOOKUP(C89,OFFSET(Coding!$L$7,0,0,AuthorityCounter,4),4,FALSE),OFFSET(Coding!$IU$2,MAX(Coding!$G$38-2,0),0)))","v":"16"},{"$f":"IF(C89=\"\",\"\",VLOOKUP(C89,OFFSET(Coding!$L$7,0,0,AuthorityCounter,2),2,FALSE))","v":"uu"},"Leicester City Council"]
[null,null,{"$f":"IF(ROW()-34>AuthNo,\"na\",Coding!AR62)","v":"Leicestershire"},{"$f":"IF(C90=\"\",\"\",VLOOKUP(C90,OFFSET(Coding!$L$7,0,0,AuthorityCounter,11),11,FALSE))","v":""},null,{"$f":"IF(C90=\"\",\"\",TEXT(VLOOKUP(C90,OFFSET(Coding!$L$7,0,0,AuthorityCounter,4),4,FALSE),OFFSET(Coding!$IU$2,MAX(Coding!$G$38-2,0),0)))","v":"23"},{"$f":"IF(C90=\"\",\"\",VLOOKUP(C90,OFFSET(Coding!$L$7,0,0,AuthorityCounter,2),2,FALSE))","v":"c"},"Leicestershire County Council"]
[null,null,{"$f":"IF(ROW()-34>AuthNo,\"na\",Coding!AR63)","v":"Lewisham"},{"$f":"IF(C91=\"\",\"\",VLOOKUP(C91,OFFSET(Coding!$L$7,0,0,AuthorityCounter,11),11,FALSE))","v":""},null,{"$f":"IF(C91=\"\",\"\",TEXT(VLOOKUP(C91,OFFSET(Coding!$L$7,0,0,AuthorityCounter,4),4,FALSE),OFFSET(Coding!$IU$2,MAX(Coding!$G$38-2,0),0)))","v":"13"},{"$f":"IF(C91=\"\",\"\",VLOOKUP(C91,OFFSET(Coding!$L$7,0,0,AuthorityCounter,2),2,FALSE))","v":"ul"},"London Borough of Lewisham"]
[null,null,{"$f":"IF(ROW()-34>AuthNo,\"na\",Coding!AR64)","v":"Lincolnshire"},{"$f":"IF(C92=\"\",\"\",VLOOKUP(C92,OFFSET(Coding!$L$7,0,0,AuthorityCounter,11),11,FALSE))","v":""},null,{"$f":"IF(C92=\"\",\"\",TEXT(VLOOKUP(C92,OFFSET(Coding!$L$7,0,0,AuthorityCounter,4),4,FALSE),OFFSET(Coding!$IU$2,MAX(Coding!$G$38-2,0),0)))","v":"22"},{"$f":"IF(C92=\"\",\"\",VLOOKUP(C92,OFFSET(Coding!$L$7,0,0,AuthorityCounter,2),2,FALSE))","v":"c"},"Lincolnshire County Council"]
[null,null,{"$f":"IF(ROW()-34>AuthNo,\"na\",Coding!AR65)","v":"Luton"},{"$f":"IF(C93=\"\",\"\",VLOOKUP(C93,OFFSET(Coding!$L$7,0,0,AuthorityCounter,11),11,FALSE))","v":""},null,{"$f":"IF(C93=\"\",\"\",TEXT(VLOOKUP(C93,OFFSET(Coding!$L$7,0,0,AuthorityCounter,4),4,FALSE),OFFSET(Coding!$IU$2,MAX(Coding!$G$38-2,0),0)))","v":"6"},{"$f":"IF(C93=\"\",\"\",VLOOKUP(C93,OFFSET(Coding!$L$7,0,0,AuthorityCounter,2),2,FALSE))","v":"uu"},"Luton Borough Council"]
[null,null,{"$f":"IF(ROW()-34>AuthNo,\"na\",Coding!AR66)","v":"Manchester"},{"$f":"IF(C94=\"\",\"\",VLOOKUP(C94,OFFSET(Coding!$L$7,0,0,AuthorityCounter,11),11,FALSE))","v":""},null,{"$f":"IF(C94=\"\",\"\",TEXT(VLOOKUP(C94,OFFSET(Coding!$L$7,0,0,AuthorityCounter,4),4,FALSE),OFFSET(Coding!$IU$2,MAX(Coding!$G$38-2,0),0)))","v":"16"},{"$f":"IF(C94=\"\",\"\",VLOOKUP(C94,OFFSET(Coding!$L$7,0,0,AuthorityCounter,2),2,FALSE))","v":"um"},"Manchester City Council"]
[null,null,{"$f":"IF(ROW()-34>AuthNo,\"na\",Coding!AR67)","v":"Medway"},{"$f":"IF(C95=\"\",\"\",VLOOKUP(C95,OFFSET(Coding!$L$7,0,0,AuthorityCounter,11),11,FALSE))","v":""},null,{"$f":"IF(C95=\"\",\"\",TEXT(VLOOKUP(C95,OFFSET(Coding!$L$7,0,0,AuthorityCounter,4),4,FALSE),OFFSET(Coding!$IU$2,MAX(Coding!$G$38-2,0),0)))","v":"17"},{"$f":"IF(C95=\"\",\"\",VLOOKUP(C95,OFFSET(Coding!$L$7,0,0,AuthorityCounter,2),2,FALSE))","v":"uu"},"Medway Council"]
[null,null,{"$f":"IF(ROW()-34>AuthNo,\"na\",Coding!AR68)","v":"Merton"},{"$f":"IF(C96=\"\",\"\",VLOOKUP(C96,OFFSET(Coding!$L$7,0,0,AuthorityCounter,11),11,FALSE))","v":""},null,{"$f":"IF(C96=\"\",\"\",TEXT(VLOOKUP(C96,OFFSET(Coding!$L$7,0,0,AuthorityCounter,4),4,FALSE),OFFSET(Coding!$IU$2,MAX(Coding!$G$38-2,0),0)))","v":"7"},{"$f":"IF(C96=\"\",\"\",VLOOKUP(C96,OFFSET(Coding!$L$7,0,0,AuthorityCounter,2),2,FALSE))","v":"ul"},"London Borough of Merton"]
[null,null,{"$f":"IF(ROW()-34>AuthNo,\"na\",Coding!AR69)","v":"Newcastle upon Tyne"},{"$f":"IF(C97=\"\",\"\",VLOOKUP(C97,OFFSET(Coding!$L$7,0,0,AuthorityCounter,11),11,FALSE))","v":""},null,{"$f":"IF(C97=\"\",\"\",TEXT(VLOOKUP(C97,OFFSET(Coding!$L$7,0,0,AuthorityCounter,4),4,FALSE),OFFSET(Coding!$IU$2,MAX(Coding!$G$38-2,0),0)))","v":"13"},{"$f":"IF(C97=\"\",\"\",VLOOKUP(C97,OFFSET(Coding!$L$7,0,0,AuthorityCounter,2),2,FALSE))","v":"um"},"Newcastle City Council"]
[null,null,{"$f":"IF(ROW()-34>AuthNo,\"na\",Coding!AR70)","v":"Newham"},{"$f":"IF(C98=\"\",\"\",VLOOKUP(C98,OFFSET(Coding!$L$7,0,0,AuthorityCounter,11),11,FALSE))","v":""},null,{"$f":"IF(C98=\"\",\"\",TEXT(VLOOKUP(C98,OFFSET(Coding!$L$7,0,0,AuthorityCounter,4),4,FALSE),OFFSET(Coding!$IU$2,MAX(Coding!$G$38-2,0),0)))","v":"10"},{"$f":"IF(C98=\"\",\"\",VLOOKUP(C98,OFFSET(Coding!$L$7,0,0,AuthorityCounter,2),2,FALSE))","v":"ul"},"London Borough of Newham"]
[null,null,{"$f":"IF(ROW()-34>AuthNo,\"na\",Coding!AR71)","v":"Norfolk"},{"$f":"IF(C99=\"\",\"\",VLOOKUP(C99,OFFSET(Coding!$L$7,0,0,AuthorityCounter,11),11,FALSE))","v":""},null,{"$f":"IF(C99=\"\",\"\",TEXT(VLOOKUP(C99,OFFSET(Coding!$L$7,0,0,AuthorityCounter,4),4,FALSE),OFFSET(Coding!$IU$2,MAX(Coding!$G$38-2,0),0)))","v":"55"},{"$f":"IF(C99=\"\",\"\",VLOOKUP(C99,OFFSET(Coding!$L$7,0,0,AuthorityCounter,2),2,FALSE))","v":"c"},"Norfolk County Council"]
[null,null,{"$f":"IF(ROW()-34>AuthNo,\"na\",Coding!AR72)","v":"North East Lincolnshire"},{"$f":"IF(C100=\"\",\"\",VLOOKUP(C100,OFFSET(Coding!$L$7,0,0,AuthorityCounter,11),11,FALSE))","v":""},null,{"$f":"IF(C100=\"\",\"\",TEXT(VLOOKUP(C100,OFFSET(Coding!$L$7,0,0,AuthorityCounter,4),4,FALSE),OFFSET(Coding!$IU$2,MAX(Coding!$G$38-2,0),0)))","v":"4"},{"$f":"IF(C100=\"\",\"\",VLOOKUP(C100,OFFSET(Coding!$L$7,0,0,AuthorityCounter,2),2,FALSE))","v":"uu"},{"$f":"IF(C100=\"\",\"\",VLOOKUP(C100,NameRange,2,FALSE))","v":"North East Lincolnshire Council"}]
[null,null,{"$f":"IF(ROW()-34>AuthNo,\"na\",Coding!AR73)","v":"North Lincolnshire"},{"$f":"IF(C101=\"\",\"\",VLOOKUP(C101,OFFSET(Coding!$L$7,0,0,AuthorityCounter,11),11,FALSE))","v":""},null,{"$f":"IF(C101=\"\",\"\",TEXT(VLOOKUP(C101,OFFSET(Coding!$L$7,0,0,AuthorityCounter,4),4,FALSE),OFFSET(Coding!$IU$2,MAX(Coding!$G$38-2,0),0)))","v":"16"},{"$f":"IF(C101=\"\",\"\",VLOOKUP(C101,OFFSET(Coding!$L$7,0,0,AuthorityCounter,2),2,FALSE))","v":"uu"},"North Lincolnshire Council"]
[null,null,{"$f":"IF(ROW()-34>AuthNo,\"na\",Coding!AR74)","v":"North Somerset"},{"$f":"IF(C102=\"\",\"\",VLOOKUP(C102,OFFSET(Coding!$L$7,0,0,AuthorityCounter,11),11,FALSE))","v":""},null,{"$f":"IF(C102=\"\",\"\",TEXT(VLOOKUP(C102,OFFSET(Coding!$L$7,0,0,AuthorityCounter,4),4,FALSE),OFFSET(Coding!$IU$2,MAX(Coding!$G$38-2,0),0)))","v":"12"},{"$f":"IF(C102=\"\",\"\",VLOOKUP(C102,OFFSET(Coding!$L$7,0,0,AuthorityCounter,2),2,FALSE))","v":"uu"},"North Somerset Council"]
[null,null,{"$f":"IF(ROW()-34>AuthNo,\"na\",Coding!AR75)","v":"North Tyneside"},{"$f":"IF(C103=\"\",\"\",VLOOKUP(C103,OFFSET(Coding!$L$7,0,0,AuthorityCounter,11),11,FALSE))","v":""},null,{"$f":"IF(C103=\"\",\"\",TEXT(VLOOKUP(C103,OFFSET(Coding!$L$7,0,0,AuthorityCounter,4),4,FALSE),OFFSET(Coding!$IU$2,MAX(Coding!$G$38-2,0),0)))","v":"16"},{"$f":"IF(C103=\"\",\"\",VLOOKUP(C103,OFFSET(Coding!$L$7,0,0,AuthorityCounter,2),2,FALSE))","v":"um"},"North Tyneside MBC"]
[null,{"$f":"IF(ISERROR(VLOOKUP(C104,OFFSET(Coding!$L$7,0,0,AuthorityCounter2,11),11,FALSE)),\"\",VLOOKUP(C104,OFFSET(Coding!$L$7,0,0,AuthorityCounter2,11),11,FALSE))","v":""},{"$f":"IF(ROW()-34>AuthNo,\"na\",Coding!AR76)","v":"North Yorkshire"},{"$f":"IF(C104=\"\",\"\",VLOOKUP(C104,OFFSET(Coding!$L$7,0,0,AuthorityCounter,11),11,FALSE))","v":""},null,{"$f":"IF(C104=\"\",\"\",TEXT(VLOOKUP(C104,OFFSET(Coding!$L$7,0,0,AuthorityCounter,4),4,FALSE),OFFSET(Coding!$IU$2,MAX(Coding!$G$38-2,0),0)))","v":"44"},{"$f":"IF(C104=\"\",\"\",VLOOKUP(C104,OFFSET(Coding!$L$7,0,0,AuthorityCounter,2),2,FALSE))","v":"c"},"North Yorkshire County Council"]
[null,{"$f":"IF(ISERROR(VLOOKUP(C105,OFFSET(Coding!$L$7,0,0,AuthorityCounter2,11),11,FALSE)),\"\",VLOOKUP(C105,OFFSET(Coding!$L$7,0,0,AuthorityCounter2,11),11,FALSE))","v":""},{"$f":"IF(ROW()-34>AuthNo,\"na\",Coding!AR77)","v":"Northamptonshire"},{"$f":"IF(C105=\"\",\"\",VLOOKUP(C105,OFFSET(Coding!$L$7,0,0,AuthorityCounter,11),11,FALSE))","v":""},null,{"$f":"IF(C105=\"\",\"\",TEXT(VLOOKUP(C105,OFFSET(Coding!$L$7,0,0,AuthorityCounter,4),4,FALSE),OFFSET(Coding!$IU$2,MAX(Coding!$G$38-2,0),0)))","v":"36"},{"$f":"IF(C105=\"\",\"\",VLOOKUP(C105,OFFSET(Coding!$L$7,0,0,AuthorityCounter,2),2,FALSE))","v":"c"},"Northamptonshire County Council"]
[null,{"$f":"IF(ISERROR(VLOOKUP(C106,OFFSET(Coding!$L$7,0,0,AuthorityCounter2,11),11,FALSE)),\"\",VLOOKUP(C106,OFFSET(Coding!$L$7,0,0,AuthorityCounter2,11),11,FALSE))","v":""},{"$f":"IF(ROW()-34>AuthNo,\"na\",Coding!AR78)","v":"Nottingham"},{"$f":"IF(C106=\"\",\"\",VLOOKUP(C106,OFFSET(Coding!$L$7,0,0,AuthorityCounter,11),11,FALSE))","v":""},null,{"$f":"IF(C106=\"\",\"\",TEXT(VLOOKUP(C106,OFFSET(Coding!$L$7,0,0,AuthorityCounter,4),4,FALSE),OFFSET(Coding!$IU$2,MAX(Coding!$G$38-2,0),0)))","v":"15"},{"$f":"IF(C106=\"\",\"\",VLOOKUP(C106,OFFSET(Coding!$L$7,0,0,AuthorityCounter,2),2,FALSE))","v":"uu"},"Nottingham City Council"]
[null,{"$f":"IF(ISERROR(VLOOKUP(C107,OFFSET(Coding!$L$7,0,0,AuthorityCounter2,11),11,FALSE)),\"\",VLOOKUP(C107,OFFSET(Coding!$L$7,0,0,AuthorityCounter2,11),11,FALSE))","v":""},{"$f":"IF(ROW()-34>AuthNo,\"na\",Coding!AR79)","v":"Nottinghamshire"},{"$f":"IF(C107=\"\",\"\",VLOOKUP(C107,OFFSET(Coding!$L$7,0,0,AuthorityCounter,11),11,FALSE))","v":""},null,{"$f":"IF(C107=\"\",\"\",TEXT(VLOOKUP(C107,OFFSET(Coding!$L$7,0,0,AuthorityCounter,4),4,FALSE),OFFSET(Coding!$IU$2,MAX(Coding!$G$38-2,0),0)))","v":"63"},{"$f":"IF(C107=\"\",\"\",VLOOKUP(C107,OFFSET(Coding!$L$7,0,0,AuthorityCounter,2),2,FALSE))","v":"c"},"Nottinghamshire County Council"]
[null,{"$f":"IF(ISERROR(VLOOKUP(C108,OFFSET(Coding!$L$7,0,0,AuthorityCounter2,11),11,FALSE)),\"\",VLOOKUP(C108,OFFSET(Coding!$L$7,0,0,AuthorityCounter2,11),11,FALSE))","v":""},{"$f":"IF(ROW()-34>AuthNo,\"na\",Coding!AR80)","v":"Oldham"},{"$f":"IF(C108=\"\",\"\",VLOOKUP(C108,OFFSET(Coding!$L$7,0,0,AuthorityCounter,11),11,FALSE))","v":""},null,{"$f":"IF(C108=\"\",\"\",TEXT(VLOOKUP(C108,OFFSET(Coding!$L$7,0,0,AuthorityCounter,4),4,FALSE),OFFSET(Coding!$IU$2,MAX(Coding!$G$38-2,0),0)))","v":"12"},{"$f":"IF(C108=\"\",\"\",VLOOKUP(C108,OFFSET(Coding!$L$7,0,0,AuthorityCounter,2),2,FALSE))","v":"um"},"Oldham Metropolitan Borough Council"]
[null,{"$f":"IF(ISERROR(VLOOKUP(C109,OFFSET(Coding!$L$7,0,0,AuthorityCounter2,11),11,FALSE)),\"\",VLOOKUP(C109,OFFSET(Coding!$L$7,0,0,AuthorityCounter2,11),11,FALSE))","v":""},{"$f":"IF(ROW()-34>AuthNo,\"na\",Coding!AR81)","v":"Oxfordshire"},{"$f":"IF(C109=\"\",\"\",VLOOKUP(C109,OFFSET(Coding!$L$7,0,0,AuthorityCounter,11),11,FALSE))","v":""},null,{"$f":"IF(C109=\"\",\"\",TEXT(VLOOKUP(C109,OFFSET(Coding!$L$7,0,0,AuthorityCounter,4),4,FALSE),OFFSET(Coding!$IU$2,MAX(Coding!$G$38-2,0),0)))","v":"43"},{"$f":"IF(C109=\"\",\"\",VLOOKUP(C109,OFFSET(Coding!$L$7,0,0,AuthorityCounter,2),2,FALSE))","v":"c"},"Oxfordshire County Council"]
[null,{"$f":"IF(ISERROR(VLOOKUP(C110,OFFSET(Coding!$L$7,0,0,AuthorityCounter2,11),11,FALSE)),\"\",VLOOKUP(C110,OFFSET(Coding!$L$7,0,0,AuthorityCounter2,11),11,FALSE))","v":""},{"$f":"IF(ROW()-34>AuthNo,\"na\",Coding!AR82)","v":"Peterborough"},{"$f":"IF(C110=\"\",\"\",VLOOKUP(C110,OFFSET(Coding!$L$7,0,0,AuthorityCounter,11),11,FALSE))","v":""},null,{"$f":"IF(C110=\"\",\"\",TEXT(VLOOKUP(C110,OFFSET(Coding!$L$7,0,0,AuthorityCounter,4),4,FALSE),OFFSET(Coding!$IU$2,MAX(Coding!$G$38-2,0),0)))","v":"11"},{"$f":"IF(C110=\"\",\"\",VLOOKUP(C110,OFFSET(Coding!$L$7,0,0,AuthorityCounter,2),2,FALSE))","v":"uu"},"Peterborough City Council"]
[null,{"$f":"IF(ISERROR(VLOOKUP(C111,OFFSET(Coding!$L$7,0,0,AuthorityCounter2,11),11,FALSE)),\"\",VLOOKUP(C111,OFFSET(Coding!$L$7,0,0,AuthorityCounter2,11),11,FALSE))","v":""},{"$f":"IF(ROW()-34>AuthNo,\"na\",Coding!AR83)","v":"Plymouth"},{"$f":"IF(C111=\"\",\"\",VLOOKUP(C111,OFFSET(Coding!$L$7,0,0,AuthorityCounter,11),11,FALSE))","v":""},null,{"$f":"IF(C111=\"\",\"\",TEXT(VLOOKUP(C111,OFFSET(Coding!$L$7,0,0,AuthorityCounter,4),4,FALSE),OFFSET(Coding!$IU$2,MAX(Coding!$G$38-2,0),0)))","v":"12"},{"$f":"IF(C111=\"\",\"\",VLOOKUP(C111,OFFSET(Coding!$L$7,0,0,AuthorityCounter,2),2,FALSE))","v":"uu"},"Plymouth City Council"]
[null,{"$f":"IF(ISERROR(VLOOKUP(C112,OFFSET(Coding!$L$7,0,0,AuthorityCounter2,11),11,FALSE)),\"\",VLOOKUP(C112,OFFSET(Coding!$L$7,0,0,AuthorityCounter2,11),11,FALSE))","v":""},{"$f":"IF(ROW()-34>AuthNo,\"na\",Coding!AR84)","v":"Portsmouth"},{"$f":"IF(C112=\"\",\"\",VLOOKUP(C112,OFFSET(Coding!$L$7,0,0,AuthorityCounter,11),11,FALSE))","v":""},null,{"$f":"IF(C112=\"\",\"\",TEXT(VLOOKUP(C112,OFFSET(Coding!$L$7,0,0,AuthorityCounter,4),4,FALSE),OFFSET(Coding!$IU$2,MAX(Coding!$G$38-2,0),0)))","v":"10"},{"$f":"IF(C112=\"\",\"\",VLOOKUP(C112,OFFSET(Coding!$L$7,0,0,AuthorityCounter,2),2,FALSE))","v":"uu"},"Portsmouth City Council"]
[null,{"$f":"IF(ISERROR(VLOOKUP(C113,OFFSET(Coding!$L$7,0,0,AuthorityCounter2,11),11,FALSE)),\"\",VLOOKUP(C113,OFFSET(Coding!$L$7,0,0,AuthorityCounter2,11),11,FALSE))","v":""},{"$f":"IF(ROW()-34>AuthNo,\"na\",Coding!AR85)","v":"Reading"},{"$f":"IF(C113=\"\",\"\",VLOOKUP(C113,OFFSET(Coding!$L$7,0,0,AuthorityCounter,11),11,FALSE))","v":""},null,{"$f":"IF(C113=\"\",\"\",TEXT(VLOOKUP(C113,OFFSET(Coding!$L$7,0,0,AuthorityCounter,4),4,FALSE),OFFSET(Coding!$IU$2,MAX(Coding!$G$38-2,0),0)))","v":"8"},{"$f":"IF(C113=\"\",\"\",VLOOKUP(C113,OFFSET(Coding!$L$7,0,0,AuthorityCounter,2),2,FALSE))","v":"uu"},"Reading Borough Council"]
[null,{"$f":"IF(ISERROR(VLOOKUP(C114,OFFSET(Coding!$L$7,0,0,AuthorityCounter2,11),11,FALSE)),\"\",VLOOKUP(C114,OFFSET(Coding!$L$7,0,0,AuthorityCounter2,11),11,FALSE))","v":""},{"$f":"IF(ROW()-34>AuthNo,\"na\",Coding!AR86)","v":"Redbridge"},{"$f":"IF(C114=\"\",\"\",VLOOKUP(C114,OFFSET(Coding!$L$7,0,0,AuthorityCounter,11),11,FALSE))","v":""},null,{"$f":"IF(C114=\"\",\"\",TEXT(VLOOKUP(C114,OFFSET(Coding!$L$7,0,0,AuthorityCounter,4),4,FALSE),OFFSET(Coding!$IU$2,MAX(Coding!$G$38-2,0),0)))","v":"13"},{"$f":"IF(C114=\"\",\"\",VLOOKUP(C114,OFFSET(Coding!$L$7,0,0,AuthorityCounter,2),2,FALSE))","v":"ul"},"London Borough of Redbridge"]
[null,{"$f":"IF(ISERROR(VLOOKUP(C115,OFFSET(Coding!$L$7,0,0,AuthorityCounter2,11),11,FALSE)),\"\",VLOOKUP(C115,OFFSET(Coding!$L$7,0,0,AuthorityCounter2,11),11,FALSE))","v":""},{"$f":"IF(ROW()-34>AuthNo,\"na\",Coding!AR87)","v":"Redcar & Cleveland"},{"$f":"IF(C115=\"\",\"\",VLOOKUP(C115,OFFSET(Coding!$L$7,0,0,AuthorityCounter,11),11,FALSE))","v":""},null,{"$f":"IF(C115=\"\",\"\",TEXT(VLOOKUP(C115,OFFSET(Coding!$L$7,0,0,AuthorityCounter,4),4,FALSE),OFFSET(Coding!$IU$2,MAX(Coding!$G$38-2,0),0)))","v":"14"},{"$f":"IF(C115=\"\",\"\",VLOOKUP(C115,OFFSET(Coding!$L$7,0,0,AuthorityCounter,2),2,FALSE))","v":"uu"},"Redcar & Cleveland Borough Council"]
[null,{"$f":"IF(ISERROR(VLOOKUP(C116,OFFSET(Coding!$L$7,0,0,AuthorityCounter2,11),11,FALSE)),\"\",VLOOKUP(C116,OFFSET(Coding!$L$7,0,0,AuthorityCounter2,11),11,FALSE))","v":""},{"$f":"IF(ROW()-34>AuthNo,\"na\",Coding!AR88)","v":"Richmond-upon-Thames"},{"$f":"IF(C116=\"\",\"\",VLOOKUP(C116,OFFSET(Coding!$L$7,0,0,AuthorityCounter,11),11,FALSE))","v":""},null,{"$f":"IF(C116=\"\",\"\",TEXT(VLOOKUP(C116,OFFSET(Coding!$L$7,0,0,AuthorityCounter,4),4,FALSE),OFFSET(Coding!$IU$2,MAX(Coding!$G$38-2,0),0)))","v":"13"},{"$f":"IF(C116=\"\",\"\",VLOOKUP(C116,OFFSET(Coding!$L$7,0,0,AuthorityCounter,2),2,FALSE))","v":"ul"},"London Borough of Richmond-upon-Thames"]
[null,{"$f":"IF(ISERROR(VLOOKUP(C117,OFFSET(Coding!$L$7,0,0,AuthorityCounter2,11),11,FALSE)),\"\",VLOOKUP(C117,OFFSET(Coding!$L$7,0,0,AuthorityCounter2,11),11,FALSE))","v":""},{"$f":"IF(ROW()-34>AuthNo,\"na\",Coding!AR89)","v":"Rochdale"},{"$f":"IF(C117=\"\",\"\",VLOOKUP(C117,OFFSET(Coding!$L$7,0,0,AuthorityCounter,11),11,FALSE))","v":""},null,{"$f":"IF(C117=\"\",\"\",TEXT(VLOOKUP(C117,OFFSET(Coding!$L$7,0,0,AuthorityCounter,4),4,FALSE),OFFSET(Coding!$IU$2,MAX(Coding!$G$38-2,0),0)))","v":"17"},{"$f":"IF(C117=\"\",\"\",VLOOKUP(C117,OFFSET(Coding!$L$7,0,0,AuthorityCounter,2),2,FALSE))","v":"um"},"Rochdale Metropolitan Borough Council"]
[null,{"$f":"IF(ISERROR(VLOOKUP(C118,OFFSET(Coding!$L$7,0,0,AuthorityCounter2,11),11,FALSE)),\"\",VLOOKUP(C118,OFFSET(Coding!$L$7,0,0,AuthorityCounter2,11),11,FALSE))","v":""},{"$f":"IF(ROW()-34>AuthNo,\"na\",Coding!AR90)","v":"Rotherham"},{"$f":"IF(C118=\"\",\"\",VLOOKUP(C118,OFFSET(Coding!$L$7,0,0,AuthorityCounter,11),11,FALSE))","v":""},null,{"$f":"IF(C118=\"\",\"\",TEXT(VLOOKUP(C118,OFFSET(Coding!$L$7,0,0,AuthorityCounter,4),4,FALSE),OFFSET(Coding!$IU$2,MAX(Coding!$G$38-2,0),0)))","v":"16"},{"$f":"IF(C118=\"\",\"\",VLOOKUP(C118,OFFSET(Coding!$L$7,0,0,AuthorityCounter,2),2,FALSE))","v":"um"},"Rotherham Metropolitan Borough Council"]
[null,{"$f":"IF(ISERROR(VLOOKUP(C119,OFFSET(Coding!$L$7,0,0,AuthorityCounter2,11),11,FALSE)),\"\",VLOOKUP(C119,OFFSET(Coding!$L$7,0,0,AuthorityCounter2,11),11,FALSE))","v":""},{"$f":"IF(ROW()-34>AuthNo,\"na\",Coding!AR91)","v":"Rutland"},{"$f":"IF(C119=\"\",\"\",VLOOKUP(C119,OFFSET(Coding!$L$7,0,0,AuthorityCounter,11),11,FALSE))","v":""},null,{"$f":"IF(C119=\"\",\"\",TEXT(VLOOKUP(C119,OFFSET(Coding!$L$7,0,0,AuthorityCounter,4),4,FALSE),OFFSET(Coding!$IU$2,MAX(Coding!$G$38-2,0),0)))","v":"5"},{"$f":"IF(C119=\"\",\"\",VLOOKUP(C119,OFFSET(Coding!$L$7,0,0,AuthorityCounter,2),2,FALSE))","v":"uu"},"Rutland County Council"]
[null,{"$f":"IF(ISERROR(VLOOKUP(C120,OFFSET(Coding!$L$7,0,0,AuthorityCounter2,11),11,FALSE)),\"\",VLOOKUP(C120,OFFSET(Coding!$L$7,0,0,AuthorityCounter2,11),11,FALSE))","v":""},{"$f":"IF(ROW()-34>AuthNo,\"na\",Coding!AR92)","v":"Salford"},{"$f":"IF(C120=\"\",\"\",VLOOKUP(C120,OFFSET(Coding!$L$7,0,0,AuthorityCounter,11),11,FALSE))","v":""},null,{"$f":"IF(C120=\"\",\"\",TEXT(VLOOKUP(C120,OFFSET(Coding!$L$7,0,0,AuthorityCounter,4),4,FALSE),OFFSET(Coding!$IU$2,MAX(Coding!$G$38-2,0),0)))","v":"16"},{"$f":"IF(C120=\"\",\"\",VLOOKUP(C120,OFFSET(Coding!$L$7,0,0,AuthorityCounter,2),2,FALSE))","v":"um"},"Salford City Council"]
[null,{"$f":"IF(ISERROR(VLOOKUP(C121,OFFSET(Coding!$L$7,0,0,AuthorityCounter2,11),11,FALSE)),\"\",VLOOKUP(C121,OFFSET(Coding!$L$7,0,0,AuthorityCounter2,11),11,FALSE))","v":""},{"$f":"IF(ROW()-34>AuthNo,\"na\",Coding!AR93)","v":"Sandwell"},{"$f":"IF(C121=\"\",\"\",VLOOKUP(C121,OFFSET(Coding!$L$7,0,0,AuthorityCounter,11),11,FALSE))","v":""},null,{"$f":"IF(C121=\"\",\"\",TEXT(VLOOKUP(C121,OFFSET(Coding!$L$7,0,0,AuthorityCounter,4),4,FALSE),OFFSET(Coding!$IU$2,MAX(Coding!$G$38-2,0),0)))","v":"20"},{"$f":"IF(C121=\"\",\"\",VLOOKUP(C121,OFFSET(Coding!$L$7,0,0,AuthorityCounter,2),2,FALSE))","v":"um"},"Sandwell Metropolitan Borough Council"]
[null,{"$f":"IF(ISERROR(VLOOKUP(C122,OFFSET(Coding!$L$7,0,0,AuthorityCounter2,11),11,FALSE)),\"\",VLOOKUP(C122,OFFSET(Coding!$L$7,0,0,AuthorityCounter2,11),11,FALSE))","v":""},{"$f":"IF(ROW()-34>AuthNo,\"na\",Coding!AR94)","v":"Sefton"},{"$f":"IF(C122=\"\",\"\",VLOOKUP(C122,OFFSET(Coding!$L$7,0,0,AuthorityCounter,11),11,FALSE))","v":""},null,{"$f":"IF(C122=\"\",\"\",TEXT(VLOOKUP(C122,OFFSET(Coding!$L$7,0,0,AuthorityCounter,4),4,FALSE),OFFSET(Coding!$IU$2,MAX(Coding!$G$38-2,0),0)))","v":"6"},{"$f":"IF(C122=\"\",\"\",VLOOKUP(C122,OFFSET(Coding!$L$7,0,0,AuthorityCounter,2),2,FALSE))","v":"um"},"Sefton Metropolitan Borough Council"]
[null,{"$f":"IF(ISERROR(VLOOKUP(C123,OFFSET(Coding!$L$7,0,0,AuthorityCounter2,11),11,FALSE)),\"\",VLOOKUP(C123,OFFSET(Coding!$L$7,0,0,AuthorityCounter2,11),11,FALSE))","v":""},{"$f":"IF(ROW()-34>AuthNo,\"na\",Coding!AR95)","v":"Sheffield"},{"$f":"IF(C123=\"\",\"\",VLOOKUP(C123,OFFSET(Coding!$L$7,0,0,AuthorityCounter,11),11,FALSE))","v":""},null,{"$f":"IF(C123=\"\",\"\",TEXT(VLOOKUP(C123,OFFSET(Coding!$L$7,0,0,AuthorityCounter,4),4,FALSE),OFFSET(Coding!$IU$2,MAX(Coding!$G$38-2,0),0)))","v":"12"},{"$f":"IF(C123=\"\",\"\",VLOOKUP(C123,OFFSET(Coding!$L$7,0,0,AuthorityCounter,2),2,FALSE))","v":"um"},"Sheffield City Council"]
[null,{"$f":"IF(ISERROR(VLOOKUP(C124,OFFSET(Coding!$L$7,0,0,AuthorityCounter2,11),11,FALSE)),\"\",VLOOKUP(C124,OFFSET(Coding!$L$7,0,0,AuthorityCounter2,11),11,FALSE))","v":""},{"$f":"IF(ROW()-34>AuthNo,\"na\",Coding!AR96)","v":"Shropshire"},{"$f":"IF(C124=\"\",\"\",VLOOKUP(C124,OFFSET(Coding!$L$7,0,0,AuthorityCounter,11),11,FALSE))","v":""},null,{"$f":"IF(C124=\"\",\"\",TEXT(VLOOKUP(C124,OFFSET(Coding!$L$7,0,0,AuthorityCounter,4),4,FALSE),OFFSET(Coding!$IU$2,MAX(Coding!$G$38-2,0),0)))","v":"24"},{"$f":"IF(C124=\"\",\"\",VLOOKUP(C124,OFFSET(Coding!$L$7,0,0,AuthorityCounter,2),2,FALSE))","v":"uu"},"Shropshire Council"]
[null,{"$f":"IF(ISERROR(VLOOKUP(C125,OFFSET(Coding!$L$7,0,0,AuthorityCounter2,11),11,FALSE)),\"\",VLOOKUP(C125,OFFSET(Coding!$L$7,0,0,AuthorityCounter2,11),11,FALSE))","v":""},{"$f":"IF(ROW()-34>AuthNo,\"na\",Coding!AR97)","v":"Slough"},{"$f":"IF(C125=\"\",\"\",VLOOKUP(C125,OFFSET(Coding!$L$7,0,0,AuthorityCounter,11),11,FALSE))","v":""},null,{"$f":"IF(C125=\"\",\"\",TEXT(VLOOKUP(C125,OFFSET(Coding!$L$7,0,0,AuthorityCounter,4),4,FALSE),OFFSET(Coding!$IU$2,MAX(Coding!$G$38-2,0),0)))","v":"4"},{"$f":"IF(C125=\"\",\"\",VLOOKUP(C125,OFFSET(Coding!$L$7,0,0,AuthorityCounter,2),2,FALSE))","v":"uu"},"Slough Borough Council"]
[null,{"$f":"IF(ISERROR(VLOOKUP(C126,OFFSET(Coding!$L$7,0,0,AuthorityCounter2,11),11,FALSE)),\"\",VLOOKUP(C126,OFFSET(Coding!$L$7,0,0,AuthorityCounter2,11),11,FALSE))","v":""},{"$f":"IF(ROW()-34>AuthNo,\"na\",Coding!AR98)","v":"Solihull"},{"$f":"IF(C126=\"\",\"\",VLOOKUP(C126,OFFSET(Coding!$L$7,0,0,AuthorityCounter,11),11,FALSE))","v":""},null,{"$f":"IF(C126=\"\",\"\",TEXT(VLOOKUP(C126,OFFSET(Coding!$L$7,0,0,AuthorityCounter,4),4,FALSE),OFFSET(Coding!$IU$2,MAX(Coding!$G$38-2,0),0)))","v":"14"},{"$f":"IF(C126=\"\",\"\",VLOOKUP(C126,OFFSET(Coding!$L$7,0,0,AuthorityCounter,2),2,FALSE))","v":"um"},"Solihull Metropolitan Borough Council"]
[null,{"$f":"IF(ISERROR(VLOOKUP(C127,OFFSET(Coding!$L$7,0,0,AuthorityCounter2,11),11,FALSE)),\"\",VLOOKUP(C127,OFFSET(Coding!$L$7,0,0,AuthorityCounter2,11),11,FALSE))","v":""},{"$f":"IF(ROW()-34>AuthNo,\"na\",Coding!AR99)","v":"Somerset"},{"$f":"IF(C127=\"\",\"\",VLOOKUP(C127,OFFSET(Coding!$L$7,0,0,AuthorityCounter,11),11,FALSE))","v":""},null,{"$f":"IF(C127=\"\",\"\",TEXT(VLOOKUP(C127,OFFSET(Coding!$L$7,0,0,AuthorityCounter,4),4,FALSE),OFFSET(Coding!$IU$2,MAX(Coding!$G$38-2,0),0)))","v":"33"},{"$f":"IF(C127=\"\",\"\",VLOOKUP(C127,OFFSET(Coding!$L$7,0,0,AuthorityCounter,2),2,FALSE))","v":"c"},"Somerset County Council"]
[null,{"$f":"IF(ISERROR(VLOOKUP(C128,OFFSET(Coding!$L$7,0,0,AuthorityCounter2,11),11,FALSE)),\"\",VLOOKUP(C128,OFFSET(Coding!$L$7,0,0,AuthorityCounter2,11),11,FALSE))","v":""},{"$f":"IF(ROW()-34>AuthNo,\"na\",Coding!AR100)","v":"South Gloucestershire"},{"$f":"IF(C128=\"\",\"\",VLOOKUP(C128,OFFSET(Coding!$L$7,0,0,AuthorityCounter,11),11,FALSE))","v":""},null,{"$f":"IF(C128=\"\",\"\",TEXT(VLOOKUP(C128,OFFSET(Coding!$L$7,0,0,AuthorityCounter,4),4,FALSE),OFFSET(Coding!$IU$2,MAX(Coding!$G$38-2,0),0)))","v":"13"},{"$f":"IF(C128=\"\",\"\",VLOOKUP(C128,OFFSET(Coding!$L$7,0,0,AuthorityCounter,2),2,FALSE))","v":"uu"},"South Gloucestershire Council"]
[null,{"$f":"IF(ISERROR(VLOOKUP(C129,OFFSET(Coding!$L$7,0,0,AuthorityCounter2,11),11,FALSE)),\"\",VLOOKUP(C129,OFFSET(Coding!$L$7,0,0,AuthorityCounter2,11),11,FALSE))","v":""},{"$f":"IF(ROW()-34>AuthNo,\"na\",Coding!AR101)","v":"South Tyneside"},{"$f":"IF(C129=\"\",\"\",VLOOKUP(C129,OFFSET(Coding!$L$7,0,0,AuthorityCounter,11),11,FALSE))","v":""},null,{"$f":"IF(C129=\"\",\"\",TEXT(VLOOKUP(C129,OFFSET(Coding!$L$7,0,0,AuthorityCounter,4),4,FALSE),OFFSET(Coding!$IU$2,MAX(Coding!$G$38-2,0),0)))","v":"4"},{"$f":"IF(C129=\"\",\"\",VLOOKUP(C129,OFFSET(Coding!$L$7,0,0,AuthorityCounter,2),2,FALSE))","v":"um"},"South Tyneside Metropolitan Borough Council"]
[null,{"$f":"IF(ISERROR(VLOOKUP(C130,OFFSET(Coding!$L$7,0,0,AuthorityCounter2,11),11,FALSE)),\"\",VLOOKUP(C130,OFFSET(Coding!$L$7,0,0,AuthorityCounter2,11),11,FALSE))","v":""},{"$f":"IF(ROW()-34>AuthNo,\"na\",Coding!AR102)","v":"Southampton"},{"$f":"IF(C130=\"\",\"\",VLOOKUP(C130,OFFSET(Coding!$L$7,0,0,AuthorityCounter,11),11,FALSE))","v":""},null,{"$f":"IF(C130=\"\",\"\",TEXT(VLOOKUP(C130,OFFSET(Coding!$L$7,0,0,AuthorityCounter,4),4,FALSE),OFFSET(Coding!$IU$2,MAX(Coding!$G$38-2,0),0)))","v":"11"},{"$f":"IF(C130=\"\",\"\",VLOOKUP(C130,OFFSET(Coding!$L$7,0,0,AuthorityCounter,2),2,FALSE))","v":"uu"},"Southampton City Council"]
[null,{"$f":"IF(ISERROR(VLOOKUP(C131,OFFSET(Coding!$L$7,0,0,AuthorityCounter2,11),11,FALSE)),\"\",VLOOKUP(C131,OFFSET(Coding!$L$7,0,0,AuthorityCounter2,11),11,FALSE))","v":""},{"$f":"IF(ROW()-34>AuthNo,\"na\",Coding!AR103)","v":"Southend-on-Sea"},{"$f":"IF(C131=\"\",\"\",VLOOKUP(C131,OFFSET(Coding!$L$7,0,0,AuthorityCounter,11),11,FALSE))","v":""},null,{"$f":"IF(C131=\"\",\"\",TEXT(VLOOKUP(C131,OFFSET(Coding!$L$7,0,0,AuthorityCounter,4),4,FALSE),OFFSET(Coding!$IU$2,MAX(Coding!$G$38-2,0),0)))","v":"7"},{"$f":"IF(C131=\"\",\"\",VLOOKUP(C131,OFFSET(Coding!$L$7,0,0,AuthorityCounter,2),2,FALSE))","v":"uu"},"Southend-on-Sea Borough Council"]
[null,{"$f":"IF(ISERROR(VLOOKUP(C132,OFFSET(Coding!$L$7,0,0,AuthorityCounter2,11),11,FALSE)),\"\",VLOOKUP(C132,OFFSET(Coding!$L$7,0,0,AuthorityCounter2,11),11,FALSE))","v":""},{"$f":"IF(ROW()-34>AuthNo,\"na\",Coding!AR104)","v":"Southwark"},{"$f":"IF(C132=\"\",\"\",VLOOKUP(C132,OFFSET(Coding!$L$7,0,0,AuthorityCounter,11),11,FALSE))","v":""},null,{"$f":"IF(C132=\"\",\"\",TEXT(VLOOKUP(C132,OFFSET(Coding!$L$7,0,0,AuthorityCounter,4),4,FALSE),OFFSET(Coding!$IU$2,MAX(Coding!$G$38-2,0),0)))","v":"11"},{"$f":"IF(C132=\"\",\"\",VLOOKUP(C132,OFFSET(Coding!$L$7,0,0,AuthorityCounter,2),2,FALSE))","v":"ul"},"London Borough of Southwark"]
[null,{"$f":"IF(ISERROR(VLOOKUP(C133,OFFSET(Coding!$L$7,0,0,AuthorityCounter2,11),11,FALSE)),\"\",VLOOKUP(C133,OFFSET(Coding!$L$7,0,0,AuthorityCounter2,11),11,FALSE))","v":""},{"$f":"IF(ROW()-34>AuthNo,\"na\",Coding!AR105)","v":"St Helens"},{"$f":"IF(C133=\"\",\"\",VLOOKUP(C133,OFFSET(Coding!$L$7,0,0,AuthorityCounter,11),11,FALSE))","v":""},null,{"$f":"IF(C133=\"\",\"\",TEXT(VLOOKUP(C133,OFFSET(Coding!$L$7,0,0,AuthorityCounter,4),4,FALSE),OFFSET(Coding!$IU$2,MAX(Coding!$G$38-2,0),0)))","v":"12"},{"$f":"IF(C133=\"\",\"\",VLOOKUP(C133,OFFSET(Coding!$L$7,0,0,AuthorityCounter,2),2,FALSE))","v":"um"},"St Helens Metropolitan Borough Council"]
[null,{"$f":"IF(ISERROR(VLOOKUP(C134,OFFSET(Coding!$L$7,0,0,AuthorityCounter2,11),11,FALSE)),\"\",VLOOKUP(C134,OFFSET(Coding!$L$7,0,0,AuthorityCounter2,11),11,FALSE))","v":""},{"$f":"IF(ROW()-34>AuthNo,\"na\",Coding!AR106)","v":"Staffordshire"},{"$f":"IF(C134=\"\",\"\",VLOOKUP(C134,OFFSET(Coding!$L$7,0,0,AuthorityCounter,11),11,FALSE))","v":""},null,{"$f":"IF(C134=\"\",\"\",TEXT(VLOOKUP(C134,OFFSET(Coding!$L$7,0,0,AuthorityCounter,4),4,FALSE),OFFSET(Coding!$IU$2,MAX(Coding!$G$38-2,0),0)))","v":"46"},{"$f":"IF(C134=\"\",\"\",VLOOKUP(C134,OFFSET(Coding!$L$7,0,0,AuthorityCounter,2),2,FALSE))","v":"c"},"Staffordshire County Council"]
[null,{"$f":"IF(ISERROR(VLOOKUP(C135,OFFSET(Coding!$L$7,0,0,AuthorityCounter2,11),11,FALSE)),\"\",VLOOKUP(C135,OFFSET(Coding!$L$7,0,0,AuthorityCounter2,11),11,FALSE))","v":""},{"$f":"IF(ROW()-34>AuthNo,\"na\",Coding!AR107)","v":"Stockport"},{"$f":"IF(C135=\"\",\"\",VLOOKUP(C135,OFFSET(Coding!$L$7,0,0,AuthorityCounter,11),11,FALSE))","v":""},null,{"$f":"IF(C135=\"\",\"\",TEXT(VLOOKUP(C135,OFFSET(Coding!$L$7,0,0,AuthorityCounter,4),4,FALSE),OFFSET(Coding!$IU$2,MAX(Coding!$G$38-2,0),0)))","v":"16"},{"$f":"IF(C135=\"\",\"\",VLOOKUP(C135,OFFSET(Coding!$L$7,0,0,AuthorityCounter,2),2,FALSE))","v":"um"},"Stockport Metropolitan Borough Council"]
[null,{"$f":"IF(ISERROR(VLOOKUP(C136,OFFSET(Coding!$L$7,0,0,AuthorityCounter2,11),11,FALSE)),\"\",VLOOKUP(C136,OFFSET(Coding!$L$7,0,0,AuthorityCounter2,11),11,FALSE))","v":""},{"$f":"IF(ROW()-34>AuthNo,\"na\",Coding!AR108)","v":"Stoke-on-Trent"},{"$f":"IF(C136=\"\",\"\",VLOOKUP(C136,OFFSET(Coding!$L$7,0,0,AuthorityCounter,11),11,FALSE))","v":""},null,{"$f":"IF(C136=\"\",\"\",TEXT(VLOOKUP(C136,OFFSET(Coding!$L$7,0,0,AuthorityCounter,4),4,FALSE),OFFSET(Coding!$IU$2,MAX(Coding!$G$38-2,0),0)))","v":"6"},{"$f":"IF(C136=\"\",\"\",VLOOKUP(C136,OFFSET(Coding!$L$7,0,0,AuthorityCounter,2),2,FALSE))","v":"uu"},"Stoke-on-Trent City Council"]
[null,{"$f":"IF(ISERROR(VLOOKUP(C137,OFFSET(Coding!$L$7,0,0,AuthorityCounter2,11),11,FALSE)),\"\",VLOOKUP(C137,OFFSET(Coding!$L$7,0,0,AuthorityCounter2,11),11,FALSE))","v":""},{"$f":"IF(ROW()-34>AuthNo,\"na\",Coding!AR109)","v":"Suffolk"},{"$f":"IF(C137=\"\",\"\",VLOOKUP(C137,OFFSET(Coding!$L$7,0,0,AuthorityCounter,11),11,FALSE))","v":""},null,{"$f":"IF(C137=\"\",\"\",TEXT(VLOOKUP(C137,OFFSET(Coding!$L$7,0,0,AuthorityCounter,4),4,FALSE),OFFSET(Coding!$IU$2,MAX(Coding!$G$38-2,0),0)))","v":"48"},{"$f":"IF(C137=\"\",\"\",VLOOKUP(C137,OFFSET(Coding!$L$7,0,0,AuthorityCounter,2),2,FALSE))","v":"c"},"Suffolk County Council"]
[null,{"$f":"IF(ISERROR(VLOOKUP(C138,OFFSET(Coding!$L$7,0,0,AuthorityCounter2,11),11,FALSE)),\"\",VLOOKUP(C138,OFFSET(Coding!$L$7,0,0,AuthorityCounter2,11),11,FALSE))","v":""},{"$f":"IF(ROW()-34>AuthNo,\"na\",Coding!AR110)","v":"Surrey"},{"$f":"IF(C138=\"\",\"\",VLOOKUP(C138,OFFSET(Coding!$L$7,0,0,AuthorityCounter,11),11,FALSE))","v":""},null,{"$f":"IF(C138=\"\",\"\",TEXT(VLOOKUP(C138,OFFSET(Coding!$L$7,0,0,AuthorityCounter,4),4,FALSE),OFFSET(Coding!$IU$2,MAX(Coding!$G$38-2,0),0)))","v":"53"},{"$f":"IF(C138=\"\",\"\",VLOOKUP(C138,OFFSET(Coding!$L$7,0,0,AuthorityCounter,2),2,FALSE))","v":"c"},"Surrey County Council"]
[null,{"$f":"IF(ISERROR(VLOOKUP(C139,OFFSET(Coding!$L$7,0,0,AuthorityCounter2,11),11,FALSE)),\"\",VLOOKUP(C139,OFFSET(Coding!$L$7,0,0,AuthorityCounter2,11),11,FALSE))","v":""},{"$f":"IF(ROW()-34>AuthNo,\"na\",Coding!AR111)","v":"Sutton"},{"$f":"IF(C139=\"\",\"\",VLOOKUP(C139,OFFSET(Coding!$L$7,0,0,AuthorityCounter,11),11,FALSE))","v":""},null,{"$f":"IF(C139=\"\",\"\",TEXT(VLOOKUP(C139,OFFSET(Coding!$L$7,0,0,AuthorityCounter,4),4,FALSE),OFFSET(Coding!$IU$2,MAX(Coding!$G$38-2,0),0)))","v":"8"},{"$f":"IF(C139=\"\",\"\",VLOOKUP(C139,OFFSET(Coding!$L$7,0,0,AuthorityCounter,2),2,FALSE))","v":"ul"},"London Borough of Sutton"]
[null,{"$f":"IF(ISERROR(VLOOKUP(C140,OFFSET(Coding!$L$7,0,0,AuthorityCounter2,11),11,FALSE)),\"\",VLOOKUP(C140,OFFSET(Coding!$L$7,0,0,AuthorityCounter2,11),11,FALSE))","v":""},{"$f":"IF(ROW()-34>AuthNo,\"na\",Coding!AR112)","v":"Swindon"},{"$f":"IF(C140=\"\",\"\",VLOOKUP(C140,OFFSET(Coding!$L$7,0,0,AuthorityCounter,11),11,FALSE))","v":""},null,{"$f":"IF(C140=\"\",\"\",TEXT(VLOOKUP(C140,OFFSET(Coding!$L$7,0,0,AuthorityCounter,4),4,FALSE),OFFSET(Coding!$IU$2,MAX(Coding!$G$38-2,0),0)))","v":"5"},{"$f":"IF(C140=\"\",\"\",VLOOKUP(C140,OFFSET(Coding!$L$7,0,0,AuthorityCounter,2),2,FALSE))","v":"uu"},"Swindon Borough Council"]
[null,{"$f":"IF(ISERROR(VLOOKUP(C141,OFFSET(Coding!$L$7,0,0,AuthorityCounter2,11),11,FALSE)),\"\",VLOOKUP(C141,OFFSET(Coding!$L$7,0,0,AuthorityCounter2,11),11,FALSE))","v":""},{"$f":"IF(ROW()-34>AuthNo,\"na\",Coding!AR113)","v":"Tameside"},{"$f":"IF(C141=\"\",\"\",VLOOKUP(C141,OFFSET(Coding!$L$7,0,0,AuthorityCounter,11),11,FALSE))","v":""},null,{"$f":"IF(C141=\"\",\"\",TEXT(VLOOKUP(C141,OFFSET(Coding!$L$7,0,0,AuthorityCounter,4),4,FALSE),OFFSET(Coding!$IU$2,MAX(Coding!$G$38-2,0),0)))","v":"8"},{"$f":"IF(C141=\"\",\"\",VLOOKUP(C141,OFFSET(Coding!$L$7,0,0,AuthorityCounter,2),2,FALSE))","v":"um"},"Tameside Metropolitan Borough Council"]
[null,{"$f":"IF(ISERROR(VLOOKUP(C142,OFFSET(Coding!$L$7,0,0,AuthorityCounter2,11),11,FALSE)),\"\",VLOOKUP(C142,OFFSET(Coding!$L$7,0,0,AuthorityCounter2,11),11,FALSE))","v":""},{"$f":"IF(ROW()-34>AuthNo,\"na\",Coding!AR114)","v":"Telford & Wrekin"},{"$f":"IF(C142=\"\",\"\",VLOOKUP(C142,OFFSET(Coding!$L$7,0,0,AuthorityCounter,11),11,FALSE))","v":""},null,{"$f":"IF(C142=\"\",\"\",TEXT(VLOOKUP(C142,OFFSET(Coding!$L$7,0,0,AuthorityCounter,4),4,FALSE),OFFSET(Coding!$IU$2,MAX(Coding!$G$38-2,0),0)))","v":"9"},{"$f":"IF(C142=\"\",\"\",VLOOKUP(C142,OFFSET(Coding!$L$7,0,0,AuthorityCounter,2),2,FALSE))","v":"uu"},"Telford & Wrekin Council"]
[null,{"$f":"IF(ISERROR(VLOOKUP(C143,OFFSET(Coding!$L$7,0,0,AuthorityCounter2,11),11,FALSE)),\"\",VLOOKUP(C143,OFFSET(Coding!$L$7,0,0,AuthorityCounter2,11),11,FALSE))","v":""},{"$f":"IF(ROW()-34>AuthNo,\"na\",Coding!AR115)","v":"Thurrock"},{"$f":"IF(C143=\"\",\"\",VLOOKUP(C143,OFFSET(Coding!$L$7,0,0,AuthorityCounter,11),11,FALSE))","v":""},null,{"$f":"IF(C143=\"\",\"\",TEXT(VLOOKUP(C143,OFFSET(Coding!$L$7,0,0,AuthorityCounter,4),4,FALSE),OFFSET(Coding!$IU$2,MAX(Coding!$G$38-2,0),0)))","v":"10"},{"$f":"IF(C143=\"\",\"\",VLOOKUP(C143,OFFSET(Coding!$L$7,0,0,AuthorityCounter,2),2,FALSE))","v":"uu"},"Thurrock Borough Council"]
[null,{"$f":"IF(ISERROR(VLOOKUP(C144,OFFSET(Coding!$L$7,0,0,AuthorityCounter2,11),11,FALSE)),\"\",VLOOKUP(C144,OFFSET(Coding!$L$7,0,0,AuthorityCounter2,11),11,FALSE))","v":""},{"$f":"IF(ROW()-34>AuthNo,\"na\",Coding!AR116)","v":"Torbay"},{"$f":"IF(C144=\"\",\"\",VLOOKUP(C144,OFFSET(Coding!$L$7,0,0,AuthorityCounter,11),11,FALSE))","v":""},null,{"$f":"IF(C144=\"\",\"\",TEXT(VLOOKUP(C144,OFFSET(Coding!$L$7,0,0,AuthorityCounter,4),4,FALSE),OFFSET(Coding!$IU$2,MAX(Coding!$G$38-2,0),0)))","v":"4"},{"$f":"IF(C144=\"\",\"\",VLOOKUP(C144,OFFSET(Coding!$L$7,0,0,AuthorityCounter,2),2,FALSE))","v":"uu"},"Torbay Council"]
[null,{"$f":"IF(ISERROR(VLOOKUP(C145,OFFSET(Coding!$L$7,0,0,AuthorityCounter2,11),11,FALSE)),\"\",VLOOKUP(C145,OFFSET(Coding!$L$7,0,0,AuthorityCounter2,11),11,FALSE))","v":""},{"$f":"IF(ROW()-34>AuthNo,\"na\",Coding!AR117)","v":"Tower Hamlets"},{"$f":"IF(C145=\"\",\"\",VLOOKUP(C145,OFFSET(Coding!$L$7,0,0,AuthorityCounter,11),11,FALSE))","v":""},null,{"$f":"IF(C145=\"\",\"\",TEXT(VLOOKUP(C145,OFFSET(Coding!$L$7,0,0,AuthorityCounter,4),4,FALSE),OFFSET(Coding!$IU$2,MAX(Coding!$G$38-2,0),0)))","v":"8"},{"$f":"IF(C145=\"\",\"\",VLOOKUP(C145,OFFSET(Coding!$L$7,0,0,AuthorityCounter,2),2,FALSE))","v":"ul"},"London Borough of Tower Hamlets"]
[null,{"$f":"IF(ISERROR(VLOOKUP(C146,OFFSET(Coding!$L$7,0,0,AuthorityCounter2,11),11,FALSE)),\"\",VLOOKUP(C146,OFFSET(Coding!$L$7,0,0,AuthorityCounter2,11),11,FALSE))","v":""},{"$f":"IF(ROW()-34>AuthNo,\"na\",Coding!AR118)","v":"Trafford"},{"$f":"IF(C146=\"\",\"\",VLOOKUP(C146,OFFSET(Coding!$L$7,0,0,AuthorityCounter,11),11,FALSE))","v":""},null,{"$f":"IF(C146=\"\",\"\",TEXT(VLOOKUP(C146,OFFSET(Coding!$L$7,0,0,AuthorityCounter,4),4,FALSE),OFFSET(Coding!$IU$2,MAX(Coding!$G$38-2,0),0)))","v":"11"},{"$f":"IF(C146=\"\",\"\",VLOOKUP(C146,OFFSET(Coding!$L$7,0,0,AuthorityCounter,2),2,FALSE))","v":"um"},"Trafford Metropolitan Borough Council"]
[null,{"$f":"IF(ISERROR(VLOOKUP(C147,OFFSET(Coding!$L$7,0,0,AuthorityCounter2,11),11,FALSE)),\"\",VLOOKUP(C147,OFFSET(Coding!$L$7,0,0,AuthorityCounter2,11),11,FALSE))","v":""},{"$f":"IF(ROW()-34>AuthNo,\"na\",Coding!AR119)","v":"Waltham Forest"},{"$f":"IF(C147=\"\",\"\",VLOOKUP(C147,OFFSET(Coding!$L$7,0,0,AuthorityCounter,11),11,FALSE))","v":""},null,{"$f":"IF(C147=\"\",\"\",TEXT(VLOOKUP(C147,OFFSET(Coding!$L$7,0,0,AuthorityCounter,4),4,FALSE),OFFSET(Coding!$IU$2,MAX(Coding!$G$38-2,0),0)))","v":"9"},{"$f":"IF(C147=\"\",\"\",VLOOKUP(C147,OFFSET(Coding!$L$7,0,0,AuthorityCounter,2),2,FALSE))","v":"ul"},"London Borough of Waltham Forest"]
[null,{"$f":"IF(ISERROR(VLOOKUP(C148,OFFSET(Coding!$L$7,0,0,AuthorityCounter2,11),11,FALSE)),\"\",VLOOKUP(C148,OFFSET(Coding!$L$7,0,0,AuthorityCounter2,11),11,FALSE))","v":""},{"$f":"IF(ROW()-34>AuthNo,\"na\",Coding!AR120)","v":"Wandsworth"},{"$f":"IF(C148=\"\",\"\",VLOOKUP(C148,OFFSET(Coding!$L$7,0,0,AuthorityCounter,11),11,FALSE))","v":""},null,{"$f":"IF(C148=\"\",\"\",TEXT(VLOOKUP(C148,OFFSET(Coding!$L$7,0,0,AuthorityCounter,4),4,FALSE),OFFSET(Coding!$IU$2,MAX(Coding!$G$38-2,0),0)))","v":"11"},{"$f":"IF(C148=\"\",\"\",VLOOKUP(C148,OFFSET(Coding!$L$7,0,0,AuthorityCounter,2),2,FALSE))","v":"ul"},"London Borough of Wandsworth"]
[null,{"$f":"IF(ISERROR(VLOOKUP(C149,OFFSET(Coding!$L$7,0,0,AuthorityCounter2,11),11,FALSE)),\"\",VLOOKUP(C149,OFFSET(Coding!$L$7,0,0,AuthorityCounter2,11),11,FALSE))","v":""},{"$f":"IF(ROW()-34>AuthNo,\"na\",Coding!AR121)","v":"Warrington"},{"$f":"IF(C149=\"\",\"\",VLOOKUP(C149,OFFSET(Coding!$L$7,0,0,AuthorityCounter,11),11,FALSE))","v":""},null,{"$f":"IF(C149=\"\",\"\",TEXT(VLOOKUP(C149,OFFSET(Coding!$L$7,0,0,AuthorityCounter,4),4,FALSE),OFFSET(Coding!$IU$2,MAX(Coding!$G$38-2,0),0)))","v":"12"},{"$f":"IF(C149=\"\",\"\",VLOOKUP(C149,OFFSET(Coding!$L$7,0,0,AuthorityCounter,2),2,FALSE))","v":"uu"},"Warrington Borough Council"]
[null,{"$f":"IF(ISERROR(VLOOKUP(C150,OFFSET(Coding!$L$7,0,0,AuthorityCounter2,11),11,FALSE)),\"\",VLOOKUP(C150,OFFSET(Coding!$L$7,0,0,AuthorityCounter2,11),11,FALSE))","v":""},{"$f":"IF(ROW()-34>AuthNo,\"na\",Coding!AR122)","v":"Warwickshire"},{"$f":"IF(C150=\"\",\"\",VLOOKUP(C150,OFFSET(Coding!$L$7,0,0,AuthorityCounter,11),11,FALSE))","v":""},null,{"$f":"IF(C150=\"\",\"\",TEXT(VLOOKUP(C150,OFFSET(Coding!$L$7,0,0,AuthorityCounter,4),4,FALSE),OFFSET(Coding!$IU$2,MAX(Coding!$G$38-2,0),0)))","v":"22"},{"$f":"IF(C150=\"\",\"\",VLOOKUP(C150,OFFSET(Coding!$L$7,0,0,AuthorityCounter,2),2,FALSE))","v":"c"},"Warwickshire County Council"]
[null,{"$f":"IF(ISERROR(VLOOKUP(C151,OFFSET(Coding!$L$7,0,0,AuthorityCounter2,11),11,FALSE)),\"\",VLOOKUP(C151,OFFSET(Coding!$L$7,0,0,AuthorityCounter2,11),11,FALSE))","v":""},{"$f":"IF(ROW()-34>AuthNo,\"na\",Coding!AR123)","v":"West Berkshire"},{"$f":"IF(C151=\"\",\"\",VLOOKUP(C151,OFFSET(Coding!$L$7,0,0,AuthorityCounter,11),11,FALSE))","v":""},null,{"$f":"IF(C151=\"\",\"\",TEXT(VLOOKUP(C151,OFFSET(Coding!$L$7,0,0,AuthorityCounter,4),4,FALSE),OFFSET(Coding!$IU$2,MAX(Coding!$G$38-2,0),0)))","v":"9"},{"$f":"IF(C151=\"\",\"\",VLOOKUP(C151,OFFSET(Coding!$L$7,0,0,AuthorityCounter,2),2,FALSE))","v":"uu"},"West Berkshire Council"]
[null,{"$f":"IF(ISERROR(VLOOKUP(C152,OFFSET(Coding!$L$7,0,0,AuthorityCounter2,11),11,FALSE)),\"\",VLOOKUP(C152,OFFSET(Coding!$L$7,0,0,AuthorityCounter2,11),11,FALSE))","v":""},{"$f":"IF(ROW()-34>AuthNo,\"na\",Coding!AR124)","v":"West Sussex"},{"$f":"IF(C152=\"\",\"\",VLOOKUP(C152,OFFSET(Coding!$L$7,0,0,AuthorityCounter,11),11,FALSE))","v":""},null,{"$f":"IF(C152=\"\",\"\",TEXT(VLOOKUP(C152,OFFSET(Coding!$L$7,0,0,AuthorityCounter,4),4,FALSE),OFFSET(Coding!$IU$2,MAX(Coding!$G$38-2,0),0)))","v":"38"},{"$f":"IF(C152=\"\",\"\",VLOOKUP(C152,OFFSET(Coding!$L$7,0,0,AuthorityCounter,2),2,FALSE))","v":"c"},"West Sussex County Council"]
[null,{"$f":"IF(ISERROR(VLOOKUP(C153,OFFSET(Coding!$L$7,0,0,AuthorityCounter2,11),11,FALSE)),\"\",VLOOKUP(C153,OFFSET(Coding!$L$7,0,0,AuthorityCounter2,11),11,FALSE))","v":""},{"$f":"IF(ROW()-34>AuthNo,\"na\",Coding!AR125)","v":"Westminster"},{"$f":"IF(C153=\"\",\"\",VLOOKUP(C153,OFFSET(Coding!$L$7,0,0,AuthorityCounter,11),11,FALSE))","v":""},null,{"$f":"IF(C153=\"\",\"\",TEXT(VLOOKUP(C153,OFFSET(Coding!$L$7,0,0,AuthorityCounter,4),4,FALSE),OFFSET(Coding!$IU$2,MAX(Coding!$G$38-2,0),0)))","v":"11"},{"$f":"IF(C153=\"\",\"\",VLOOKUP(C153,OFFSET(Coding!$L$7,0,0,AuthorityCounter,2),2,FALSE))","v":"ul"},"Westminster City Council"]
[null,{"$f":"IF(ISERROR(VLOOKUP(C154,OFFSET(Coding!$L$7,0,0,AuthorityCounter2,11),11,FALSE)),\"\",VLOOKUP(C154,OFFSET(Coding!$L$7,0,0,AuthorityCounter2,11),11,FALSE))","v":""},{"$f":"IF(ROW()-34>AuthNo,\"na\",Coding!AR126)","v":"Wiltshire"},{"$f":"IF(C154=\"\",\"\",VLOOKUP(C154,OFFSET(Coding!$L$7,0,0,AuthorityCounter,11),11,FALSE))","v":""},null,{"$f":"IF(C154=\"\",\"\",TEXT(VLOOKUP(C154,OFFSET(Coding!$L$7,0,0,AuthorityCounter,4),4,FALSE),OFFSET(Coding!$IU$2,MAX(Coding!$G$38-2,0),0)))","v":"34"},{"$f":"IF(C154=\"\",\"\",VLOOKUP(C154,OFFSET(Coding!$L$7,0,0,AuthorityCounter,2),2,FALSE))","v":"uu"},"Wiltshire Council"]
[null,{"$f":"IF(ISERROR(VLOOKUP(C155,OFFSET(Coding!$L$7,0,0,AuthorityCounter2,11),11,FALSE)),\"\",VLOOKUP(C155,OFFSET(Coding!$L$7,0,0,AuthorityCounter2,11),11,FALSE))","v":""},{"$f":"IF(ROW()-34>AuthNo,\"na\",Coding!AR127)","v":"Windsor & Maidenhead"},{"$f":"IF(C155=\"\",\"\",VLOOKUP(C155,OFFSET(Coding!$L$7,0,0,AuthorityCounter,11),11,FALSE))","v":""},null,{"$f":"IF(C155=\"\",\"\",TEXT(VLOOKUP(C155,OFFSET(Coding!$L$7,0,0,AuthorityCounter,4),4,FALSE),OFFSET(Coding!$IU$2,MAX(Coding!$G$38-2,0),0)))","v":"18"},{"$f":"IF(C155=\"\",\"\",VLOOKUP(C155,OFFSET(Coding!$L$7,0,0,AuthorityCounter,2),2,FALSE))","v":"uu"},"Royal Borough of Windsor & Maidenhead"]
[null,{"$f":"IF(ISERROR(VLOOKUP(C156,OFFSET(Coding!$L$7,0,0,AuthorityCounter2,11),11,FALSE)),\"\",VLOOKUP(C156,OFFSET(Coding!$L$7,0,0,AuthorityCounter2,11),11,FALSE))","v":""},{"$f":"IF(ROW()-34>AuthNo,\"na\",Coding!AR128)","v":"Wirral"},{"$f":"IF(C156=\"\",\"\",VLOOKUP(C156,OFFSET(Coding!$L$7,0,0,AuthorityCounter,11),11,FALSE))","v":""},null,{"$f":"IF(C156=\"\",\"\",TEXT(VLOOKUP(C156,OFFSET(Coding!$L$7,0,0,AuthorityCounter,4),4,FALSE),OFFSET(Coding!$IU$2,MAX(Coding!$G$38-2,0),0)))","v":"24"},{"$f":"IF(C156=\"\",\"\",VLOOKUP(C156,OFFSET(Coding!$L$7,0,0,AuthorityCounter,2),2,FALSE))","v":"um"},"Metropolitan Borough of Wirral"]
[null,{"$f":"IF(ISERROR(VLOOKUP(C157,OFFSET(Coding!$L$7,0,0,AuthorityCounter2,11),11,FALSE)),\"\",VLOOKUP(C157,OFFSET(Coding!$L$7,0,0,AuthorityCounter2,11),11,FALSE))","v":""},{"$f":"IF(ROW()-34>AuthNo,\"na\",Coding!AR129)","v":"Wolverhampton"},{"$f":"IF(C157=\"\",\"\",VLOOKUP(C157,OFFSET(Coding!$L$7,0,0,AuthorityCounter,11),11,FALSE))","v":""},null,{"$f":"IF(C157=\"\",\"\",TEXT(VLOOKUP(C157,OFFSET(Coding!$L$7,0,0,AuthorityCounter,4),4,FALSE),OFFSET(Coding!$IU$2,MAX(Coding!$G$38-2,0),0)))","v":"16"},{"$f":"IF(C157=\"\",\"\",VLOOKUP(C157,OFFSET(Coding!$L$7,0,0,AuthorityCounter,2),2,FALSE))","v":"um"},"Wolverhampton City Council"]
[null,{"$f":"IF(ISERROR(VLOOKUP(C158,OFFSET(Coding!$L$7,0,0,AuthorityCounter2,11),11,FALSE)),\"\",VLOOKUP(C158,OFFSET(Coding!$L$7,0,0,AuthorityCounter2,11),11,FALSE))","v":""},{"$f":"IF(ROW()-34>AuthNo,\"na\",Coding!AR130)","v":"Worcestershire"},{"$f":"IF(C158=\"\",\"\",VLOOKUP(C158,OFFSET(Coding!$L$7,0,0,AuthorityCounter,11),11,FALSE))","v":""},null,{"$f":"IF(C158=\"\",\"\",TEXT(VLOOKUP(C158,OFFSET(Coding!$L$7,0,0,AuthorityCounter,4),4,FALSE),OFFSET(Coding!$IU$2,MAX(Coding!$G$38-2,0),0)))","v":"24"},{"$f":"IF(C158=\"\",\"\",VLOOKUP(C158,OFFSET(Coding!$L$7,0,0,AuthorityCounter,2),2,FALSE))","v":"c"},"Worcestershire County Council"]
[null,{"$f":"IF(ISERROR(VLOOKUP(C159,OFFSET(Coding!$L$7,0,0,AuthorityCounter2,11),11,FALSE)),\"\",VLOOKUP(C159,OFFSET(Coding!$L$7,0,0,AuthorityCounter2,11),11,FALSE))","v":""},{"$f":"IF(ROW()-34>AuthNo,\"na\",Coding!AR131)","v":"York"},{"$f":"IF(C159=\"\",\"\",VLOOKUP(C159,OFFSET(Coding!$L$7,0,0,AuthorityCounter,11),11,FALSE))","v":""},null,{"$f":"IF(C159=\"\",\"\",TEXT(VLOOKUP(C159,OFFSET(Coding!$L$7,0,0,AuthorityCounter,4),4,FALSE),OFFSET(Coding!$IU$2,MAX(Coding!$G$38-2,0),0)))","v":"17"},{"$f":"IF(C159=\"\",\"\",VLOOKUP(C159,OFFSET(Coding!$L$7,0,0,AuthorityCounter,2),2,FALSE))","v":"uu"},"City of York Council"]

{"sheet":"Coding","index":2,"n_rows":1339,"n_cols":256,"rows_kept":1339,"cut":false,"hidden":true,"merged":[[3,27,3,28]]}
["ChartTinfo",-1,-1,"Page Number","--- Please Select ---",null,null,null,null,null,null,null,null,null,null,null,null,null,null,null,null,null,null,null,"Check against current chartforms & test - black bars tend to be on wrong side.",null,null,null,null,null,null,null,null,null,null,null,null,null,null,null,null,null,null,null,null,null,null,null,null,null,null,null,null,null,null,null,null,null,null,null,null,null,null,null,null,null,null,null,null,null,null,null,null,null,null,null,null,null,null,null,null,null,null,null,null,null,null,null,null,null,null,null,null,null,null,null,null,null,null,null,null,null,null,null,null,null,null,null,null,null,null,null,null,null,null,null,null,null,null,null,null,null,null,null,null,null,null,null,null,null,null,null,null,null,null,null,null,null,null,null,null,null,null,null,null,null,null,null,null,null,null,null,null,null,null,null,null,null,null,null,null,null,null,null,null,null,null,null,null,null,null,null,null,null,null,null,null,null,null,null,null,null,null,null,null,null,null,null,null,null,null,null,null,null,null,null,null,null,null,null,null,null,null,null,null,null,null,null,null,null,null,null,null,null,null,null,null,null,null,null,null,null,null,null,null,null,null,null,null,null,null,null,null,null,null,null,null,null,null,null,null,null,null,null,null,null,null,null,null,null,null,null,null,"--- Please Select ---","TABLE","CHARTS"]
["(P.02)[01]Total Service Points",0,0,8,{"$f":"\"Page \"&D2&\": \" &RIGHT(A2,LEN(A2)-10)","v":"Page 8: Total Service Points"},null,null,null,"Authority Counter:  ",{"$f":"G404","v":125},null,"DATA PROCESSING BLOCK FOR CHARTS",null,null,null,null,null,null,null,null,null,null,null,null,null,null,"Black Bar: ",{"$f":"IF(Coding!G74=1,\"\",INDEX(OFFSET($O$6,0,0,AuthorityCounter2+1,6),Coding!G74,6))","v":""},"Letter",null,"SORTER PROCESSING FOR TABLE UNDER DATABASE",null,null,null,null,null,null,null,null,null,null,null,null,null,null,null,null,null,null,null,null,null,null,null,null,null,null,null,null,null,null,null,null,null,null,null,null,null,null,null,null,null,null,null,null,null,null,null,null,null,null,null,null,null,null,null,null,null,null,null,null,null,null,null,null,null,null,null,null,null,null,null,null,null,null,null,null,null,null,null,null,null,null,null,null,null,null,null,null,null,null,null,null,null,null,null,null,null,null,null,null,null,null,null,null,null,null,null,null,null,null,null,null,null,null,null,null,null,null,null,null,null,null,null,null,null,null,null,null,null,null,null,null,null,null,null,null,null,null,null,null,null,null,null,null,null,null,null,null,null,null,null,null,null,null,null,null,null,null,null,null,null,null,null,null,null,null,null,null,null,null,null,null,null,null,null,null,null,null,null,null,null,null,null,null,null,null,null,null,null,null,null,null,null,null,null,null,null,null,null,null,null,null,null,null,null,null,null,null,null,null,null,null,null,null,null,null,null,null,null,null,null,null,"Page 1: Total Service Points","#,##0",{"$f":"AB7","v":0}]
["(P.02)[02]Total Service Points per 100,000 population",0,1,{"$f":"D2--OR(B3<>B2,LEFT(A3,5)<>LEFT(A2,5))","v":8},{"$f":"\"Page \"&D3&\": \" &RIGHT(A3,LEN(A3)-10)","v":"Page 8: Total Service Points per 100,000 population"},null,null,null,"Charts counter:  ",{"$f":"G403","v":118},null,null,null,null,null,null,null,null,null,null,null,null,null,null,null,null,"Average: ",{"$f":"AVERAGE(OFFSET(Y7,0,0,Coding!J6,1))","v":18.650406504065042},{"$f":"INDEX(V6:V360,Coding!G74)","v":"Letters"},null,null,null,null,null,null,null,null,null,null,null,null,null,null,null,null,null,null,null,null,null,null,null,null,null,null,null,null,null,null,null,null,null,null,null,null,null,null,null,null,null,null,null,null,null,null,null,null,null,null,null,null,null,null,null,null,null,null,null,null,null,null,null,null,null,null,null,null,null,null,null,null,null,null,null,null,null,null,null,null,null,null,null,null,null,null,null,null,null,null,null,null,null,null,null,null,null,null,null,null,null,null,null,null,null,null,null,null,null,null,null,null,null,null,null,null,null,null,null,null,null,null,null,null,null,null,null,null,null,null,null,null,null,null,null,null,null,null,null,null,null,null,null,null,null,null,null,null,null,null,null,null,null,null,null,null,null,null,null,null,null,null,null,null,null,null,null,null,null,null,null,null,null,null,null,null,null,null,null,null,null,null,null,null,null,null,null,null,null,null,null,null,null,null,null,null,null,null,null,null,null,null,null,null,null,null,null,null,null,null,null,null,null,null,null,null,null,null,null,null,null,null,null,null,"Page 1: Total Service Points per 100,000 population","#,##0",{"$f":"AB7","v":0}]
["(P.02)[03]Issues per annum",0,2,{"$f":"D3--OR(B4<>B3,LEFT(A4,5)<>LEFT(A3,5))","v":8},{"$f":"\"Page \"&D4&\": \" &RIGHT(A4,LEN(A4)-10)","v":"Page 8: Issues per annum"},null,null,null,"Authorities in Group:  ",{"$f":"IF($H$75=\"OC\",COUNTIF(OFFSET($R$7,0,0,AuthorityCounter2,1),1),COUNTIF(OFFSET($P$7,0,0,AuthorityCounter2,1),1))","v":125},null,"Authority Details:",null,null,"Data Selection:",null,null,null,null,null,null,"Letters:",null,null,"Chart Data:",null,"Title: ",{"$f":"IF($G$38=1,\"Please use drop down list below to select graph\",RIGHT(OFFSET(A1,G38-1,0),LEN(OFFSET(A1,G38-1,0))-10))","v":"Total Service Points"},null,null,"1 = Auth, 2 = Tier, 3 = Data",null,null,null,null,null,null,null,null,null,null,null,null,null,null,null,null,null,null,null,null,null,null,null,null,null,null,null,null,null,null,null,null,null,null,null,null,null,null,null,null,null,null,null,null,null,null,null,null,null,null,null,null,null,null,null,null,null,null,null,null,null,null,null,null,null,null,null,null,null,null,null,null,null,null,null,null,null,null,null,null,null,null,null,null,null,null,null,null,null,null,null,null,null,null,null,null,null,null,null,null,null,null,null,null,null,null,null,null,null,null,null,null,null,null,null,null,null,null,null,null,null,null,null,null,null,null,null,null,null,null,null,null,null,null,null,null,null,null,null,null,null,null,null,null,null,null,null,null,null,null,null,null,null,null,null,null,null,null,null,null,null,null,null,null,null,null,null,null,null,null,null,null,null,null,null,null,null,null,null,null,null,null,null,null,null,null,null,null,null,null,null,null,null,null,null,null,null,null,null,null,null,null,null,null,null,null,null,null,null,null,null,null,null,null,null,null,null,null,null,null,null,null,"Page 1: Issues per annum","#,##0",{"$f":"AB7","v":0}]
["(P.02)[04]Visits per annum",0,3,8,"Page 8: Visits per annum",null,null,null,null,null,null,null,null,null,null,null,null,null,null,null,null,null,null,null,null,null,null,null,null,null,null,null,null,null,null,null,null,null,null,null,null,true,{"$f":"354-COUNTIF(AQ7:AQ360,\"\")-COUNTIF(AQ7:AQ360,\"0\")","v":125},null,null,null,"UPDATE THESE IF DIFFERENT:",null,null,null,null,null,null,null,null,null,null,null,null,null,null,null,null,null,null,null,null,null,null,null,null,null,null,null,null,null,null,null,null,null,null,null,null,null,null,null,null,null,null,null,null,null,null,null,null,null,null,null,null,null,null,null,null,null,null,null,null,null,null,null,null,null,null,null,null,null,null,null,null,null,null,null,null,null,null,null,null,null,null,null,null,null,null,null,null,null,null,null,null,null,null,null,null,null,null,null,null,null,null,null,null,null,null,null,null,null,null,null,null,null,null,null,null,null,null,null,null,null,null,null,null,null,null,null,null,null,null,null,null,null,null,null,null,null,null,null,null,null,null,null,null,null,null,null,null,null,null,null,null,null,null,null,null,null,null,null,null,null,null,null,null,null,null,null,null,null,null,null,null,null,null,null,null,null,null,null,null,null,null,null,null,null,null,null,null,null,null,null,null,null,null,null,null,null,null,null,null,null,null,null,null,null,null,"Page 1: Visits per annum","#,##0",{"$f":"AB7","v":0}]
["(P.03)[01]Percentage of total scheduled opening hours per week staffed",0,4,9,"Page 9: Percentage of total scheduled opening hours per week staffed",null,null,null,"Authorities on Graph:  ",{"$f":"SUMIF(OFFSET(Coding!$S$7,0,0,AuthorityCounter2,1),\"<>0\",OFFSET($S$7,0,0,AuthorityCounter2,1))","v":125},null,"--- Please Select ---","Tier",null,"Initial Data","Group","Manual","OC","Criteria","Chart Data",null,"Letters",null,null,"Ordered","Letter","Average","Black","Bars",null,1,null,null,null,"U(prev col)",null,null,null,0,"Group Selected",null,null,"Auth for table","U(prev col)",null,null,"Year:",2019,null,null,null,null,null,null,null,null,null,null,null,null,null,null,null,null,null,null,null,null,null,null,null,null,null,null,null,null,null,null,null,null,null,null,null,null,null,null,null,null,null,null,null,null,null,null,null,null,null,null,null,null,null,null,null,null,null,null,null,null,null,null,null,null,null,null,null,null,null,null,null,null,null,null,null,null,null,null,null,null,null,null,null,null,null,null,null,null,null,null,null,null,null,null,null,null,null,null,null,null,null,null,null,null,null,null,null,null,null,null,null,null,null,null,null,null,null,null,null,null,null,null,null,null,null,null,null,null,null,null,null,null,null,null,null,null,null,null,null,null,null,null,null,null,null,null,null,null,null,null,null,null,null,null,null,null,null,null,null,null,null,null,null,null,null,null,null,null,null,null,null,null,null,null,null,null,null,null,null,null,null,null,null,null,null,null,null,null,null,null,null,null,null,null,null,null,null,null,null,null,null,null,null,null,null,"Page 2: Percentage of total scheduled opening hours per week staffed","0%",{"$f":"AB7","v":0}]
["(P.03)[02]Percentage of total scheduled opening hours per week unstaffed",0,5,9,"Page 9: Percentage of total scheduled opening hours per week unstaffed",null,null,null,"Show only selected Authorities tickbox:  ",false,null,{"$f":"IF((ROW()-6)<=AuthorityCounter,OFFSET($D$409,ROW()-6,0),\"\")","v":"Barking & Dagenham"},{"$f":"IF((ROW()-6)<=AuthorityCounter,OFFSET($F$409,ROW()-6,0),\"\")","v":"ul"},null,{"$f":"IF(ISNUMBER(--OFFSET($D$409,(ROW()-6)+$G$39+AuthorityCounter+5,$G$40)),OFFSET($D$409,(ROW()-6)+$G$39+AuthorityCounter+5,$G$40),\"na\")","v":6},{"$f":"IF((ROW()-5=$G$36),1,IF((M7=Coding!$H$75)+(Coding!$H$75=\"ALL\")+(Coding!$H$75=\"U\")*OR(M7=\"W\",M7=\"su\",M7=\"L\",M7=\"MD\",M7=\"UA\")+(Coding!$H$75=\"na\")*AND(M7<>\"W\",M7<>\"su\",M7<>\"L\",M7<>\"MD\",M7<>\"UA\",M7<>\"SC\",M7<>\"SD\",M7<>\"p\"),1,0))","v":1},false,{"$f":"IF(OR(NOT(ISERROR(MATCH(L7,OFFSET($H$410,$G$36-2,0,1,18),FALSE))),$G$75=L7),1,0+(($G$36=1)*($H$75=\"OC\")))","v":0},{"$f":"IF((ROW()-5=$G$36),1,IF($H$75=\"OC\",IF(NOT($J$10)+Q7,R7,0),IF(NOT($J$10)+Q7,P7,0)))","v":1},{"$f":"IF(S7=1,O7,\"not selected\")","v":6},null,{"$f":"IF((S7=1)*($J$6<22),INDEX($J$13:$J$33,SUM($S$7:S7),1),\"\")","v":""},{"$f":"COUNTIF($T$7:T7,T7)","v":1},null,{"$f":"IF((ROW()-6-$J$8)<1,\"na\",LARGE(OFFSET($T$7,0,0,AuthorityCounter2,1),ROW()-6-$J$8))","v":"na"},{"$f":"INDEX(V:V,SUMPRODUCT((OFFSET($T$7,0,0,AuthorityCounter2,1)=Y7)*1,(OFFSET($W$7,0,0,AuthorityCounter2,1)=COUNTIF($Y$7:Y7,Y7))*1,ROW(OFFSET($W$7,0,0,AuthorityCounter2,1))))","v":""},{"$f":"AB$3","v":18.650406504065042},{"$f":"IF((Y7=AB$2)*(Z7=AC$3)*(SUM($AB$6:AB6)=0),+Y7,0)","v":0},{"$f":"IF(ISNUMBER(AA7),Y7-AB7,\"na\")","v":{"$error":"#VALUE!"}},null,{"$f":"IF($AE$6=3,O7,SUM((CODE(MID(CONCATENATE(UPPER(M7),\"aaaaaaaaaa\"),{1;2},1))-30)*{1;0.01}))","v":55.46},{"$f":"COUNTIF($AE$7:$AE7,AE7)","v":1},null,{"$f":"IF($AE$6=3,LARGE(OFFSET($AE$7,0,0,AuthorityCounter2,1),ROW()-6),SMALL(OFFSET($AE$7,0,0,AuthorityCounter2,1),ROW()-6))","v":37.67},{"$f":"IF(ISERROR(AH7),\"na\",AH7)","v":37.67},{"$f":"COUNTIF($AI$7:$AI7,AI7)","v":1},{"$f":"IF($AE$6=1,L7,OFFSET($L$1,SUMPRODUCT(--(OFFSET($AE$7,0,0,AuthorityCounter,1)=AI7),--(OFFSET($AF$7,0,0,AuthorityCounter,1)=COUNTIF($AI$7:AI7,AI7)),ROW(OFFSET($AF$7,0,0,AuthorityCounter,1)))-1,0))","v":"Barking & Dagenham"},null,{"$f":"IF(VLOOKUP(AK7,colAM,IF($H$75=\"OC\",8,5),FALSE)=1,MAX(AM6:$AM$6)+1,0)","v":1},{"$f":"OFFSET($AK$1,ABS(SUMPRODUCT(--(colAN=(ROW()-6)),ROW(colAN))-1),0)","v":"Barking & Dagenham"},{"$f":"IF(AN7=0,0,VLOOKUP(AN7,colAO,6,FALSE))","v":false},{"$f":"IF($AP$5,SUM(SUMPRODUCT(--AO$7:$AO7)*AO7,(SUMPRODUCT(--(AO$7:$AO7=FALSE))+SUMPRODUCT(--colAP))*(1-AO7)),ROW()-6)","v":1},{"$f":"OFFSET($AN$6,MATCH(ROW()-6,colAQ,FALSE),0)","v":"Barking & Dagenham"},{"$f":"IF(ISERROR(AQ7),\"na\",AQ7)","v":"Barking & Dagenham"},null,null,"E-mail:","analytics@cipfa.org",null,null,null,null,null,null,null,null,null,null,null,null,null,null,null,null,null,null,null,null,null,null,null,null,null,null,null,null,null,null,null,null,null,null,null,null,null,null,null,null,null,null,null,null,null,null,null,null,null,null,null,null,null,null,null,null,null,null,null,null,null,null,null,null,null,null,null,null,null,null,null,null,null,null,null,null,null,null,null,null,null,null,null,null,null,null,null,null,null,null,null,null,null,null,null,null,null,null,null,null,null,null,null,null,null,null,null,null,null,null,null,null,null,null,null,null,null,null,null,null,null,null,null,null,null,null,null,null,null,null,null,null,null,null,null,null,null,null,null,null,null,null,null,null,null,null,null,null,null,null,null,null,null,null,null,null,null,null,null,null,null,null,null,null,null,null,null,null,null,null,null,null,null,null,null,null,null,null,null,null,null,null,null,null,null,null,null,null,null,null,null,null,null,null,null,null,null,null,null,null,null,null,null,null,null,"Page 2: Percentage of total scheduled opening hours per week unstaffed","0.0%",{"$f":"AB7","v":0}]
["(P.03)[03]Libraries Permanently closed ",0,6,9,"Page 9: Libraries Permanently closed ",null,null,null,"\"na\"s at start of Graph:  ",{"$f":"SUMPRODUCT(ISTEXT(OFFSET(T7,0,0,AuthorityCounter2,1))*1)-SUMPRODUCT((OFFSET(T7,0,0,AuthorityCounter2,1)=\"not selected\")*1)","v":2},null,"Barnet","ul",null,15,{"$f":"IF((ROW()-5=$G$36),1,IF((M8=Coding!$H$75)+(Coding!$H$75=\"ALL\")+(Coding!$H$75=\"U\")*OR(M8=\"W\",M8=\"su\",M8=\"L\",M8=\"MD\",M8=\"UA\")+(Coding!$H$75=\"na\")*AND(M8<>\"W\",M8<>\"su\",M8<>\"L\",M8<>\"MD\",M8<>\"UA\",M8<>\"SC\",M8<>\"SD\",M8<>\"p\"),1,0))","v":1},false,{"$f":"IF(OR(NOT(ISERROR(MATCH(L8,OFFSET($H$410,$G$36-2,0,1,18),FALSE))),$G$75=L8),1,0+(($G$36=1)*($H$75=\"OC\")))","v":0},1,15,null,{"$f":"IF((S8=1)*($J$6<22),INDEX($J$13:$J$33,SUM($S$7:S8),1),\"\")","v":""},{"$f":"COUNTIF($T$7:T8,T8)","v":1},null,{"$f":"IF((ROW()-6-$J$8)<1,\"na\",LARGE(OFFSET($T$7,0,0,AuthorityCounter2,1),ROW()-6-$J$8))","v":"na"},{"$f":"INDEX(V:V,SUMPRODUCT((OFFSET($T$7,0,0,AuthorityCounter2,1)=Y8)*1,(OFFSET($W$7,0,0,AuthorityCounter2,1)=COUNTIF($Y$7:Y8,Y8))*1,ROW(OFFSET($W$7,0,0,AuthorityCounter2,1))))","v":""},18.650406504065042,{"$f":"IF((Y8=AB$2)*(Z8=AC$3)*(SUM($AB$6:AB7)=0),+Y8,0)","v":0},{"$error":"#VALUE!"},null,{"$f":"IF($AE$6=3,O8,SUM((CODE(MID(CONCATENATE(UPPER(M8),\"aaaaaaaaaa\"),{1;2},1))-30)*{1;0.01}))","v":55.46},{"$f":"COUNTIF($AE$7:$AE8,AE8)","v":2},null,37.67,37.67,{"$f":"COUNTIF($AI$7:$AI8,AI8)","v":2},{"$f":"IF($AE$6=1,L8,OFFSET($L$1,SUMPRODUCT(--(OFFSET($AE$7,0,0,AuthorityCounter,1)=AI8),--(OFFSET($AF$7,0,0,AuthorityCounter,1)=COUNTIF($AI$7:AI8,AI8)),ROW(OFFSET($AF$7,0,0,AuthorityCounter,1)))-1,0))","v":"Barnet"},null,{"$f":"IF(VLOOKUP(AK8,colAM,IF($H$75=\"OC\",8,5),FALSE)=1,MAX(AM$6:$AM7)+1,0)","v":2},"Barnet",false,{"$f":"IF($AP$5,SUM(SUMPRODUCT(--AO$7:$AO8)*AO8,(SUMPRODUCT(--(AO$7:$AO8=FALSE))+SUMPRODUCT(--colAP))*(1-AO8)),ROW()-6)","v":2},"Barnet",{"$f":"IF(ISERROR(AQ8),\"na\",AQ8)","v":"Barnet"},null,null,null,null,null,null,null,null,null,null,null,null,null,null,null,null,null,null,null,null,null,null,null,null,null,null,null,null,null,null,null,null,null,null,null,null,null,null,null,null,null,null,null,null,null,null,null,null,null,null,null,null,null,null,null,null,null,null,null,null,null,null,null,null,null,null,null,null,null,null,null,null,null,null,null,null,null,null,null,null,null,null,null,null,null,null,null,null,null,null,null,null,null,null,null,null,null,null,null,null,null,null,null,null,null,null,null,null,null,null,null,null,null,null,null,null,null,null,null,null,null,null,null,null,null,null,null,null,null,null,null,null,null,null,null,null,null,null,null,null,null,null,null,null,null,null,null,null,null,null,null,null,null,null,null,null,null,null,null,null,null,null,null,null,null,null,null,null,null,null,null,null,null,null,null,null,null,null,null,null,null,null,null,null,null,null,null,null,null,null,null,null,null,null,null,null,null,null,null,null,null,null,null,null,null,null,null,null,null,"Page 2: Libraries Permanently closed ","#,##0.00",{"$f":"AB7","v":0}]
["(P.03)[04]Libraries Opened",0,7,9,"Page 9: Libraries Opened",null,null,null,"Number of Authorities Selected:  ",{"$f":"SUMPRODUCT((Q7:Q360=TRUE)*1,(P7:P360=1)*1)","v":0},null,"Bedford","uu",null,7,{"$f":"IF((ROW()-5=$G$36),1,IF((M9=Coding!$H$75)+(Coding!$H$75=\"ALL\")+(Coding!$H$75=\"U\")*OR(M9=\"W\",M9=\"su\",M9=\"L\",M9=\"MD\",M9=\"UA\")+(Coding!$H$75=\"na\")*AND(M9<>\"W\",M9<>\"su\",M9<>\"L\",M9<>\"MD\",M9<>\"UA\",M9<>\"SC\",M9<>\"SD\",M9<>\"p\"),1,0))","v":1},false,{"$f":"IF(OR(NOT(ISERROR(MATCH(L9,OFFSET($H$410,$G$36-2,0,1,18),FALSE))),$G$75=L9),1,0+(($G$36=1)*($H$75=\"OC\")))","v":0},1,7,null,{"$f":"IF((S9=1)*($J$6<22),INDEX($J$13:$J$33,SUM($S$7:S9),1),\"\")","v":""},{"$f":"COUNTIF($T$7:T9,T9)","v":1},null,104,{"$f":"INDEX(V:V,SUMPRODUCT((OFFSET($T$7,0,0,AuthorityCounter2,1)=Y9)*1,(OFFSET($W$7,0,0,AuthorityCounter2,1)=COUNTIF($Y$7:Y9,Y9))*1,ROW(OFFSET($W$7,0,0,AuthorityCounter2,1))))","v":""},18.650406504065042,{"$f":"IF((Y9=AB$2)*(Z9=AC$3)*(SUM($AB$6:AB8)=0),+Y9,0)","v":0},104,null,{"$f":"IF($AE$6=3,O9,SUM((CODE(MID(CONCATENATE(UPPER(M9),\"aaaaaaaaaa\"),{1;2},1))-30)*{1;0.01}))","v":55.55},{"$f":"COUNTIF($AE$7:$AE9,AE9)","v":1},null,37.67,37.67,{"$f":"COUNTIF($AI$7:$AI9,AI9)","v":3},{"$f":"IF($AE$6=1,L9,OFFSET($L$1,SUMPRODUCT(--(OFFSET($AE$7,0,0,AuthorityCounter,1)=AI9),--(OFFSET($AF$7,0,0,AuthorityCounter,1)=COUNTIF($AI$7:AI9,AI9)),ROW(OFFSET($AF$7,0,0,AuthorityCounter,1)))-1,0))","v":"Bedford"},null,{"$f":"IF(VLOOKUP(AK9,colAM,IF($H$75=\"OC\",8,5),FALSE)=1,MAX(AM$6:$AM8)+1,0)","v":3},"Bedford",false,{"$f":"IF($AP$5,SUM(SUMPRODUCT(--AO$7:$AO9)*AO9,(SUMPRODUCT(--(AO$7:$AO9=FALSE))+SUMPRODUCT(--colAP))*(1-AO9)),ROW()-6)","v":3},"Bedford","Bedford",null,null,null,null,null,null,null,null,null,null,null,null,null,null,null,null,null,null,null,null,null,null,null,null,null,null,null,null,null,null,null,null,null,null,null,null,null,null,null,null,null,null,null,null,null,null,null,null,null,null,null,null,null,null,null,null,null,null,null,null,null,null,null,null,null,null,null,null,null,null,null,null,null,null,null,null,null,null,null,null,null,null,null,null,null,null,null,null,null,null,null,null,null,null,null,null,null,null,null,null,null,null,null,null,null,null,null,null,null,null,null,null,null,null,null,null,null,null,null,null,null,null,null,null,null,null,null,null,null,null,null,null,null,null,null,null,null,null,null,null,null,null,null,null,null,null,null,null,null,null,null,null,null,null,null,null,null,null,null,null,null,null,null,null,null,null,null,null,null,null,null,null,null,null,null,null,null,null,null,null,null,null,null,null,null,null,null,null,null,null,null,null,null,null,null,null,null,null,null,null,null,null,null,null,null,null,null,null,null,"Page 2: Libraries Opened","#,##0.00",{"$f":"AB7","v":0}]
["(P.03)[05]Net Openings/Closures",0,8,9,"Page 9: Net Openings/Closures",null,null,null,"Show only selected Authorities Actual?:  ",{"$f":"IF(J9=0,FALSE,J7)","v":false},null,"Bexley","ul",null,6,{"$f":"IF((ROW()-5=$G$36),1,IF((M10=Coding!$H$75)+(Coding!$H$75=\"ALL\")+(Coding!$H$75=\"U\")*OR(M10=\"W\",M10=\"su\",M10=\"L\",M10=\"MD\",M10=\"UA\")+(Coding!$H$75=\"na\")*AND(M10<>\"W\",M10<>\"su\",M10<>\"L\",M10<>\"MD\",M10<>\"UA\",M10<>\"SC\",M10<>\"SD\",M10<>\"p\"),1,0))","v":1},false,{"$f":"IF(OR(NOT(ISERROR(MATCH(L10,OFFSET($H$410,$G$36-2,0,1,18),FALSE))),$G$75=L10),1,0+(($G$36=1)*($H$75=\"OC\")))","v":0},1,6,null,{"$f":"IF((S10=1)*($J$6<22),INDEX($J$13:$J$33,SUM($S$7:S10),1),\"\")","v":""},{"$f":"COUNTIF($T$7:T10,T10)","v":2},null,77,{"$f":"INDEX(V:V,SUMPRODUCT((OFFSET($T$7,0,0,AuthorityCounter2,1)=Y10)*1,(OFFSET($W$7,0,0,AuthorityCounter2,1)=COUNTIF($Y$7:Y10,Y10))*1,ROW(OFFSET($W$7,0,0,AuthorityCounter2,1))))","v":""},18.650406504065042,{"$f":"IF((Y10=AB$2)*(Z10=AC$3)*(SUM($AB$6:AB9)=0),+Y10,0)","v":0},77,null,{"$f":"IF($AE$6=3,O10,SUM((CODE(MID(CONCATENATE(UPPER(M10),\"aaaaaaaaaa\"),{1;2},1))-30)*{1;0.01}))","v":55.46},{"$f":"COUNTIF($AE$7:$AE10,AE10)","v":3},null,37.67,37.67,{"$f":"COUNTIF($AI$7:$AI10,AI10)","v":4},{"$f":"IF($AE$6=1,L10,OFFSET($L$1,SUMPRODUCT(--(OFFSET($AE$7,0,0,AuthorityCounter,1)=AI10),--(OFFSET($AF$7,0,0,AuthorityCounter,1)=COUNTIF($AI$7:AI10,AI10)),ROW(OFFSET($AF$7,0,0,AuthorityCounter,1)))-1,0))","v":"Bexley"},null,{"$f":"IF(VLOOKUP(AK10,colAM,IF($H$75=\"OC\",8,5),FALSE)=1,MAX(AM$6:$AM9)+1,0)","v":4},"Bexley",false,{"$f":"IF($AP$5,SUM(SUMPRODUCT(--AO$7:$AO10)*AO10,(SUMPRODUCT(--(AO$7:$AO10=FALSE))+SUMPRODUCT(--colAP))*(1-AO10)),ROW()-6)","v":4},"Bexley","Bexley",null,null,null,null,null,null,null,null,null,null,null,null,null,null,null,null,null,null,null,null,null,null,null,null,null,null,null,null,null,null,null,null,null,null,null,null,null,null,null,null,null,null,null,null,null,null,null,null,null,null,null,null,null,null,null,null,null,null,null,null,null,null,null,null,null,null,null,null,null,null,null,null,null,null,null,null,null,null,null,null,null,null,null,null,null,null,null,null,null,null,null,null,null,null,null,null,null,null,null,null,null,null,null,null,null,null,null,null,null,null,null,null,null,null,null,null,null,null,null,null,null,null,null,null,null,null,null,null,null,null,null,null,null,null,null,null,null,null,null,null,null,null,null,null,null,null,null,null,null,null,null,null,null,null,null,null,null,null,null,null,null,null,null,null,null,null,null,null,null,null,null,null,null,null,null,null,null,null,null,null,null,null,null,null,null,null,null,null,null,null,null,null,null,null,null,null,null,null,null,null,null,null,null,null,null,null,null,null,null,"Page 2: Net Openings/Closures","#,##0.00",{"$f":"AB7","v":0}]
["(P.04)[01]Mobile libraries per 100,000 population",0,9,10,"Page 10: Mobile libraries per 100,000 population",null,null,null,"Cell for greying out tickboxes:  ",false,null,"Blackburn with Darwen","uu",null,5,{"$f":"IF((ROW()-5=$G$36),1,IF((M11=Coding!$H$75)+(Coding!$H$75=\"ALL\")+(Coding!$H$75=\"U\")*OR(M11=\"W\",M11=\"su\",M11=\"L\",M11=\"MD\",M11=\"UA\")+(Coding!$H$75=\"na\")*AND(M11<>\"W\",M11<>\"su\",M11<>\"L\",M11<>\"MD\",M11<>\"UA\",M11<>\"SC\",M11<>\"SD\",M11<>\"p\"),1,0))","v":1},false,{"$f":"IF(OR(NOT(ISERROR(MATCH(L11,OFFSET($H$410,$G$36-2,0,1,18),FALSE))),$G$75=L11),1,0+(($G$36=1)*($H$75=\"OC\")))","v":0},1,5,null,{"$f":"IF((S11=1)*($J$6<22),INDEX($J$13:$J$33,SUM($S$7:S11),1),\"\")","v":""},{"$f":"COUNTIF($T$7:T11,T11)","v":1},null,68,{"$f":"INDEX(V:V,SUMPRODUCT((OFFSET($T$7,0,0,AuthorityCounter2,1)=Y11)*1,(OFFSET($W$7,0,0,AuthorityCounter2,1)=COUNTIF($Y$7:Y11,Y11))*1,ROW(OFFSET($W$7,0,0,AuthorityCounter2,1))))","v":""},18.650406504065042,{"$f":"IF((Y11=AB$2)*(Z11=AC$3)*(SUM($AB$6:AB10)=0),+Y11,0)","v":0},68,null,{"$f":"IF($AE$6=3,O11,SUM((CODE(MID(CONCATENATE(UPPER(M11),\"aaaaaaaaaa\"),{1;2},1))-30)*{1;0.01}))","v":55.55},{"$f":"COUNTIF($AE$7:$AE11,AE11)","v":2},null,37.67,37.67,{"$f":"COUNTIF($AI$7:$AI11,AI11)","v":5},{"$f":"IF($AE$6=1,L11,OFFSET($L$1,SUMPRODUCT(--(OFFSET($AE$7,0,0,AuthorityCounter,1)=AI11),--(OFFSET($AF$7,0,0,AuthorityCounter,1)=COUNTIF($AI$7:AI11,AI11)),ROW(OFFSET($AF$7,0,0,AuthorityCounter,1)))-1,0))","v":"Blackburn with Darwen"},null,{"$f":"IF(VLOOKUP(AK11,colAM,IF($H$75=\"OC\",8,5),FALSE)=1,MAX(AM$6:$AM10)+1,0)","v":5},"Blackburn with Darwen",false,{"$f":"IF($AP$5,SUM(SUMPRODUCT(--AO$7:$AO11)*AO11,(SUMPRODUCT(--(AO$7:$AO11=FALSE))+SUMPRODUCT(--colAP))*(1-AO11)),ROW()-6)","v":5},"Blackburn with Darwen","Blackburn with Darwen",null,null,null,null,null,null,null,null,null,null,null,null,null,null,null,null,null,null,null,null,null,null,null,null,null,null,null,null,null,null,null,null,null,null,null,null,null,null,null,null,null,null,null,null,null,null,null,null,null,null,null,null,null,null,null,null,null,null,null,null,null,null,null,null,null,null,null,null,null,null,null,null,null,null,null,null,null,null,null,null,null,null,null,null,null,null,null,null,null,null,null,null,null,null,null,null,null,null,null,null,null,null,null,null,null,null,null,null,null,null,null,null,null,null,null,null,null,null,null,null,null,null,null,null,null,null,null,null,null,null,null,null,null,null,null,null,null,null,null,null,null,null,null,null,null,null,null,null,null,null,null,null,null,null,null,null,null,null,null,null,null,null,null,null,null,null,null,null,null,null,null,null,null,null,null,null,null,null,null,null,null,null,null,null,null,null,null,null,null,null,null,null,null,null,null,null,null,null,null,null,null,null,null,null,null,null,null,null,null,"Page 3: Mobile libraries per 100,000 population","#,##0.00",{"$f":"AB7","v":0}]
["(P.05)[01]Total Opening Hours at the Busiest Service (Issues)",0,10,11,"Page 11: Total Opening Hours at the Busiest Service (Issues)",null,null,null,null,"Letters",null,"Blackpool","uu",null,8,{"$f":"IF((ROW()-5=$G$36),1,IF((M12=Coding!$H$75)+(Coding!$H$75=\"ALL\")+(Coding!$H$75=\"U\")*OR(M12=\"W\",M12=\"su\",M12=\"L\",M12=\"MD\",M12=\"UA\")+(Coding!$H$75=\"na\")*AND(M12<>\"W\",M12<>\"su\",M12<>\"L\",M12<>\"MD\",M12<>\"UA\",M12<>\"SC\",M12<>\"SD\",M12<>\"p\"),1,0))","v":1},false,{"$f":"IF(OR(NOT(ISERROR(MATCH(L12,OFFSET($H$410,$G$36-2,0,1,18),FALSE))),$G$75=L12),1,0+(($G$36=1)*($H$75=\"OC\")))","v":0},1,8,null,{"$f":"IF((S12=1)*($J$6<22),INDEX($J$13:$J$33,SUM($S$7:S12),1),\"\")","v":""},{"$f":"COUNTIF($T$7:T12,T12)","v":1},null,63,{"$f":"INDEX(V:V,SUMPRODUCT((OFFSET($T$7,0,0,AuthorityCounter2,1)=Y12)*1,(OFFSET($W$7,0,0,AuthorityCounter2,1)=COUNTIF($Y$7:Y12,Y12))*1,ROW(OFFSET($W$7,0,0,AuthorityCounter2,1))))","v":""},18.650406504065042,{"$f":"IF((Y12=AB$2)*(Z12=AC$3)*(SUM($AB$6:AB11)=0),+Y12,0)","v":0},63,null,{"$f":"IF($AE$6=3,O12,SUM((CODE(MID(CONCATENATE(UPPER(M12),\"aaaaaaaaaa\"),{1;2},1))-30)*{1;0.01}))","v":55.55},{"$f":"COUNTIF($AE$7:$AE12,AE12)","v":3},null,37.67,37.67,{"$f":"COUNTIF($AI$7:$AI12,AI12)","v":6},{"$f":"IF($AE$6=1,L12,OFFSET($L$1,SUMPRODUCT(--(OFFSET($AE$7,0,0,AuthorityCounter,1)=AI12),--(OFFSET($AF$7,0,0,AuthorityCounter,1)=COUNTIF($AI$7:AI12,AI12)),ROW(OFFSET($AF$7,0,0,AuthorityCounter,1)))-1,0))","v":"Blackpool"},null,{"$f":"IF(VLOOKUP(AK12,colAM,IF($H$75=\"OC\",8,5),FALSE)=1,MAX(AM$6:$AM11)+1,0)","v":6},"Blackpool",false,{"$f":"IF($AP$5,SUM(SUMPRODUCT(--AO$7:$AO12)*AO12,(SUMPRODUCT(--(AO$7:$AO12=FALSE))+SUMPRODUCT(--colAP))*(1-AO12)),ROW()-6)","v":6},"Blackpool","Blackpool",null,null,null,null,null,null,null,null,null,null,null,null,null,null,null,null,null,null,null,null,null,null,null,null,null,null,null,null,null,null,null,null,null,null,null,null,null,null,null,null,null,null,null,null,null,null,null,null,null,null,null,null,null,null,null,null,null,null,null,null,null,null,null,null,null,null,null,null,null,null,null,null,null,null,null,null,null,null,null,null,null,null,null,null,null,null,null,null,null,null,null,null,null,null,null,null,null,null,null,null,null,null,null,null,null,null,null,null,null,null,null,null,null,null,null,null,null,null,null,null,null,null,null,null,null,null,null,null,null,null,null,null,null,null,null,null,null,null,null,null,null,null,null,null,null,null,null,null,null,null,null,null,null,null,null,null,null,null,null,null,null,null,null,null,null,null,null,null,null,null,null,null,null,null,null,null,null,null,null,null,null,null,null,null,null,null,null,null,null,null,null,null,null,null,null,null,null,null,null,null,null,null,null,null,null,null,null,null,null,"Page 4: Total Opening Hours at the\nBusiest Service (Issues)","#,##0",{"$f":"AB7","v":0}]
["(P.05)[02]Total Opening Hours at the Busiest Service (Visits)",0,11,11,"Page 11: Total Opening Hours at the Busiest Service (Visits)",null,null,null,null,"h",null,"Bolton","um",null,10,{"$f":"IF((ROW()-5=$G$36),1,IF((M13=Coding!$H$75)+(Coding!$H$75=\"ALL\")+(Coding!$H$75=\"U\")*OR(M13=\"W\",M13=\"su\",M13=\"L\",M13=\"MD\",M13=\"UA\")+(Coding!$H$75=\"na\")*AND(M13<>\"W\",M13<>\"su\",M13<>\"L\",M13<>\"MD\",M13<>\"UA\",M13<>\"SC\",M13<>\"SD\",M13<>\"p\"),1,0))","v":1},false,{"$f":"IF(OR(NOT(ISERROR(MATCH(L13,OFFSET($H$410,$G$36-2,0,1,18),FALSE))),$G$75=L13),1,0+(($G$36=1)*($H$75=\"OC\")))","v":0},1,{"$f":"IF(S13=1,O13,\"not selected\")","v":10},null,{"$f":"IF((S13=1)*($J$6<22),INDEX($J$13:$J$33,SUM($S$7:S13),1),\"\")","v":""},{"$f":"COUNTIF($T$7:T13,T13)","v":1},null,55,{"$f":"INDEX(V:V,SUMPRODUCT((OFFSET($T$7,0,0,AuthorityCounter2,1)=Y13)*1,(OFFSET($W$7,0,0,AuthorityCounter2,1)=COUNTIF($Y$7:Y13,Y13))*1,ROW(OFFSET($W$7,0,0,AuthorityCounter2,1))))","v":""},18.650406504065042,{"$f":"IF((Y13=AB$2)*(Z13=AC$3)*(SUM($AB$6:AB12)=0),+Y13,0)","v":0},55,null,{"$f":"IF($AE$6=3,O13,SUM((CODE(MID(CONCATENATE(UPPER(M13),\"aaaaaaaaaa\"),{1;2},1))-30)*{1;0.01}))","v":55.47},{"$f":"COUNTIF($AE$7:$AE13,AE13)","v":1},null,37.67,37.67,{"$f":"COUNTIF($AI$7:$AI13,AI13)","v":7},{"$f":"IF($AE$6=1,L13,OFFSET($L$1,SUMPRODUCT(--(OFFSET($AE$7,0,0,AuthorityCounter,1)=AI13),--(OFFSET($AF$7,0,0,AuthorityCounter,1)=COUNTIF($AI$7:AI13,AI13)),ROW(OFFSET($AF$7,0,0,AuthorityCounter,1)))-1,0))","v":"Bolton"},null,{"$f":"IF(VLOOKUP(AK13,colAM,IF($H$75=\"OC\",8,5),FALSE)=1,MAX(AM$6:$AM12)+1,0)","v":7},"Bolton",false,{"$f":"IF($AP$5,SUM(SUMPRODUCT(--AO$7:$AO13)*AO13,(SUMPRODUCT(--(AO$7:$AO13=FALSE))+SUMPRODUCT(--colAP))*(1-AO13)),ROW()-6)","v":7},"Bolton","Bolton",null,null,null,null,null,null,null,null,null,null,null,null,null,null,null,null,null,null,null,null,null,null,null,null,null,null,null,null,null,null,null,null,null,null,null,null,null,null,null,null,null,null,null,null,null,null,null,null,null,null,null,null,null,null,null,null,null,null,null,null,null,null,null,null,null,null,null,null,null,null,null,null,null,null,null,null,null,null,null,null,null,null,null,null,null,null,null,null,null,null,null,null,null,null,null,null,null,null,null,null,null,null,null,null,null,null,null,null,null,null,null,null,null,null,null,null,null,null,null,null,null,null,null,null,null,null,null,null,null,null,null,null,null,null,null,null,null,null,null,null,null,null,null,null,null,null,null,null,null,null,null,null,null,null,null,null,null,null,null,null,null,null,null,null,null,null,null,null,null,null,null,null,null,null,null,null,null,null,null,null,null,null,null,null,null,null,null,null,null,null,null,null,null,null,null,null,null,null,null,null,null,null,null,null,null,null,null,null,null,"Page 4: Total Opening Hours at the\nBusiest Service (Visits)","#,##0",{"$f":"AB7","v":0}]
["(P.06)[01]Number of Active Borrowers",0,12,12,"Page 12: Number of Active Borrowers",null,null,null,null,"m",null,"Bournemouth & Poole","uu",null,22,{"$f":"IF((ROW()-5=$G$36),1,IF((M14=Coding!$H$75)+(Coding!$H$75=\"ALL\")+(Coding!$H$75=\"U\")*OR(M14=\"W\",M14=\"su\",M14=\"L\",M14=\"MD\",M14=\"UA\")+(Coding!$H$75=\"na\")*AND(M14<>\"W\",M14<>\"su\",M14<>\"L\",M14<>\"MD\",M14<>\"UA\",M14<>\"SC\",M14<>\"SD\",M14<>\"p\"),1,0))","v":1},false,{"$f":"IF(OR(NOT(ISERROR(MATCH(L14,OFFSET($H$410,$G$36-2,0,1,18),FALSE))),$G$75=L14),1,0+(($G$36=1)*($H$75=\"OC\")))","v":0},1,{"$f":"IF(S14=1,O14,\"not selected\")","v":22},null,{"$f":"IF((S14=1)*($J$6<22),INDEX($J$13:$J$33,SUM($S$7:S14),1),\"\")","v":""},{"$f":"COUNTIF($T$7:T14,T14)","v":1},null,54,{"$f":"INDEX(V:V,SUMPRODUCT((OFFSET($T$7,0,0,AuthorityCounter2,1)=Y14)*1,(OFFSET($W$7,0,0,AuthorityCounter2,1)=COUNTIF($Y$7:Y14,Y14))*1,ROW(OFFSET($W$7,0,0,AuthorityCounter2,1))))","v":""},18.650406504065042,{"$f":"IF((Y14=AB$2)*(Z14=AC$3)*(SUM($AB$6:AB13)=0),+Y14,0)","v":0},54,null,{"$f":"IF($AE$6=3,O14,SUM((CODE(MID(CONCATENATE(UPPER(M14),\"aaaaaaaaaa\"),{1;2},1))-30)*{1;0.01}))","v":55.55},{"$f":"COUNTIF($AE$7:$AE14,AE14)","v":4},null,37.67,37.67,{"$f":"COUNTIF($AI$7:$AI14,AI14)","v":8},{"$f":"IF($AE$6=1,L14,OFFSET($L$1,SUMPRODUCT(--(OFFSET($AE$7,0,0,AuthorityCounter,1)=AI14),--(OFFSET($AF$7,0,0,AuthorityCounter,1)=COUNTIF($AI$7:AI14,AI14)),ROW(OFFSET($AF$7,0,0,AuthorityCounter,1)))-1,0))","v":"Bournemouth & Poole"},null,{"$f":"IF(VLOOKUP(AK14,colAM,IF($H$75=\"OC\",8,5),FALSE)=1,MAX(AM$6:$AM13)+1,0)","v":8},"Bournemouth & Poole",false,{"$f":"IF($AP$5,SUM(SUMPRODUCT(--AO$7:$AO14)*AO14,(SUMPRODUCT(--(AO$7:$AO14=FALSE))+SUMPRODUCT(--colAP))*(1-AO14)),ROW()-6)","v":8},"Bournemouth & Poole","Bournemouth & Poole",null,null,null,null,null,null,null,null,null,null,null,null,null,null,null,null,null,null,null,null,null,null,null,null,null,null,null,null,null,null,null,null,null,null,null,null,null,null,null,null,null,null,null,null,null,null,null,null,null,null,null,null,null,null,null,null,null,null,null,null,null,null,null,null,null,null,null,null,null,null,null,null,null,null,null,null,null,null,null,null,null,null,null,null,null,null,null,null,null,null,null,null,null,null,null,null,null,null,null,null,null,null,null,null,null,null,null,null,null,null,null,null,null,null,null,null,null,null,null,null,null,null,null,null,null,null,null,null,null,null,null,null,null,null,null,null,null,null,null,null,null,null,null,null,null,null,null,null,null,null,null,null,null,null,null,null,null,null,null,null,null,null,null,null,null,null,null,null,null,null,null,null,null,null,null,null,null,null,null,null,null,null,null,null,null,null,null,null,null,null,null,null,null,null,null,null,null,null,null,null,null,null,null,null,null,null,null,null,null,"Page 5: Number of Active Borrowers","#,##0",{"$f":"AB7","v":0}]
["(P.06)[02]Number of Housebound Readers",0,13,12,"Page 12: Number of Housebound Readers",null,null,null,null,"d",null,"Bournemouth, Christchurch & Poole","uu",null,"na",{"$f":"IF((ROW()-5=$G$36),1,IF((M15=Coding!$H$75)+(Coding!$H$75=\"ALL\")+(Coding!$H$75=\"U\")*OR(M15=\"W\",M15=\"su\",M15=\"L\",M15=\"MD\",M15=\"UA\")+(Coding!$H$75=\"na\")*AND(M15<>\"W\",M15<>\"su\",M15<>\"L\",M15<>\"MD\",M15<>\"UA\",M15<>\"SC\",M15<>\"SD\",M15<>\"p\"),1,0))","v":1},false,{"$f":"IF(OR(NOT(ISERROR(MATCH(L15,OFFSET($H$410,$G$36-2,0,1,18),FALSE))),$G$75=L15),1,0+(($G$36=1)*($H$75=\"OC\")))","v":0},1,"na",null,{"$f":"IF((S15=1)*($J$6<22),INDEX($J$13:$J$33,SUM($S$7:S15),1),\"\")","v":""},{"$f":"COUNTIF($T$7:T15,T15)","v":1},null,53,{"$f":"INDEX(V:V,SUMPRODUCT((OFFSET($T$7,0,0,AuthorityCounter2,1)=Y15)*1,(OFFSET($W$7,0,0,AuthorityCounter2,1)=COUNTIF($Y$7:Y15,Y15))*1,ROW(OFFSET($W$7,0,0,AuthorityCounter2,1))))","v":""},18.650406504065042,{"$f":"IF((Y15=AB$2)*(Z15=AC$3)*(SUM($AB$6:AB14)=0),+Y15,0)","v":0},53,null,{"$f":"IF($AE$6=3,O15,SUM((CODE(MID(CONCATENATE(UPPER(M15),\"aaaaaaaaaa\"),{1;2},1))-30)*{1;0.01}))","v":55.55},{"$f":"COUNTIF($AE$7:$AE15,AE15)","v":5},null,37.67,37.67,{"$f":"COUNTIF($AI$7:$AI15,AI15)","v":9},{"$f":"IF($AE$6=1,L15,OFFSET($L$1,SUMPRODUCT(--(OFFSET($AE$7,0,0,AuthorityCounter,1)=AI15),--(OFFSET($AF$7,0,0,AuthorityCounter,1)=COUNTIF($AI$7:AI15,AI15)),ROW(OFFSET($AF$7,0,0,AuthorityCounter,1)))-1,0))","v":"Bournemouth, Christchurch & Poole"},null,{"$f":"IF(VLOOKUP(AK15,colAM,IF($H$75=\"OC\",8,5),FALSE)=1,MAX(AM$6:$AM14)+1,0)","v":9},"Bournemouth, Christchurch & Poole",false,{"$f":"IF($AP$5,SUM(SUMPRODUCT(--AO$7:$AO15)*AO15,(SUMPRODUCT(--(AO$7:$AO15=FALSE))+SUMPRODUCT(--colAP))*(1-AO15)),ROW()-6)","v":9},"Bournemouth, Christchurch & Poole","Bournemouth, Christchurch & Poole",null,null,null,null,null,null,null,null,null,null,null,null,null,null,null,null,null,null,null,null,null,null,null,null,null,null,null,null,null,null,null,null,null,null,null,null,null,null,null,null,null,null,null,null,null,null,null,null,null,null,null,null,null,null,null,null,null,null,null,null,null,null,null,null,null,null,null,null,null,null,null,null,null,null,null,null,null,null,null,null,null,null,null,null,null,null,null,null,null,null,null,null,null,null,null,null,null,null,null,null,null,null,null,null,null,null,null,null,null,null,null,null,null,null,null,null,null,null,null,null,null,null,null,null,null,null,null,null,null,null,null,null,null,null,null,null,null,null,null,null,null,null,null,null,null,null,null,null,null,null,null,null,null,null,null,null,null,null,null,null,null,null,null,null,null,null,null,null,null,null,null,null,null,null,null,null,null,null,null,null,null,null,null,null,null,null,null,null,null,null,null,null,null,null,null,null,null,null,null,null,null,null,null,null,null,null,null,null,null,"Page 5: Number of Housebound Readers","#,##0",{"$f":"AB7","v":0}]
["(P.06)[03]Physical Visits for Library Purposes",0,14,12,"Page 12: Physical Visits for Library Purposes",null,null,null,null,"a",null,"Brent","ul",null,6,{"$f":"IF((ROW()-5=$G$36),1,IF((M16=Coding!$H$75)+(Coding!$H$75=\"ALL\")+(Coding!$H$75=\"U\")*OR(M16=\"W\",M16=\"su\",M16=\"L\",M16=\"MD\",M16=\"UA\")+(Coding!$H$75=\"na\")*AND(M16<>\"W\",M16<>\"su\",M16<>\"L\",M16<>\"MD\",M16<>\"UA\",M16<>\"SC\",M16<>\"SD\",M16<>\"p\"),1,0))","v":1},false,{"$f":"IF(OR(NOT(ISERROR(MATCH(L16,OFFSET($H$410,$G$36-2,0,1,18),FALSE))),$G$75=L16),1,0+(($G$36=1)*($H$75=\"OC\")))","v":0},1,6,null,{"$f":"IF((S16=1)*($J$6<22),INDEX($J$13:$J$33,SUM($S$7:S16),1),\"\")","v":""},{"$f":"COUNTIF($T$7:T16,T16)","v":3},null,52,{"$f":"INDEX(V:V,SUMPRODUCT((OFFSET($T$7,0,0,AuthorityCounter2,1)=Y16)*1,(OFFSET($W$7,0,0,AuthorityCounter2,1)=COUNTIF($Y$7:Y16,Y16))*1,ROW(OFFSET($W$7,0,0,AuthorityCounter2,1))))","v":""},18.650406504065042,{"$f":"IF((Y16=AB$2)*(Z16=AC$3)*(SUM($AB$6:AB15)=0),+Y16,0)","v":0},52,null,{"$f":"IF($AE$6=3,O16,SUM((CODE(MID(CONCATENATE(UPPER(M16),\"aaaaaaaaaa\"),{1;2},1))-30)*{1;0.01}))","v":55.46},{"$f":"COUNTIF($AE$7:$AE16,AE16)","v":4},null,37.67,37.67,{"$f":"COUNTIF($AI$7:$AI16,AI16)","v":10},{"$f":"IF($AE$6=1,L16,OFFSET($L$1,SUMPRODUCT(--(OFFSET($AE$7,0,0,AuthorityCounter,1)=AI16),--(OFFSET($AF$7,0,0,AuthorityCounter,1)=COUNTIF($AI$7:AI16,AI16)),ROW(OFFSET($AF$7,0,0,AuthorityCounter,1)))-1,0))","v":"Brent"},null,{"$f":"IF(VLOOKUP(AK16,colAM,IF($H$75=\"OC\",8,5),FALSE)=1,MAX(AM$6:$AM15)+1,0)","v":10},"Brent",false,{"$f":"IF($AP$5,SUM(SUMPRODUCT(--AO$7:$AO16)*AO16,(SUMPRODUCT(--(AO$7:$AO16=FALSE))+SUMPRODUCT(--colAP))*(1-AO16)),ROW()-6)","v":10},"Brent","Brent",null,null,null,null,null,null,null,null,null,null,null,null,null,null,null,null,null,null,null,null,null,null,null,null,null,null,null,null,null,null,null,null,null,null,null,null,null,null,null,null,null,null,null,null,null,null,null,null,null,null,null,null,null,null,null,null,null,null,null,null,null,null,null,null,null,null,null,null,null,null,null,null,null,null,null,null,null,null,null,null,null,null,null,null,null,null,null,null,null,null,null,null,null,null,null,null,null,null,null,null,null,null,null,null,null,null,null,null,null,null,null,null,null,null,null,null,null,null,null,null,null,null,null,null,null,null,null,null,null,null,null,null,null,null,null,null,null,null,null,null,null,null,null,null,null,null,null,null,null,null,null,null,null,null,null,null,null,null,null,null,null,null,null,null,null,null,null,null,null,null,null,null,null,null,null,null,null,null,null,null,null,null,null,null,null,null,null,null,null,null,null,null,null,null,null,null,null,null,null,null,null,null,null,null,null,null,null,null,null,"Page 5: Physical Visits for Library Purposes","#,##0",{"$f":"AB7","v":0}]
["(P.07)[01]Percentage of Service Points with Electronic Counters",0,15,13,"Page 13: Percentage of Service Points with Electronic Counters",null,null,null,null,"x",null,"Brighton & Hove","uu",null,14,{"$f":"IF((ROW()-5=$G$36),1,IF((M17=Coding!$H$75)+(Coding!$H$75=\"ALL\")+(Coding!$H$75=\"U\")*OR(M17=\"W\",M17=\"su\",M17=\"L\",M17=\"MD\",M17=\"UA\")+(Coding!$H$75=\"na\")*AND(M17<>\"W\",M17<>\"su\",M17<>\"L\",M17<>\"MD\",M17<>\"UA\",M17<>\"SC\",M17<>\"SD\",M17<>\"p\"),1,0))","v":1},false,{"$f":"IF(OR(NOT(ISERROR(MATCH(L17,OFFSET($H$410,$G$36-2,0,1,18),FALSE))),$G$75=L17),1,0+(($G$36=1)*($H$75=\"OC\")))","v":0},1,14,null,{"$f":"IF((S17=1)*($J$6<22),INDEX($J$13:$J$33,SUM($S$7:S17),1),\"\")","v":""},{"$f":"COUNTIF($T$7:T17,T17)","v":1},null,48,{"$f":"INDEX(V:V,SUMPRODUCT((OFFSET($T$7,0,0,AuthorityCounter2,1)=Y17)*1,(OFFSET($W$7,0,0,AuthorityCounter2,1)=COUNTIF($Y$7:Y17,Y17))*1,ROW(OFFSET($W$7,0,0,AuthorityCounter2,1))))","v":""},18.650406504065042,{"$f":"IF((Y17=AB$2)*(Z17=AC$3)*(SUM($AB$6:AB16)=0),+Y17,0)","v":0},48,null,{"$f":"IF($AE$6=3,O17,SUM((CODE(MID(CONCATENATE(UPPER(M17),\"aaaaaaaaaa\"),{1;2},1))-30)*{1;0.01}))","v":55.55},{"$f":"COUNTIF($AE$7:$AE17,AE17)","v":6},null,37.67,37.67,{"$f":"COUNTIF($AI$7:$AI17,AI17)","v":11},{"$f":"IF($AE$6=1,L17,OFFSET($L$1,SUMPRODUCT(--(OFFSET($AE$7,0,0,AuthorityCounter,1)=AI17),--(OFFSET($AF$7,0,0,AuthorityCounter,1)=COUNTIF($AI$7:AI17,AI17)),ROW(OFFSET($AF$7,0,0,AuthorityCounter,1)))-1,0))","v":"Brighton & Hove"},null,{"$f":"IF(VLOOKUP(AK17,colAM,IF($H$75=\"OC\",8,5),FALSE)=1,MAX(AM$6:$AM16)+1,0)","v":11},"Brighton & Hove",false,{"$f":"IF($AP$5,SUM(SUMPRODUCT(--AO$7:$AO17)*AO17,(SUMPRODUCT(--(AO$7:$AO17=FALSE))+SUMPRODUCT(--colAP))*(1-AO17)),ROW()-6)","v":11},"Brighton & Hove","Brighton & Hove",null,null,null,null,null,null,null,null,null,null,null,null,null,null,null,null,null,null,null,null,null,null,null,null,null,null,null,null,null,null,null,null,null,null,null,null,null,null,null,null,null,null,null,null,null,null,null,null,null,null,null,null,null,null,null,null,null,null,null,null,null,null,null,null,null,null,null,null,null,null,null,null,null,null,null,null,null,null,null,null,null,null,null,null,null,null,null,null,null,null,null,null,null,null,null,null,null,null,null,null,null,null,null,null,null,null,null,null,null,null,null,null,null,null,null,null,null,null,null,null,null,null,null,null,null,null,null,null,null,null,null,null,null,null,null,null,null,null,null,null,null,null,null,null,null,null,null,null,null,null,null,null,null,null,null,null,null,null,null,null,null,null,null,null,null,null,null,null,null,null,null,null,null,null,null,null,null,null,null,null,null,null,null,null,null,null,null,null,null,null,null,null,null,null,null,null,null,null,null,null,null,null,null,null,null,null,null,null,null,"Page 6: Percentage of Service Points with Electronic Counters","0%",{"$f":"AB7","v":0}]
["(P.07)[02]Visits to Website per 1,000 population",0,16,13,"Page 13: Visits to Website per 1,000 population",null,null,null,null,"k",null,"Bristol","uu",null,27,{"$f":"IF((ROW()-5=$G$36),1,IF((M18=Coding!$H$75)+(Coding!$H$75=\"ALL\")+(Coding!$H$75=\"U\")*OR(M18=\"W\",M18=\"su\",M18=\"L\",M18=\"MD\",M18=\"UA\")+(Coding!$H$75=\"na\")*AND(M18<>\"W\",M18<>\"su\",M18<>\"L\",M18<>\"MD\",M18<>\"UA\",M18<>\"SC\",M18<>\"SD\",M18<>\"p\"),1,0))","v":1},false,{"$f":"IF(OR(NOT(ISERROR(MATCH(L18,OFFSET($H$410,$G$36-2,0,1,18),FALSE))),$G$75=L18),1,0+(($G$36=1)*($H$75=\"OC\")))","v":0},1,27,null,{"$f":"IF((S18=1)*($J$6<22),INDEX($J$13:$J$33,SUM($S$7:S18),1),\"\")","v":""},{"$f":"COUNTIF($T$7:T18,T18)","v":1},null,48,{"$f":"INDEX(V:V,SUMPRODUCT((OFFSET($T$7,0,0,AuthorityCounter2,1)=Y18)*1,(OFFSET($W$7,0,0,AuthorityCounter2,1)=COUNTIF($Y$7:Y18,Y18))*1,ROW(OFFSET($W$7,0,0,AuthorityCounter2,1))))","v":""},18.650406504065042,{"$f":"IF((Y18=AB$2)*(Z18=AC$3)*(SUM($AB$6:AB17)=0),+Y18,0)","v":0},48,null,{"$f":"IF($AE$6=3,O18,SUM((CODE(MID(CONCATENATE(UPPER(M18),\"aaaaaaaaaa\"),{1;2},1))-30)*{1;0.01}))","v":55.55},{"$f":"COUNTIF($AE$7:$AE18,AE18)","v":7},null,37.67,{"$f":"IF(ISERROR(AH18),\"na\",AH18)","v":37.67},{"$f":"COUNTIF($AI$7:$AI18,AI18)","v":12},{"$f":"IF($AE$6=1,L18,OFFSET($L$1,SUMPRODUCT(--(OFFSET($AE$7,0,0,AuthorityCounter,1)=AI18),--(OFFSET($AF$7,0,0,AuthorityCounter,1)=COUNTIF($AI$7:AI18,AI18)),ROW(OFFSET($AF$7,0,0,AuthorityCounter,1)))-1,0))","v":"Bristol"},null,{"$f":"IF(VLOOKUP(AK18,colAM,IF($H$75=\"OC\",8,5),FALSE)=1,MAX(AM$6:$AM17)+1,0)","v":12},"Bristol",false,{"$f":"IF($AP$5,SUM(SUMPRODUCT(--AO$7:$AO18)*AO18,(SUMPRODUCT(--(AO$7:$AO18=FALSE))+SUMPRODUCT(--colAP))*(1-AO18)),ROW()-6)","v":12},"Bristol","Bristol",null,null,null,null,null,null,null,null,null,null,null,null,null,null,null,null,null,null,null,null,null,null,null,null,null,null,null,null,null,null,null,null,null,null,null,null,null,null,null,null,null,null,null,null,null,null,null,null,null,null,null,null,null,null,null,null,null,null,null,null,null,null,null,null,null,null,null,null,null,null,null,null,null,null,null,null,null,null,null,null,null,null,null,null,null,null,null,null,null,null,null,null,null,null,null,null,null,null,null,null,null,null,null,null,null,null,null,null,null,null,null,null,null,null,null,null,null,null,null,null,null,null,null,null,null,null,null,null,null,null,null,null,null,null,null,null,null,null,null,null,null,null,null,null,null,null,null,null,null,null,null,null,null,null,null,null,null,null,null,null,null,null,null,null,null,null,null,null,null,null,null,null,null,null,null,null,null,null,null,null,null,null,null,null,null,null,null,null,null,null,null,null,null,null,null,null,null,null,null,null,null,null,null,null,null,null,null,null,null,"Page 6: Visits to Website per 1,000 population","#,##0",{"$f":"AB7","v":0}]
["(P.08)[01]Number of Devices per 100,000 population",0,17,14,"Page 14: Number of Devices per 100,000 population",null,null,null,null,"s",null,"Bromley","ul",null,14,{"$f":"IF((ROW()-5=$G$36),1,IF((M19=Coding!$H$75)+(Coding!$H$75=\"ALL\")+(Coding!$H$75=\"U\")*OR(M19=\"W\",M19=\"su\",M19=\"L\",M19=\"MD\",M19=\"UA\")+(Coding!$H$75=\"na\")*AND(M19<>\"W\",M19<>\"su\",M19<>\"L\",M19<>\"MD\",M19<>\"UA\",M19<>\"SC\",M19<>\"SD\",M19<>\"p\"),1,0))","v":1},false,{"$f":"IF(OR(NOT(ISERROR(MATCH(L19,OFFSET($H$410,$G$36-2,0,1,18),FALSE))),$G$75=L19),1,0+(($G$36=1)*($H$75=\"OC\")))","v":0},1,14,null,{"$f":"IF((S19=1)*($J$6<22),INDEX($J$13:$J$33,SUM($S$7:S19),1),\"\")","v":""},{"$f":"COUNTIF($T$7:T19,T19)","v":2},null,46,{"$f":"INDEX(V:V,SUMPRODUCT((OFFSET($T$7,0,0,AuthorityCounter2,1)=Y19)*1,(OFFSET($W$7,0,0,AuthorityCounter2,1)=COUNTIF($Y$7:Y19,Y19))*1,ROW(OFFSET($W$7,0,0,AuthorityCounter2,1))))","v":""},18.650406504065042,{"$f":"IF((Y19=AB$2)*(Z19=AC$3)*(SUM($AB$6:AB18)=0),+Y19,0)","v":0},46,null,{"$f":"IF($AE$6=3,O19,SUM((CODE(MID(CONCATENATE(UPPER(M19),\"aaaaaaaaaa\"),{1;2},1))-30)*{1;0.01}))","v":55.46},{"$f":"COUNTIF($AE$7:$AE19,AE19)","v":5},null,37.67,37.67,{"$f":"COUNTIF($AI$7:$AI19,AI19)","v":13},{"$f":"IF($AE$6=1,L19,OFFSET($L$1,SUMPRODUCT(--(OFFSET($AE$7,0,0,AuthorityCounter,1)=AI19),--(OFFSET($AF$7,0,0,AuthorityCounter,1)=COUNTIF($AI$7:AI19,AI19)),ROW(OFFSET($AF$7,0,0,AuthorityCounter,1)))-1,0))","v":"Bromley"},null,{"$f":"IF(VLOOKUP(AK19,colAM,IF($H$75=\"OC\",8,5),FALSE)=1,MAX(AM$6:$AM18)+1,0)","v":13},"Bromley",false,{"$f":"IF($AP$5,SUM(SUMPRODUCT(--AO$7:$AO19)*AO19,(SUMPRODUCT(--(AO$7:$AO19=FALSE))+SUMPRODUCT(--colAP))*(1-AO19)),ROW()-6)","v":13},"Bromley","Bromley",null,null,null,null,null,null,null,null,null,null,null,null,null,null,null,null,null,null,null,null,null,null,null,null,null,null,null,null,null,null,null,null,null,null,null,null,null,null,null,null,null,null,null,null,null,null,null,null,null,null,null,null,null,null,null,null,null,null,null,null,null,null,null,null,null,null,null,null,null,null,null,null,null,null,null,null,null,null,null,null,null,null,null,null,null,null,null,null,null,null,null,null,null,null,null,null,null,null,null,null,null,null,null,null,null,null,null,null,null,null,null,null,null,null,null,null,null,null,null,null,null,null,null,null,null,null,null,null,null,null,null,null,null,null,null,null,null,null,null,null,null,null,null,null,null,null,null,null,null,null,null,null,null,null,null,null,null,null,null,null,null,null,null,null,null,null,null,null,null,null,null,null,null,null,null,null,null,null,null,null,null,null,null,null,null,null,null,null,null,null,null,null,null,null,null,null,null,null,null,null,null,null,null,null,null,null,null,null,null,"Page 7: Number of Devices per 100,000 population","#,##0",{"$f":"AB7","v":0}]
["(P.08)[02]Number of Hours Available per 1,000 population",0,18,14,"Page 14: Number of Hours Available per 1,000 population",null,null,null,null,"f",null,"Buckinghamshire","c",null,29,{"$f":"IF((ROW()-5=$G$36),1,IF((M20=Coding!$H$75)+(Coding!$H$75=\"ALL\")+(Coding!$H$75=\"U\")*OR(M20=\"W\",M20=\"su\",M20=\"L\",M20=\"MD\",M20=\"UA\")+(Coding!$H$75=\"na\")*AND(M20<>\"W\",M20<>\"su\",M20<>\"L\",M20<>\"MD\",M20<>\"UA\",M20<>\"SC\",M20<>\"SD\",M20<>\"p\"),1,0))","v":1},false,{"$f":"IF(OR(NOT(ISERROR(MATCH(L20,OFFSET($H$410,$G$36-2,0,1,18),FALSE))),$G$75=L20),1,0+(($G$36=1)*($H$75=\"OC\")))","v":0},1,29,null,{"$f":"IF((S20=1)*($J$6<22),INDEX($J$13:$J$33,SUM($S$7:S20),1),\"\")","v":""},{"$f":"COUNTIF($T$7:T20,T20)","v":1},null,44,{"$f":"INDEX(V:V,SUMPRODUCT((OFFSET($T$7,0,0,AuthorityCounter2,1)=Y20)*1,(OFFSET($W$7,0,0,AuthorityCounter2,1)=COUNTIF($Y$7:Y20,Y20))*1,ROW(OFFSET($W$7,0,0,AuthorityCounter2,1))))","v":""},18.650406504065042,{"$f":"IF((Y20=AB$2)*(Z20=AC$3)*(SUM($AB$6:AB19)=0),+Y20,0)","v":0},44,null,{"$f":"IF($AE$6=3,O20,SUM((CODE(MID(CONCATENATE(UPPER(M20),\"aaaaaaaaaa\"),{1;2},1))-30)*{1;0.01}))","v":37.67},{"$f":"COUNTIF($AE$7:$AE20,AE20)","v":1},null,37.67,37.67,{"$f":"COUNTIF($AI$7:$AI20,AI20)","v":14},{"$f":"IF($AE$6=1,L20,OFFSET($L$1,SUMPRODUCT(--(OFFSET($AE$7,0,0,AuthorityCounter,1)=AI20),--(OFFSET($AF$7,0,0,AuthorityCounter,1)=COUNTIF($AI$7:AI20,AI20)),ROW(OFFSET($AF$7,0,0,AuthorityCounter,1)))-1,0))","v":"Buckinghamshire"},null,{"$f":"IF(VLOOKUP(AK20,colAM,IF($H$75=\"OC\",8,5),FALSE)=1,MAX(AM$6:$AM19)+1,0)","v":14},"Buckinghamshire",false,{"$f":"IF($AP$5,SUM(SUMPRODUCT(--AO$7:$AO20)*AO20,(SUMPRODUCT(--(AO$7:$AO20=FALSE))+SUMPRODUCT(--colAP))*(1-AO20)),ROW()-6)","v":14},"Buckinghamshire","Buckinghamshire",null,null,null,null,null,null,null,null,null,null,null,null,null,null,null,null,null,null,null,null,null,null,null,null,null,null,null,null,null,null,null,null,null,null,null,null,null,null,null,null,null,null,null,null,null,null,null,null,null,null,null,null,null,null,null,null,null,null,null,null,null,null,null,null,null,null,null,null,null,null,null,null,null,null,null,null,null,null,null,null,null,null,null,null,null,null,null,null,null,null,null,null,null,null,null,null,null,null,null,null,null,null,null,null,null,null,null,null,null,null,null,null,null,null,null,null,null,null,null,null,null,null,null,null,null,null,null,null,null,null,null,null,null,null,null,null,null,null,null,null,null,null,null,null,null,null,null,null,null,null,null,null,null,null,null,null,null,null,null,null,null,null,null,null,null,null,null,null,null,null,null,null,null,null,null,null,null,null,null,null,null,null,null,null,null,null,null,null,null,null,null,null,null,null,null,null,null,null,null,null,null,null,null,null,null,null,null,null,null,"Page 7: Number of Hours Available per 1,000 population","#,##0",{"$f":"AB7","v":0}]
["(P.08)[03]Number of Hours Recorded per 1,000 population",0,19,14,"Page 14: Number of Hours Recorded per 1,000 population",null,null,null,null,"r",null,"Bury","um",null,4,{"$f":"IF((ROW()-5=$G$36),1,IF((M21=Coding!$H$75)+(Coding!$H$75=\"ALL\")+(Coding!$H$75=\"U\")*OR(M21=\"W\",M21=\"su\",M21=\"L\",M21=\"MD\",M21=\"UA\")+(Coding!$H$75=\"na\")*AND(M21<>\"W\",M21<>\"su\",M21<>\"L\",M21<>\"MD\",M21<>\"UA\",M21<>\"SC\",M21<>\"SD\",M21<>\"p\"),1,0))","v":1},false,{"$f":"IF(OR(NOT(ISERROR(MATCH(L21,OFFSET($H$410,$G$36-2,0,1,18),FALSE))),$G$75=L21),1,0+(($G$36=1)*($H$75=\"OC\")))","v":0},1,4,null,{"$f":"IF((S21=1)*($J$6<22),INDEX($J$13:$J$33,SUM($S$7:S21),1),\"\")","v":""},{"$f":"COUNTIF($T$7:T21,T21)","v":1},null,43,{"$f":"INDEX(V:V,SUMPRODUCT((OFFSET($T$7,0,0,AuthorityCounter2,1)=Y21)*1,(OFFSET($W$7,0,0,AuthorityCounter2,1)=COUNTIF($Y$7:Y21,Y21))*1,ROW(OFFSET($W$7,0,0,AuthorityCounter2,1))))","v":""},18.650406504065042,{"$f":"IF((Y21=AB$2)*(Z21=AC$3)*(SUM($AB$6:AB20)=0),+Y21,0)","v":0},43,null,{"$f":"IF($AE$6=3,O21,SUM((CODE(MID(CONCATENATE(UPPER(M21),\"aaaaaaaaaa\"),{1;2},1))-30)*{1;0.01}))","v":55.47},{"$f":"COUNTIF($AE$7:$AE21,AE21)","v":2},null,37.67,37.67,{"$f":"COUNTIF($AI$7:$AI21,AI21)","v":15},{"$f":"IF($AE$6=1,L21,OFFSET($L$1,SUMPRODUCT(--(OFFSET($AE$7,0,0,AuthorityCounter,1)=AI21),--(OFFSET($AF$7,0,0,AuthorityCounter,1)=COUNTIF($AI$7:AI21,AI21)),ROW(OFFSET($AF$7,0,0,AuthorityCounter,1)))-1,0))","v":"Bury"},null,{"$f":"IF(VLOOKUP(AK21,colAM,IF($H$75=\"OC\",8,5),FALSE)=1,MAX(AM$6:$AM20)+1,0)","v":15},"Bury",false,{"$f":"IF($AP$5,SUM(SUMPRODUCT(--AO$7:$AO21)*AO21,(SUMPRODUCT(--(AO$7:$AO21=FALSE))+SUMPRODUCT(--colAP))*(1-AO21)),ROW()-6)","v":15},"Bury","Bury",null,null,null,null,null,null,null,null,null,null,null,null,null,null,null,null,null,null,null,null,null,null,null,null,null,null,null,null,null,null,null,null,null,null,null,null,null,null,null,null,null,null,null,null,null,null,null,null,null,null,null,null,null,null,null,null,null,null,null,null,null,null,null,null,null,null,null,null,null,null,null,null,null,null,null,null,null,null,null,null,null,null,null,null,null,null,null,null,null,null,null,null,null,null,null,null,null,null,null,null,null,null,null,null,null,null,null,null,null,null,null,null,null,null,null,null,null,null,null,null,null,null,null,null,null,null,null,null,null,null,null,null,null,null,null,null,null,null,null,null,null,null,null,null,null,null,null,null,null,null,null,null,null,null,null,null,null,null,null,null,null,null,null,null,null,null,null,null,null,null,null,null,null,null,null,null,null,null,null,null,null,null,null,null,null,null,null,null,null,null,null,null,null,null,null,null,null,null,null,null,null,null,null,null,null,null,null,null,null,"Page 7: Number of Hours Recorded per 1,000 population","#,##0",{"$f":"AB7","v":0}]
["(P.08)[04]Percentage of Service Points with Public Wi-Fi Access",0,20,14,"Page 14: Percentage of Service Points with Public Wi-Fi Access",null,null,null,null,"z",null,"Calderdale","um",null,22,{"$f":"IF((ROW()-5=$G$36),1,IF((M22=Coding!$H$75)+(Coding!$H$75=\"ALL\")+(Coding!$H$75=\"U\")*OR(M22=\"W\",M22=\"su\",M22=\"L\",M22=\"MD\",M22=\"UA\")+(Coding!$H$75=\"na\")*AND(M22<>\"W\",M22<>\"su\",M22<>\"L\",M22<>\"MD\",M22<>\"UA\",M22<>\"SC\",M22<>\"SD\",M22<>\"p\"),1,0))","v":1},false,{"$f":"IF(OR(NOT(ISERROR(MATCH(L22,OFFSET($H$410,$G$36-2,0,1,18),FALSE))),$G$75=L22),1,0+(($G$36=1)*($H$75=\"OC\")))","v":0},1,22,null,{"$f":"IF((S22=1)*($J$6<22),INDEX($J$13:$J$33,SUM($S$7:S22),1),\"\")","v":""},{"$f":"COUNTIF($T$7:T22,T22)","v":2},null,42,{"$f":"INDEX(V:V,SUMPRODUCT((OFFSET($T$7,0,0,AuthorityCounter2,1)=Y22)*1,(OFFSET($W$7,0,0,AuthorityCounter2,1)=COUNTIF($Y$7:Y22,Y22))*1,ROW(OFFSET($W$7,0,0,AuthorityCounter2,1))))","v":""},18.650406504065042,{"$f":"IF((Y22=AB$2)*(Z22=AC$3)*(SUM($AB$6:AB21)=0),+Y22,0)","v":0},42,null,{"$f":"IF($AE$6=3,O22,SUM((CODE(MID(CONCATENATE(UPPER(M22),\"aaaaaaaaaa\"),{1;2},1))-30)*{1;0.01}))","v":55.47},{"$f":"COUNTIF($AE$7:$AE22,AE22)","v":3},null,37.67,37.67,{"$f":"COUNTIF($AI$7:$AI22,AI22)","v":16},{"$f":"IF($AE$6=1,L22,OFFSET($L$1,SUMPRODUCT(--(OFFSET($AE$7,0,0,AuthorityCounter,1)=AI22),--(OFFSET($AF$7,0,0,AuthorityCounter,1)=COUNTIF($AI$7:AI22,AI22)),ROW(OFFSET($AF$7,0,0,AuthorityCounter,1)))-1,0))","v":"Calderdale"},null,{"$f":"IF(VLOOKUP(AK22,colAM,IF($H$75=\"OC\",8,5),FALSE)=1,MAX(AM$6:$AM21)+1,0)","v":16},"Calderdale",false,{"$f":"IF($AP$5,SUM(SUMPRODUCT(--AO$7:$AO22)*AO22,(SUMPRODUCT(--(AO$7:$AO22=FALSE))+SUMPRODUCT(--colAP))*(1-AO22)),ROW()-6)","v":16},"Calderdale","Calderdale",null,null,null,null,null,null,null,null,null,null,null,null,null,null,null,null,null,null,null,null,null,null,null,null,null,null,null,null,null,null,null,null,null,null,null,null,null,null,null,null,null,null,null,null,null,null,null,null,null,null,null,null,null,null,null,null,null,null,null,null,null,null,null,null,null,null,null,null,null,null,null,null,null,null,null,null,null,null,null,null,null,null,null,null,null,null,null,null,null,null,null,null,null,null,null,null,null,null,null,null,null,null,null,null,null,null,null,null,null,null,null,null,null,null,null,null,null,null,null,null,null,null,null,null,null,null,null,null,null,null,null,null,null,null,null,null,null,null,null,null,null,null,null,null,null,null,null,null,null,null,null,null,null,null,null,null,null,null,null,null,null,null,null,null,null,null,null,null,null,null,null,null,null,null,null,null,null,null,null,null,null,null,null,null,null,null,null,null,null,null,null,null,null,null,null,null,null,null,null,null,null,null,null,null,null,null,null,null,null,"Page 7: Percentage of Service Points with Public Wi-Fi Access","0%",{"$f":"AB7","v":0}]
["(P.08)[05]Number of hours recorded usage of public access Wi-Fi per 1,000 population",0,21,14,"Page 14: Number of hours recorded usage of public access Wi-Fi per 1,000 population",null,null,null,null,"e",null,"Cambridgeshire","c",null,35,{"$f":"IF((ROW()-5=$G$36),1,IF((M23=Coding!$H$75)+(Coding!$H$75=\"ALL\")+(Coding!$H$75=\"U\")*OR(M23=\"W\",M23=\"su\",M23=\"L\",M23=\"MD\",M23=\"UA\")+(Coding!$H$75=\"na\")*AND(M23<>\"W\",M23<>\"su\",M23<>\"L\",M23<>\"MD\",M23<>\"UA\",M23<>\"SC\",M23<>\"SD\",M23<>\"p\"),1,0))","v":1},false,{"$f":"IF(OR(NOT(ISERROR(MATCH(L23,OFFSET($H$410,$G$36-2,0,1,18),FALSE))),$G$75=L23),1,0+(($G$36=1)*($H$75=\"OC\")))","v":0},1,35,null,{"$f":"IF((S23=1)*($J$6<22),INDEX($J$13:$J$33,SUM($S$7:S23),1),\"\")","v":""},{"$f":"COUNTIF($T$7:T23,T23)","v":1},null,38,{"$f":"INDEX(V:V,SUMPRODUCT((OFFSET($T$7,0,0,AuthorityCounter2,1)=Y23)*1,(OFFSET($W$7,0,0,AuthorityCounter2,1)=COUNTIF($Y$7:Y23,Y23))*1,ROW(OFFSET($W$7,0,0,AuthorityCounter2,1))))","v":""},18.650406504065042,{"$f":"IF((Y23=AB$2)*(Z23=AC$3)*(SUM($AB$6:AB22)=0),+Y23,0)","v":0},38,null,{"$f":"IF($AE$6=3,O23,SUM((CODE(MID(CONCATENATE(UPPER(M23),\"aaaaaaaaaa\"),{1;2},1))-30)*{1;0.01}))","v":37.67},{"$f":"COUNTIF($AE$7:$AE23,AE23)","v":2},null,37.67,37.67,{"$f":"COUNTIF($AI$7:$AI23,AI23)","v":17},{"$f":"IF($AE$6=1,L23,OFFSET($L$1,SUMPRODUCT(--(OFFSET($AE$7,0,0,AuthorityCounter,1)=AI23),--(OFFSET($AF$7,0,0,AuthorityCounter,1)=COUNTIF($AI$7:AI23,AI23)),ROW(OFFSET($AF$7,0,0,AuthorityCounter,1)))-1,0))","v":"Cambridgeshire"},null,{"$f":"IF(VLOOKUP(AK23,colAM,IF($H$75=\"OC\",8,5),FALSE)=1,MAX(AM$6:$AM22)+1,0)","v":17},"Cambridgeshire",false,{"$f":"IF($AP$5,SUM(SUMPRODUCT(--AO$7:$AO23)*AO23,(SUMPRODUCT(--(AO$7:$AO23=FALSE))+SUMPRODUCT(--colAP))*(1-AO23)),ROW()-6)","v":17},"Cambridgeshire","Cambridgeshire",null,null,null,null,null,null,null,null,null,null,null,null,null,null,null,null,null,null,null,null,null,null,null,null,null,null,null,null,null,null,null,null,null,null,null,null,null,null,null,null,null,null,null,null,null,null,null,null,null,null,null,null,null,null,null,null,null,null,null,null,null,null,null,null,null,null,null,null,null,null,null,null,null,null,null,null,null,null,null,null,null,null,null,null,null,null,null,null,null,null,null,null,null,null,null,null,null,null,null,null,null,null,null,null,null,null,null,null,null,null,null,null,null,null,null,null,null,null,null,null,null,null,null,null,null,null,null,null,null,null,null,null,null,null,null,null,null,null,null,null,null,null,null,null,null,null,null,null,null,null,null,null,null,null,null,null,null,null,null,null,null,null,null,null,null,null,null,null,null,null,null,null,null,null,null,null,null,null,null,null,null,null,null,null,null,null,null,null,null,null,null,null,null,null,null,null,null,null,null,null,null,null,null,null,null,null,null,null,null,"Page 7: Number of hours recorded usage of public access Wi-Fi per 1,000 population","#,##0",{"$f":"AB7","v":0}]
["(P.02)[01]Net Expenditure (Actuals)",135,0,16,"Page 16: Net Expenditure (Actuals)",null,null,null,null,"t",null,"Camden","ul",null,9,{"$f":"IF((ROW()-5=$G$36),1,IF((M24=Coding!$H$75)+(Coding!$H$75=\"ALL\")+(Coding!$H$75=\"U\")*OR(M24=\"W\",M24=\"su\",M24=\"L\",M24=\"MD\",M24=\"UA\")+(Coding!$H$75=\"na\")*AND(M24<>\"W\",M24<>\"su\",M24<>\"L\",M24<>\"MD\",M24<>\"UA\",M24<>\"SC\",M24<>\"SD\",M24<>\"p\"),1,0))","v":1},false,{"$f":"IF(OR(NOT(ISERROR(MATCH(L24,OFFSET($H$410,$G$36-2,0,1,18),FALSE))),$G$75=L24),1,0+(($G$36=1)*($H$75=\"OC\")))","v":0},1,9,null,{"$f":"IF((S24=1)*($J$6<22),INDEX($J$13:$J$33,SUM($S$7:S24),1),\"\")","v":""},{"$f":"COUNTIF($T$7:T24,T24)","v":1},null,37,{"$f":"INDEX(V:V,SUMPRODUCT((OFFSET($T$7,0,0,AuthorityCounter2,1)=Y24)*1,(OFFSET($W$7,0,0,AuthorityCounter2,1)=COUNTIF($Y$7:Y24,Y24))*1,ROW(OFFSET($W$7,0,0,AuthorityCounter2,1))))","v":""},18.650406504065042,{"$f":"IF((Y24=AB$2)*(Z24=AC$3)*(SUM($AB$6:AB23)=0),+Y24,0)","v":0},37,null,{"$f":"IF($AE$6=3,O24,SUM((CODE(MID(CONCATENATE(UPPER(M24),\"aaaaaaaaaa\"),{1;2},1))-30)*{1;0.01}))","v":55.46},{"$f":"COUNTIF($AE$7:$AE24,AE24)","v":6},null,37.67,37.67,{"$f":"COUNTIF($AI$7:$AI24,AI24)","v":18},{"$f":"IF($AE$6=1,L24,OFFSET($L$1,SUMPRODUCT(--(OFFSET($AE$7,0,0,AuthorityCounter,1)=AI24),--(OFFSET($AF$7,0,0,AuthorityCounter,1)=COUNTIF($AI$7:AI24,AI24)),ROW(OFFSET($AF$7,0,0,AuthorityCounter,1)))-1,0))","v":"Camden"},null,{"$f":"IF(VLOOKUP(AK24,colAM,IF($H$75=\"OC\",8,5),FALSE)=1,MAX(AM$6:$AM23)+1,0)","v":18},"Camden",false,{"$f":"IF($AP$5,SUM(SUMPRODUCT(--AO$7:$AO24)*AO24,(SUMPRODUCT(--(AO$7:$AO24=FALSE))+SUMPRODUCT(--colAP))*(1-AO24)),ROW()-6)","v":18},"Camden","Camden",null,null,null,null,null,null,null,null,null,null,null,null,null,null,null,null,null,null,null,null,null,null,null,null,null,null,null,null,null,null,null,null,null,null,null,null,null,null,null,null,null,null,null,null,null,null,null,null,null,null,null,null,null,null,null,null,null,null,null,null,null,null,null,null,null,null,null,null,null,null,null,null,null,null,null,null,null,null,null,null,null,null,null,null,null,null,null,null,null,null,null,null,null,null,null,null,null,null,null,null,null,null,null,null,null,null,null,null,null,null,null,null,null,null,null,null,null,null,null,null,null,null,null,null,null,null,null,null,null,null,null,null,null,null,null,null,null,null,null,null,null,null,null,null,null,null,null,null,null,null,null,null,null,null,null,null,null,null,null,null,null,null,null,null,null,null,null,null,null,null,null,null,null,null,null,null,null,null,null,null,null,null,null,null,null,null,null,null,null,null,null,null,null,null,null,null,null,null,null,null,null,null,null,null,null,null,null,null,null,"Page 8: Net Expenditure (Actuals)","£#,##0",{"$f":"AB7","v":0}]
["(P.02)[02]Total Revenue Expenditure (Actuals)",135,1,16,"Page 16: Total Revenue Expenditure (Actuals)",null,null,null,null,"w",null,"Central Bedfordshire","uu",null,12,{"$f":"IF((ROW()-5=$G$36),1,IF((M25=Coding!$H$75)+(Coding!$H$75=\"ALL\")+(Coding!$H$75=\"U\")*OR(M25=\"W\",M25=\"su\",M25=\"L\",M25=\"MD\",M25=\"UA\")+(Coding!$H$75=\"na\")*AND(M25<>\"W\",M25<>\"su\",M25<>\"L\",M25<>\"MD\",M25<>\"UA\",M25<>\"SC\",M25<>\"SD\",M25<>\"p\"),1,0))","v":1},false,{"$f":"IF(OR(NOT(ISERROR(MATCH(L25,OFFSET($H$410,$G$36-2,0,1,18),FALSE))),$G$75=L25),1,0+(($G$36=1)*($H$75=\"OC\")))","v":0},1,12,null,{"$f":"IF((S25=1)*($J$6<22),INDEX($J$13:$J$33,SUM($S$7:S25),1),\"\")","v":""},{"$f":"COUNTIF($T$7:T25,T25)","v":1},null,36,{"$f":"INDEX(V:V,SUMPRODUCT((OFFSET($T$7,0,0,AuthorityCounter2,1)=Y25)*1,(OFFSET($W$7,0,0,AuthorityCounter2,1)=COUNTIF($Y$7:Y25,Y25))*1,ROW(OFFSET($W$7,0,0,AuthorityCounter2,1))))","v":""},18.650406504065042,{"$f":"IF((Y25=AB$2)*(Z25=AC$3)*(SUM($AB$6:AB24)=0),+Y25,0)","v":0},36,null,{"$f":"IF($AE$6=3,O25,SUM((CODE(MID(CONCATENATE(UPPER(M25),\"aaaaaaaaaa\"),{1;2},1))-30)*{1;0.01}))","v":55.55},{"$f":"COUNTIF($AE$7:$AE25,AE25)","v":8},null,37.67,37.67,{"$f":"COUNTIF($AI$7:$AI25,AI25)","v":19},{"$f":"IF($AE$6=1,L25,OFFSET($L$1,SUMPRODUCT(--(OFFSET($AE$7,0,0,AuthorityCounter,1)=AI25),--(OFFSET($AF$7,0,0,AuthorityCounter,1)=COUNTIF($AI$7:AI25,AI25)),ROW(OFFSET($AF$7,0,0,AuthorityCounter,1)))-1,0))","v":"Central Bedfordshire"},null,{"$f":"IF(VLOOKUP(AK25,colAM,IF($H$75=\"OC\",8,5),FALSE)=1,MAX(AM$6:$AM24)+1,0)","v":19},"Central Bedfordshire",false,{"$f":"IF($AP$5,SUM(SUMPRODUCT(--AO$7:$AO25)*AO25,(SUMPRODUCT(--(AO$7:$AO25=FALSE))+SUMPRODUCT(--colAP))*(1-AO25)),ROW()-6)","v":19},"Central Bedfordshire","Central Bedfordshire",null,null,null,null,null,null,null,null,null,null,null,null,null,null,null,null,null,null,null,null,null,null,null,null,null,null,null,null,null,null,null,null,null,null,null,null,null,null,null,null,null,null,null,null,null,null,null,null,null,null,null,null,null,null,null,null,null,null,null,null,null,null,null,null,null,null,null,null,null,null,null,null,null,null,null,null,null,null,null,null,null,null,null,null,null,null,null,null,null,null,null,null,null,null,null,null,null,null,null,null,null,null,null,null,null,null,null,null,null,null,null,null,null,null,null,null,null,null,null,null,null,null,null,null,null,null,null,null,null,null,null,null,null,null,null,null,null,null,null,null,null,null,null,null,null,null,null,null,null,null,null,null,null,null,null,null,null,null,null,null,null,null,null,null,null,null,null,null,null,null,null,null,null,null,null,null,null,null,null,null,null,null,null,null,null,null,null,null,null,null,null,null,null,null,null,null,null,null,null,null,null,null,null,null,null,null,null,null,null,"Page 8: Total Revenue Expenditure (Actuals)","£#,##0",{"$f":"AB7","v":0}]
["(P.02)[03]Total Revenue Income (Actuals)",135,2,16,"Page 16: Total Revenue Income (Actuals)",null,null,null,null,"n",null,"Cheshire East","uu",null,17,{"$f":"IF((ROW()-5=$G$36),1,IF((M26=Coding!$H$75)+(Coding!$H$75=\"ALL\")+(Coding!$H$75=\"U\")*OR(M26=\"W\",M26=\"su\",M26=\"L\",M26=\"MD\",M26=\"UA\")+(Coding!$H$75=\"na\")*AND(M26<>\"W\",M26<>\"su\",M26<>\"L\",M26<>\"MD\",M26<>\"UA\",M26<>\"SC\",M26<>\"SD\",M26<>\"p\"),1,0))","v":1},false,{"$f":"IF(OR(NOT(ISERROR(MATCH(L26,OFFSET($H$410,$G$36-2,0,1,18),FALSE))),$G$75=L26),1,0+(($G$36=1)*($H$75=\"OC\")))","v":0},1,17,null,{"$f":"IF((S26=1)*($J$6<22),INDEX($J$13:$J$33,SUM($S$7:S26),1),\"\")","v":""},{"$f":"COUNTIF($T$7:T26,T26)","v":1},null,35,{"$f":"INDEX(V:V,SUMPRODUCT((OFFSET($T$7,0,0,AuthorityCounter2,1)=Y26)*1,(OFFSET($W$7,0,0,AuthorityCounter2,1)=COUNTIF($Y$7:Y26,Y26))*1,ROW(OFFSET($W$7,0,0,AuthorityCounter2,1))))","v":""},18.650406504065042,{"$f":"IF((Y26=AB$2)*(Z26=AC$3)*(SUM($AB$6:AB25)=0),+Y26,0)","v":0},35,null,{"$f":"IF($AE$6=3,O26,SUM((CODE(MID(CONCATENATE(UPPER(M26),\"aaaaaaaaaa\"),{1;2},1))-30)*{1;0.01}))","v":55.55},{"$f":"COUNTIF($AE$7:$AE26,AE26)","v":9},null,37.67,37.67,{"$f":"COUNTIF($AI$7:$AI26,AI26)","v":20},{"$f":"IF($AE$6=1,L26,OFFSET($L$1,SUMPRODUCT(--(OFFSET($AE$7,0,0,AuthorityCounter,1)=AI26),--(OFFSET($AF$7,0,0,AuthorityCounter,1)=COUNTIF($AI$7:AI26,AI26)),ROW(OFFSET($AF$7,0,0,AuthorityCounter,1)))-1,0))","v":"Cheshire East"},null,{"$f":"IF(VLOOKUP(AK26,colAM,IF($H$75=\"OC\",8,5),FALSE)=1,MAX(AM$6:$AM25)+1,0)","v":20},"Cheshire East",false,{"$f":"IF($AP$5,SUM(SUMPRODUCT(--AO$7:$AO26)*AO26,(SUMPRODUCT(--(AO$7:$AO26=FALSE))+SUMPRODUCT(--colAP))*(1-AO26)),ROW()-6)","v":20},"Cheshire East","Cheshire East",null,null,null,null,null,null,null,null,null,null,null,null,null,null,null,null,null,null,null,null,null,null,null,null,null,null,null,null,null,null,null,null,null,null,null,null,null,null,null,null,null,null,null,null,null,null,null,null,null,null,null,null,null,null,null,null,null,null,null,null,null,null,null,null,null,null,null,null,null,null,null,null,null,null,null,null,null,null,null,null,null,null,null,null,null,null,null,null,null,null,null,null,null,null,null,null,null,null,null,null,null,null,null,null,null,null,null,null,null,null,null,null,null,null,null,null,null,null,null,null,null,null,null,null,null,null,null,null,null,null,null,null,null,null,null,null,null,null,null,null,null,null,null,null,null,null,null,null,null,null,null,null,null,null,null,null,null,null,null,null,null,null,null,null,null,null,null,null,null,null,null,null,null,null,null,null,null,null,null,null,null,null,null,null,null,null,null,null,null,null,null,null,null,null,null,null,null,null,null,null,null,null,null,null,null,null,null,null,null,"Page 8: Total Revenue Income (Actuals)","£#,##0",{"$f":"AB7","v":0}]
["(P.03)[01]Employees",135,3,17,"Page 17: Employees",null,null,null,null,"u",null,"Cheshire West & Chester","uu",null,23,{"$f":"IF((ROW()-5=$G$36),1,IF((M27=Coding!$H$75)+(Coding!$H$75=\"ALL\")+(Coding!$H$75=\"U\")*OR(M27=\"W\",M27=\"su\",M27=\"L\",M27=\"MD\",M27=\"UA\")+(Coding!$H$75=\"na\")*AND(M27<>\"W\",M27<>\"su\",M27<>\"L\",M27<>\"MD\",M27<>\"UA\",M27<>\"SC\",M27<>\"SD\",M27<>\"p\"),1,0))","v":1},false,{"$f":"IF(OR(NOT(ISERROR(MATCH(L27,OFFSET($H$410,$G$36-2,0,1,18),FALSE))),$G$75=L27),1,0+(($G$36=1)*($H$75=\"OC\")))","v":0},1,23,null,{"$f":"IF((S27=1)*($J$6<22),INDEX($J$13:$J$33,SUM($S$7:S27),1),\"\")","v":""},{"$f":"COUNTIF($T$7:T27,T27)","v":1},null,34,{"$f":"INDEX(V:V,SUMPRODUCT((OFFSET($T$7,0,0,AuthorityCounter2,1)=Y27)*1,(OFFSET($W$7,0,0,AuthorityCounter2,1)=COUNTIF($Y$7:Y27,Y27))*1,ROW(OFFSET($W$7,0,0,AuthorityCounter2,1))))","v":""},18.650406504065042,{"$f":"IF((Y27=AB$2)*(Z27=AC$3)*(SUM($AB$6:AB26)=0),+Y27,0)","v":0},34,null,{"$f":"IF($AE$6=3,O27,SUM((CODE(MID(CONCATENATE(UPPER(M27),\"aaaaaaaaaa\"),{1;2},1))-30)*{1;0.01}))","v":55.55},{"$f":"COUNTIF($AE$7:$AE27,AE27)","v":10},null,37.67,37.67,{"$f":"COUNTIF($AI$7:$AI27,AI27)","v":21},{"$f":"IF($AE$6=1,L27,OFFSET($L$1,SUMPRODUCT(--(OFFSET($AE$7,0,0,AuthorityCounter,1)=AI27),--(OFFSET($AF$7,0,0,AuthorityCounter,1)=COUNTIF($AI$7:AI27,AI27)),ROW(OFFSET($AF$7,0,0,AuthorityCounter,1)))-1,0))","v":"Cheshire West & Chester"},null,{"$f":"IF(VLOOKUP(AK27,colAM,IF($H$75=\"OC\",8,5),FALSE)=1,MAX(AM$6:$AM26)+1,0)","v":21},"Cheshire West & Chester",false,{"$f":"IF($AP$5,SUM(SUMPRODUCT(--AO$7:$AO27)*AO27,(SUMPRODUCT(--(AO$7:$AO27=FALSE))+SUMPRODUCT(--colAP))*(1-AO27)),ROW()-6)","v":21},"Cheshire West & Chester","Cheshire West & Chester",null,null,null,null,null,null,null,null,null,null,null,null,null,null,null,null,null,null,null,null,null,null,null,null,null,null,null,null,null,null,null,null,null,null,null,null,null,null,null,null,null,null,null,null,null,null,null,null,null,null,null,null,null,null,null,null,null,null,null,null,null,null,null,null,null,null,null,null,null,null,null,null,null,null,null,null,null,null,null,null,null,null,null,null,null,null,null,null,null,null,null,null,null,null,null,null,null,null,null,null,null,null,null,null,null,null,null,null,null,null,null,null,null,null,null,null,null,null,null,null,null,null,null,null,null,null,null,null,null,null,null,null,null,null,null,null,null,null,null,null,null,null,null,null,null,null,null,null,null,null,null,null,null,null,null,null,null,null,null,null,null,null,null,null,null,null,null,null,null,null,null,null,null,null,null,null,null,null,null,null,null,null,null,null,null,null,null,null,null,null,null,null,null,null,null,null,null,null,null,null,null,null,null,null,null,null,null,null,null,"Page 9: Employees","£#,##0",{"$f":"AB7","v":0}]
["(P.03)[02]Premises",135,4,17,"Page 17: Premises",null,null,null,null,"g",null,"Coventry","um",null,16,{"$f":"IF((ROW()-5=$G$36),1,IF((M28=Coding!$H$75)+(Coding!$H$75=\"ALL\")+(Coding!$H$75=\"U\")*OR(M28=\"W\",M28=\"su\",M28=\"L\",M28=\"MD\",M28=\"UA\")+(Coding!$H$75=\"na\")*AND(M28<>\"W\",M28<>\"su\",M28<>\"L\",M28<>\"MD\",M28<>\"UA\",M28<>\"SC\",M28<>\"SD\",M28<>\"p\"),1,0))","v":1},false,{"$f":"IF(OR(NOT(ISERROR(MATCH(L28,OFFSET($H$410,$G$36-2,0,1,18),FALSE))),$G$75=L28),1,0+(($G$36=1)*($H$75=\"OC\")))","v":0},1,16,null,{"$f":"IF((S28=1)*($J$6<22),INDEX($J$13:$J$33,SUM($S$7:S28),1),\"\")","v":""},{"$f":"COUNTIF($T$7:T28,T28)","v":1},null,33,{"$f":"INDEX(V:V,SUMPRODUCT((OFFSET($T$7,0,0,AuthorityCounter2,1)=Y28)*1,(OFFSET($W$7,0,0,AuthorityCounter2,1)=COUNTIF($Y$7:Y28,Y28))*1,ROW(OFFSET($W$7,0,0,AuthorityCounter2,1))))","v":""},18.650406504065042,{"$f":"IF((Y28=AB$2)*(Z28=AC$3)*(SUM($AB$6:AB27)=0),+Y28,0)","v":0},33,null,{"$f":"IF($AE$6=3,O28,SUM((CODE(MID(CONCATENATE(UPPER(M28),\"aaaaaaaaaa\"),{1;2},1))-30)*{1;0.01}))","v":55.47},{"$f":"COUNTIF($AE$7:$AE28,AE28)","v":4},null,37.67,37.67,{"$f":"COUNTIF($AI$7:$AI28,AI28)","v":22},{"$f":"IF($AE$6=1,L28,OFFSET($L$1,SUMPRODUCT(--(OFFSET($AE$7,0,0,AuthorityCounter,1)=AI28),--(OFFSET($AF$7,0,0,AuthorityCounter,1)=COUNTIF($AI$7:AI28,AI28)),ROW(OFFSET($AF$7,0,0,AuthorityCounter,1)))-1,0))","v":"Coventry"},null,{"$f":"IF(VLOOKUP(AK28,colAM,IF($H$75=\"OC\",8,5),FALSE)=1,MAX(AM$6:$AM27)+1,0)","v":22},"Coventry",false,{"$f":"IF($AP$5,SUM(SUMPRODUCT(--AO$7:$AO28)*AO28,(SUMPRODUCT(--(AO$7:$AO28=FALSE))+SUMPRODUCT(--colAP))*(1-AO28)),ROW()-6)","v":22},"Coventry","Coventry",null,null,null,null,null,null,null,null,null,null,null,null,null,null,null,null,null,null,null,null,null,null,null,null,null,null,null,null,null,null,null,null,null,null,null,null,null,null,null,null,null,null,null,null,null,null,null,null,null,null,null,null,null,null,null,null,null,null,null,null,null,null,null,null,null,null,null,null,null,null,null,null,null,null,null,null,null,null,null,null,null,null,null,null,null,null,null,null,null,null,null,null,null,null,null,null,null,null,null,null,null,null,null,null,null,null,null,null,null,null,null,null,null,null,null,null,null,null,null,null,null,null,null,null,null,null,null,null,null,null,null,null,null,null,null,null,null,null,null,null,null,null,null,null,null,null,null,null,null,null,null,null,null,null,null,null,null,null,null,null,null,null,null,null,null,null,null,null,null,null,null,null,null,null,null,null,null,null,null,null,null,null,null,null,null,null,null,null,null,null,null,null,null,null,null,null,null,null,null,null,null,null,null,null,null,null,null,null,null,"Page 9: Premises","£#,##0",{"$f":"AB7","v":0}]
["(P.03)[03]Total Materials",135,5,17,"Page 17: Total Materials",null,null,null,null,"o",null,"Croydon","ul",null,13,{"$f":"IF((ROW()-5=$G$36),1,IF((M29=Coding!$H$75)+(Coding!$H$75=\"ALL\")+(Coding!$H$75=\"U\")*OR(M29=\"W\",M29=\"su\",M29=\"L\",M29=\"MD\",M29=\"UA\")+(Coding!$H$75=\"na\")*AND(M29<>\"W\",M29<>\"su\",M29<>\"L\",M29<>\"MD\",M29<>\"UA\",M29<>\"SC\",M29<>\"SD\",M29<>\"p\"),1,0))","v":1},false,{"$f":"IF(OR(NOT(ISERROR(MATCH(L29,OFFSET($H$410,$G$36-2,0,1,18),FALSE))),$G$75=L29),1,0+(($G$36=1)*($H$75=\"OC\")))","v":0},1,13,null,{"$f":"IF((S29=1)*($J$6<22),INDEX($J$13:$J$33,SUM($S$7:S29),1),\"\")","v":""},{"$f":"COUNTIF($T$7:T29,T29)","v":1},null,32,{"$f":"INDEX(V:V,SUMPRODUCT((OFFSET($T$7,0,0,AuthorityCounter2,1)=Y29)*1,(OFFSET($W$7,0,0,AuthorityCounter2,1)=COUNTIF($Y$7:Y29,Y29))*1,ROW(OFFSET($W$7,0,0,AuthorityCounter2,1))))","v":""},18.650406504065042,{"$f":"IF((Y29=AB$2)*(Z29=AC$3)*(SUM($AB$6:AB28)=0),+Y29,0)","v":0},32,null,{"$f":"IF($AE$6=3,O29,SUM((CODE(MID(CONCATENATE(UPPER(M29),\"aaaaaaaaaa\"),{1;2},1))-30)*{1;0.01}))","v":55.46},{"$f":"COUNTIF($AE$7:$AE29,AE29)","v":7},null,37.67,37.67,{"$f":"COUNTIF($AI$7:$AI29,AI29)","v":23},{"$f":"IF($AE$6=1,L29,OFFSET($L$1,SUMPRODUCT(--(OFFSET($AE$7,0,0,AuthorityCounter,1)=AI29),--(OFFSET($AF$7,0,0,AuthorityCounter,1)=COUNTIF($AI$7:AI29,AI29)),ROW(OFFSET($AF$7,0,0,AuthorityCounter,1)))-1,0))","v":"Croydon"},null,{"$f":"IF(VLOOKUP(AK29,colAM,IF($H$75=\"OC\",8,5),FALSE)=1,MAX(AM$6:$AM28)+1,0)","v":23},"Croydon",false,{"$f":"IF($AP$5,SUM(SUMPRODUCT(--AO$7:$AO29)*AO29,(SUMPRODUCT(--(AO$7:$AO29=FALSE))+SUMPRODUCT(--colAP))*(1-AO29)),ROW()-6)","v":23},"Croydon","Croydon",null,null,null,null,null,null,null,null,null,null,null,null,null,null,null,null,null,null,null,null,null,null,null,null,null,null,null,null,null,null,null,null,null,null,null,null,null,null,null,null,null,null,null,null,null,null,null,null,null,null,null,null,null,null,null,null,null,null,null,null,null,null,null,null,null,null,null,null,null,null,null,null,null,null,null,null,null,null,null,null,null,null,null,null,null,null,null,null,null,null,null,null,null,null,null,null,null,null,null,null,null,null,null,null,null,null,null,null,null,null,null,null,null,null,null,null,null,null,null,null,null,null,null,null,null,null,null,null,null,null,null,null,null,null,null,null,null,null,null,null,null,null,null,null,null,null,null,null,null,null,null,null,null,null,null,null,null,null,null,null,null,null,null,null,null,null,null,null,null,null,null,null,null,null,null,null,null,null,null,null,null,null,null,null,null,null,null,null,null,null,null,null,null,null,null,null,null,null,null,null,null,null,null,null,null,null,null,null,null,"Page 9: Total Materials","£#,##0",{"$f":"AB7","v":0}]
["(P.03)[04]Computing Costs",135,6,17,"Page 17: Computing Costs",null,null,null,null,"b",null,"Cumbria","c",null,37,{"$f":"IF((ROW()-5=$G$36),1,IF((M30=Coding!$H$75)+(Coding!$H$75=\"ALL\")+(Coding!$H$75=\"U\")*OR(M30=\"W\",M30=\"su\",M30=\"L\",M30=\"MD\",M30=\"UA\")+(Coding!$H$75=\"na\")*AND(M30<>\"W\",M30<>\"su\",M30<>\"L\",M30<>\"MD\",M30<>\"UA\",M30<>\"SC\",M30<>\"SD\",M30<>\"p\"),1,0))","v":1},false,{"$f":"IF(OR(NOT(ISERROR(MATCH(L30,OFFSET($H$410,$G$36-2,0,1,18),FALSE))),$G$75=L30),1,0+(($G$36=1)*($H$75=\"OC\")))","v":0},1,37,null,{"$f":"IF((S30=1)*($J$6<22),INDEX($J$13:$J$33,SUM($S$7:S30),1),\"\")","v":""},{"$f":"COUNTIF($T$7:T30,T30)","v":1},null,29,{"$f":"INDEX(V:V,SUMPRODUCT((OFFSET($T$7,0,0,AuthorityCounter2,1)=Y30)*1,(OFFSET($W$7,0,0,AuthorityCounter2,1)=COUNTIF($Y$7:Y30,Y30))*1,ROW(OFFSET($W$7,0,0,AuthorityCounter2,1))))","v":""},18.650406504065042,{"$f":"IF((Y30=AB$2)*(Z30=AC$3)*(SUM($AB$6:AB29)=0),+Y30,0)","v":0},29,null,{"$f":"IF($AE$6=3,O30,SUM((CODE(MID(CONCATENATE(UPPER(M30),\"aaaaaaaaaa\"),{1;2},1))-30)*{1;0.01}))","v":37.67},{"$f":"COUNTIF($AE$7:$AE30,AE30)","v":3},null,37.67,37.67,{"$f":"COUNTIF($AI$7:$AI30,AI30)","v":24},{"$f":"IF($AE$6=1,L30,OFFSET($L$1,SUMPRODUCT(--(OFFSET($AE$7,0,0,AuthorityCounter,1)=AI30),--(OFFSET($AF$7,0,0,AuthorityCounter,1)=COUNTIF($AI$7:AI30,AI30)),ROW(OFFSET($AF$7,0,0,AuthorityCounter,1)))-1,0))","v":"Cumbria"},null,{"$f":"IF(VLOOKUP(AK30,colAM,IF($H$75=\"OC\",8,5),FALSE)=1,MAX(AM$6:$AM29)+1,0)","v":24},"Cumbria",false,{"$f":"IF($AP$5,SUM(SUMPRODUCT(--AO$7:$AO30)*AO30,(SUMPRODUCT(--(AO$7:$AO30=FALSE))+SUMPRODUCT(--colAP))*(1-AO30)),ROW()-6)","v":24},"Cumbria","Cumbria",null,null,null,null,null,null,null,null,null,null,null,null,null,null,null,null,null,null,null,null,null,null,null,null,null,null,null,null,null,null,null,null,null,null,null,null,null,null,null,null,null,null,null,null,null,null,null,null,null,null,null,null,null,null,null,null,null,null,null,null,null,null,null,null,null,null,null,null,null,null,null,null,null,null,null,null,null,null,null,null,null,null,null,null,null,null,null,null,null,null,null,null,null,null,null,null,null,null,null,null,null,null,null,null,null,null,null,null,null,null,null,null,null,null,null,null,null,null,null,null,null,null,null,null,null,null,null,null,null,null,null,null,null,null,null,null,null,null,null,null,null,null,null,null,null,null,null,null,null,null,null,null,null,null,null,null,null,null,null,null,null,null,null,null,null,null,null,null,null,null,null,null,null,null,null,null,null,null,null,null,null,null,null,null,null,null,null,null,null,null,null,null,null,null,null,null,null,null,null,null,null,null,null,null,null,null,null,null,null,"Page 9: Computing Costs","£#,##0",{"$f":"AB7","v":0}]
["(P.03)[05]Other Supplies & Services",135,7,17,"Page 17: Other Supplies & Services",null,null,null,null,"j",null,"Darlington","uu",null,2,{"$f":"IF((ROW()-5=$G$36),1,IF((M31=Coding!$H$75)+(Coding!$H$75=\"ALL\")+(Coding!$H$75=\"U\")*OR(M31=\"W\",M31=\"su\",M31=\"L\",M31=\"MD\",M31=\"UA\")+(Coding!$H$75=\"na\")*AND(M31<>\"W\",M31<>\"su\",M31<>\"L\",M31<>\"MD\",M31<>\"UA\",M31<>\"SC\",M31<>\"SD\",M31<>\"p\"),1,0))","v":1},false,{"$f":"IF(OR(NOT(ISERROR(MATCH(L31,OFFSET($H$410,$G$36-2,0,1,18),FALSE))),$G$75=L31),1,0+(($G$36=1)*($H$75=\"OC\")))","v":0},1,2,null,{"$f":"IF((S31=1)*($J$6<22),INDEX($J$13:$J$33,SUM($S$7:S31),1),\"\")","v":""},{"$f":"COUNTIF($T$7:T31,T31)","v":1},null,27,{"$f":"INDEX(V:V,SUMPRODUCT((OFFSET($T$7,0,0,AuthorityCounter2,1)=Y31)*1,(OFFSET($W$7,0,0,AuthorityCounter2,1)=COUNTIF($Y$7:Y31,Y31))*1,ROW(OFFSET($W$7,0,0,AuthorityCounter2,1))))","v":""},18.650406504065042,{"$f":"IF((Y31=AB$2)*(Z31=AC$3)*(SUM($AB$6:AB30)=0),+Y31,0)","v":0},27,null,{"$f":"IF($AE$6=3,O31,SUM((CODE(MID(CONCATENATE(UPPER(M31),\"aaaaaaaaaa\"),{1;2},1))-30)*{1;0.01}))","v":55.55},{"$f":"COUNTIF($AE$7:$AE31,AE31)","v":11},null,37.67,37.67,{"$f":"COUNTIF($AI$7:$AI31,AI31)","v":25},{"$f":"IF($AE$6=1,L31,OFFSET($L$1,SUMPRODUCT(--(OFFSET($AE$7,0,0,AuthorityCounter,1)=AI31),--(OFFSET($AF$7,0,0,AuthorityCounter,1)=COUNTIF($AI$7:AI31,AI31)),ROW(OFFSET($AF$7,0,0,AuthorityCounter,1)))-1,0))","v":"Darlington"},null,{"$f":"IF(VLOOKUP(AK31,colAM,IF($H$75=\"OC\",8,5),FALSE)=1,MAX(AM$6:$AM30)+1,0)","v":25},"Darlington",false,{"$f":"IF($AP$5,SUM(SUMPRODUCT(--AO$7:$AO31)*AO31,(SUMPRODUCT(--(AO$7:$AO31=FALSE))+SUMPRODUCT(--colAP))*(1-AO31)),ROW()-6)","v":25},"Darlington","Darlington",null,null,null,null,null,null,null,null,null,null,null,null,null,null,null,null,null,null,null,null,null,null,null,null,null,null,null,null,null,null,null,null,null,null,null,null,null,null,null,null,null,null,null,null,null,null,null,null,null,null,null,null,null,null,null,null,null,null,null,null,null,null,null,null,null,null,null,null,null,null,null,null,null,null,null,null,null,null,null,null,null,null,null,null,null,null,null,null,null,null,null,null,null,null,null,null,null,null,null,null,null,null,null,null,null,null,null,null,null,null,null,null,null,null,null,null,null,null,null,null,null,null,null,null,null,null,null,null,null,null,null,null,null,null,null,null,null,null,null,null,null,null,null,null,null,null,null,null,null,null,null,null,null,null,null,null,null,null,null,null,null,null,null,null,null,null,null,null,null,null,null,null,null,null,null,null,null,null,null,null,null,null,null,null,null,null,null,null,null,null,null,null,null,null,null,null,null,null,null,null,null,null,null,null,null,null,null,null,null,"Page 9: Other Supplies & Services","£#,##0",{"$f":"AB7","v":0}]
["(P.03)[06]Transport",135,8,17,"Page 17: Transport",null,null,null,null,"q",null,"Derby","uu",null,12,{"$f":"IF((ROW()-5=$G$36),1,IF((M32=Coding!$H$75)+(Coding!$H$75=\"ALL\")+(Coding!$H$75=\"U\")*OR(M32=\"W\",M32=\"su\",M32=\"L\",M32=\"MD\",M32=\"UA\")+(Coding!$H$75=\"na\")*AND(M32<>\"W\",M32<>\"su\",M32<>\"L\",M32<>\"MD\",M32<>\"UA\",M32<>\"SC\",M32<>\"SD\",M32<>\"p\"),1,0))","v":1},false,{"$f":"IF(OR(NOT(ISERROR(MATCH(L32,OFFSET($H$410,$G$36-2,0,1,18),FALSE))),$G$75=L32),1,0+(($G$36=1)*($H$75=\"OC\")))","v":0},1,12,null,{"$f":"IF((S32=1)*($J$6<22),INDEX($J$13:$J$33,SUM($S$7:S32),1),\"\")","v":""},{"$f":"COUNTIF($T$7:T32,T32)","v":2},null,26,{"$f":"INDEX(V:V,SUMPRODUCT((OFFSET($T$7,0,0,AuthorityCounter2,1)=Y32)*1,(OFFSET($W$7,0,0,AuthorityCounter2,1)=COUNTIF($Y$7:Y32,Y32))*1,ROW(OFFSET($W$7,0,0,AuthorityCounter2,1))))","v":""},18.650406504065042,{"$f":"IF((Y32=AB$2)*(Z32=AC$3)*(SUM($AB$6:AB31)=0),+Y32,0)","v":0},26,null,{"$f":"IF($AE$6=3,O32,SUM((CODE(MID(CONCATENATE(UPPER(M32),\"aaaaaaaaaa\"),{1;2},1))-30)*{1;0.01}))","v":55.55},{"$f":"COUNTIF($AE$7:$AE32,AE32)","v":12},null,37.67,37.67,{"$f":"COUNTIF($AI$7:$AI32,AI32)","v":26},{"$f":"IF($AE$6=1,L32,OFFSET($L$1,SUMPRODUCT(--(OFFSET($AE$7,0,0,AuthorityCounter,1)=AI32),--(OFFSET($AF$7,0,0,AuthorityCounter,1)=COUNTIF($AI$7:AI32,AI32)),ROW(OFFSET($AF$7,0,0,AuthorityCounter,1)))-1,0))","v":"Derby"},null,{"$f":"IF(VLOOKUP(AK32,colAM,IF($H$75=\"OC\",8,5),FALSE)=1,MAX(AM$6:$AM31)+1,0)","v":26},"Derby",false,{"$f":"IF($AP$5,SUM(SUMPRODUCT(--AO$7:$AO32)*AO32,(SUMPRODUCT(--(AO$7:$AO32=FALSE))+SUMPRODUCT(--colAP))*(1-AO32)),ROW()-6)","v":26},"Derby","Derby",null,null,null,null,null,null,null,null,null,null,null,null,null,null,null,null,null,null,null,null,null,null,null,null,null,null,null,null,null,null,null,null,null,null,null,null,null,null,null,null,null,null,null,null,null,null,null,null,null,null,null,null,null,null,null,null,null,null,null,null,null,null,null,null,null,null,null,null,null,null,null,null,null,null,null,null,null,null,null,null,null,null,null,null,null,null,null,null,null,null,null,null,null,null,null,null,null,null,null,null,null,null,null,null,null,null,null,null,null,null,null,null,null,null,null,null,null,null,null,null,null,null,null,null,null,null,null,null,null,null,null,null,null,null,null,null,null,null,null,null,null,null,null,null,null,null,null,null,null,null,null,null,null,null,null,null,null,null,null,null,null,null,null,null,null,null,null,null,null,null,null,null,null,null,null,null,null,null,null,null,null,null,null,null,null,null,null,null,null,null,null,null,null,null,null,null,null,null,null,null,null,null,null,null,null,null,null,null,null,"Page 9: Transport","£#,##0",{"$f":"AB7","v":0}]
["(P.03)[07]Third Party Payments",135,9,17,"Page 17: Third Party Payments",null,null,null,null,"p",null,"Devon","c",null,54,{"$f":"IF((ROW()-5=$G$36),1,IF((M33=Coding!$H$75)+(Coding!$H$75=\"ALL\")+(Coding!$H$75=\"U\")*OR(M33=\"W\",M33=\"su\",M33=\"L\",M33=\"MD\",M33=\"UA\")+(Coding!$H$75=\"na\")*AND(M33<>\"W\",M33<>\"su\",M33<>\"L\",M33<>\"MD\",M33<>\"UA\",M33<>\"SC\",M33<>\"SD\",M33<>\"p\"),1,0))","v":1},false,{"$f":"IF(OR(NOT(ISERROR(MATCH(L33,OFFSET($H$410,$G$36-2,0,1,18),FALSE))),$G$75=L33),1,0+(($G$36=1)*($H$75=\"OC\")))","v":0},1,54,null,{"$f":"IF((S33=1)*($J$6<22),INDEX($J$13:$J$33,SUM($S$7:S33),1),\"\")","v":""},{"$f":"COUNTIF($T$7:T33,T33)","v":1},null,24,{"$f":"INDEX(V:V,SUMPRODUCT((OFFSET($T$7,0,0,AuthorityCounter2,1)=Y33)*1,(OFFSET($W$7,0,0,AuthorityCounter2,1)=COUNTIF($Y$7:Y33,Y33))*1,ROW(OFFSET($W$7,0,0,AuthorityCounter2,1))))","v":""},18.650406504065042,{"$f":"IF((Y33=AB$2)*(Z33=AC$3)*(SUM($AB$6:AB32)=0),+Y33,0)","v":0},24,null,{"$f":"IF($AE$6=3,O33,SUM((CODE(MID(CONCATENATE(UPPER(M33),\"aaaaaaaaaa\"),{1;2},1))-30)*{1;0.01}))","v":37.67},{"$f":"COUNTIF($AE$7:$AE33,AE33)","v":4},null,37.67,37.67,{"$f":"COUNTIF($AI$7:$AI33,AI33)","v":27},{"$f":"IF($AE$6=1,L33,OFFSET($L$1,SUMPRODUCT(--(OFFSET($AE$7,0,0,AuthorityCounter,1)=AI33),--(OFFSET($AF$7,0,0,AuthorityCounter,1)=COUNTIF($AI$7:AI33,AI33)),ROW(OFFSET($AF$7,0,0,AuthorityCounter,1)))-1,0))","v":"Devon"},null,{"$f":"IF(VLOOKUP(AK33,colAM,IF($H$75=\"OC\",8,5),FALSE)=1,MAX(AM$6:$AM32)+1,0)","v":27},"Devon",false,{"$f":"IF($AP$5,SUM(SUMPRODUCT(--AO$7:$AO33)*AO33,(SUMPRODUCT(--(AO$7:$AO33=FALSE))+SUMPRODUCT(--colAP))*(1-AO33)),ROW()-6)","v":27},"Devon","Devon",null,null,null,null,null,null,null,null,null,null,null,null,null,null,null,null,null,null,null,null,null,null,null,null,null,null,null,null,null,null,null,null,null,null,null,null,null,null,null,null,null,null,null,null,null,null,null,null,null,null,null,null,null,null,null,null,null,null,null,null,null,null,null,null,null,null,null,null,null,null,null,null,null,null,null,null,null,null,null,null,null,null,null,null,null,null,null,null,null,null,null,null,null,null,null,null,null,null,null,null,null,null,null,null,null,null,null,null,null,null,null,null,null,null,null,null,null,null,null,null,null,null,null,null,null,null,null,null,null,null,null,null,null,null,null,null,null,null,null,null,null,null,null,null,null,null,null,null,null,null,null,null,null,null,null,null,null,null,null,null,null,null,null,null,null,null,null,null,null,null,null,null,null,null,null,null,null,null,null,null,null,null,null,null,null,null,null,null,null,null,null,null,null,null,null,null,null,null,null,null,null,null,null,null,null,null,null,null,null,"Page 9: Third Party Payments","£#,##0",{"$f":"AB7","v":0}]
["(P.03)[08]Support Service Costs",135,10,17,"Page 17: Support Service Costs",null,null,null,null,null,null,"Dorset","c",null,26,{"$f":"IF((ROW()-5=$G$36),1,IF((M34=Coding!$H$75)+(Coding!$H$75=\"ALL\")+(Coding!$H$75=\"U\")*OR(M34=\"W\",M34=\"su\",M34=\"L\",M34=\"MD\",M34=\"UA\")+(Coding!$H$75=\"na\")*AND(M34<>\"W\",M34<>\"su\",M34<>\"L\",M34<>\"MD\",M34<>\"UA\",M34<>\"SC\",M34<>\"SD\",M34<>\"p\"),1,0))","v":1},false,{"$f":"IF(OR(NOT(ISERROR(MATCH(L34,OFFSET($H$410,$G$36-2,0,1,18),FALSE))),$G$75=L34),1,0+(($G$36=1)*($H$75=\"OC\")))","v":0},1,26,null,{"$f":"IF((S34=1)*($J$6<22),INDEX($J$13:$J$33,SUM($S$7:S34),1),\"\")","v":""},{"$f":"COUNTIF($T$7:T34,T34)","v":1},null,24,{"$f":"INDEX(V:V,SUMPRODUCT((OFFSET($T$7,0,0,AuthorityCounter2,1)=Y34)*1,(OFFSET($W$7,0,0,AuthorityCounter2,1)=COUNTIF($Y$7:Y34,Y34))*1,ROW(OFFSET($W$7,0,0,AuthorityCounter2,1))))","v":""},18.650406504065042,{"$f":"IF((Y34=AB$2)*(Z34=AC$3)*(SUM($AB$6:AB33)=0),+Y34,0)","v":0},24,null,{"$f":"IF($AE$6=3,O34,SUM((CODE(MID(CONCATENATE(UPPER(M34),\"aaaaaaaaaa\"),{1;2},1))-30)*{1;0.01}))","v":37.67},{"$f":"COUNTIF($AE$7:$AE34,AE34)","v":5},null,55.46,55.46,{"$f":"COUNTIF($AI$7:$AI34,AI34)","v":1},{"$f":"IF($AE$6=1,L34,OFFSET($L$1,SUMPRODUCT(--(OFFSET($AE$7,0,0,AuthorityCounter,1)=AI34),--(OFFSET($AF$7,0,0,AuthorityCounter,1)=COUNTIF($AI$7:AI34,AI34)),ROW(OFFSET($AF$7,0,0,AuthorityCounter,1)))-1,0))","v":"Dorset"},null,{"$f":"IF(VLOOKUP(AK34,colAM,IF($H$75=\"OC\",8,5),FALSE)=1,MAX(AM$6:$AM33)+1,0)","v":28},"Dorset",false,{"$f":"IF($AP$5,SUM(SUMPRODUCT(--AO$7:$AO34)*AO34,(SUMPRODUCT(--(AO$7:$AO34=FALSE))+SUMPRODUCT(--colAP))*(1-AO34)),ROW()-6)","v":28},"Dorset","Dorset",null,null,null,null,null,null,null,null,null,null,null,null,null,null,null,null,null,null,null,null,null,null,null,null,null,null,null,null,null,null,null,null,null,null,null,null,null,null,null,null,null,null,null,null,null,null,null,null,null,null,null,null,null,null,null,null,null,null,null,null,null,null,null,null,null,null,null,null,null,null,null,null,null,null,null,null,null,null,null,null,null,null,null,null,null,null,null,null,null,null,null,null,null,null,null,null,null,null,null,null,null,null,null,null,null,null,null,null,null,null,null,null,null,null,null,null,null,null,null,null,null,null,null,null,null,null,null,null,null,null,null,null,null,null,null,null,null,null,null,null,null,null,null,null,null,null,null,null,null,null,null,null,null,null,null,null,null,null,null,null,null,null,null,null,null,null,null,null,null,null,null,null,null,null,null,null,null,null,null,null,null,null,null,null,null,null,null,null,null,null,null,null,null,null,null,null,null,null,null,null,null,null,null,null,null,null,null,null,null,"Page 9: Support Service Costs","£#,##0",{"$f":"AB7","v":0}]
["(P.04)[01]Overdue Charges",135,11,18,"Page 18: Overdue Charges",null,null,null,null,null,null,"Dorset","c",null,"na",{"$f":"IF((ROW()-5=$G$36),1,IF((M35=Coding!$H$75)+(Coding!$H$75=\"ALL\")+(Coding!$H$75=\"U\")*OR(M35=\"W\",M35=\"su\",M35=\"L\",M35=\"MD\",M35=\"UA\")+(Coding!$H$75=\"na\")*AND(M35<>\"W\",M35<>\"su\",M35<>\"L\",M35<>\"MD\",M35<>\"UA\",M35<>\"SC\",M35<>\"SD\",M35<>\"p\"),1,0))","v":1},false,{"$f":"IF(OR(NOT(ISERROR(MATCH(L35,OFFSET($H$410,$G$36-2,0,1,18),FALSE))),$G$75=L35),1,0+(($G$36=1)*($H$75=\"OC\")))","v":0},1,"na",null,{"$f":"IF((S35=1)*($J$6<22),INDEX($J$13:$J$33,SUM($S$7:S35),1),\"\")","v":""},{"$f":"COUNTIF($T$7:T35,T35)","v":2},null,24,{"$f":"INDEX(V:V,SUMPRODUCT((OFFSET($T$7,0,0,AuthorityCounter2,1)=Y35)*1,(OFFSET($W$7,0,0,AuthorityCounter2,1)=COUNTIF($Y$7:Y35,Y35))*1,ROW(OFFSET($W$7,0,0,AuthorityCounter2,1))))","v":""},18.650406504065042,{"$f":"IF((Y35=AB$2)*(Z35=AC$3)*(SUM($AB$6:AB34)=0),+Y35,0)","v":0},24,null,{"$f":"IF($AE$6=3,O35,SUM((CODE(MID(CONCATENATE(UPPER(M35),\"aaaaaaaaaa\"),{1;2},1))-30)*{1;0.01}))","v":37.67},{"$f":"COUNTIF($AE$7:$AE35,AE35)","v":6},null,55.46,55.46,{"$f":"COUNTIF($AI$7:$AI35,AI35)","v":2},{"$f":"IF($AE$6=1,L35,OFFSET($L$1,SUMPRODUCT(--(OFFSET($AE$7,0,0,AuthorityCounter,1)=AI35),--(OFFSET($AF$7,0,0,AuthorityCounter,1)=COUNTIF($AI$7:AI35,AI35)),ROW(OFFSET($AF$7,0,0,AuthorityCounter,1)))-1,0))","v":"Dorset"},null,{"$f":"IF(VLOOKUP(AK35,colAM,IF($H$75=\"OC\",8,5),FALSE)=1,MAX(AM$6:$AM34)+1,0)","v":29},"Dorset",false,{"$f":"IF($AP$5,SUM(SUMPRODUCT(--AO$7:$AO35)*AO35,(SUMPRODUCT(--(AO$7:$AO35=FALSE))+SUMPRODUCT(--colAP))*(1-AO35)),ROW()-6)","v":29},"Dorset","Dorset",null,null,null,null,null,null,null,null,null,null,null,null,null,null,null,null,null,null,null,null,null,null,null,null,null,null,null,null,null,null,null,null,null,null,null,null,null,null,null,null,null,null,null,null,null,null,null,null,null,null,null,null,null,null,null,null,null,null,null,null,null,null,null,null,null,null,null,null,null,null,null,null,null,null,null,null,null,null,null,null,null,null,null,null,null,null,null,null,null,null,null,null,null,null,null,null,null,null,null,null,null,null,null,null,null,null,null,null,null,null,null,null,null,null,null,null,null,null,null,null,null,null,null,null,null,null,null,null,null,null,null,null,null,null,null,null,null,null,null,null,null,null,null,null,null,null,null,null,null,null,null,null,null,null,null,null,null,null,null,null,null,null,null,null,null,null,null,null,null,null,null,null,null,null,null,null,null,null,null,null,null,null,null,null,null,null,null,null,null,null,null,null,null,null,null,null,null,null,null,null,null,null,null,null,null,null,null,null,null,"Page 10: Overdue Charges","£#,##0",{"$f":"AB7","v":0}]
["(P.04)[02]Hire of Audio & Visual Materials",135,12,18,"Page 18: Hire of Audio & Visual Materials",null,1,"  Cell Link for Authorities",null,"(Max 300)",null,"Dudley","um",null,16,{"$f":"IF((ROW()-5=$G$36),1,IF((M36=Coding!$H$75)+(Coding!$H$75=\"ALL\")+(Coding!$H$75=\"U\")*OR(M36=\"W\",M36=\"su\",M36=\"L\",M36=\"MD\",M36=\"UA\")+(Coding!$H$75=\"na\")*AND(M36<>\"W\",M36<>\"su\",M36<>\"L\",M36<>\"MD\",M36<>\"UA\",M36<>\"SC\",M36<>\"SD\",M36<>\"p\"),1,0))","v":1},false,{"$f":"IF(OR(NOT(ISERROR(MATCH(L36,OFFSET($H$410,$G$36-2,0,1,18),FALSE))),$G$75=L36),1,0+(($G$36=1)*($H$75=\"OC\")))","v":0},1,16,null,{"$f":"IF((S36=1)*($J$6<22),INDEX($J$13:$J$33,SUM($S$7:S36),1),\"\")","v":""},{"$f":"COUNTIF($T$7:T36,T36)","v":2},null,23,{"$f":"INDEX(V:V,SUMPRODUCT((OFFSET($T$7,0,0,AuthorityCounter2,1)=Y36)*1,(OFFSET($W$7,0,0,AuthorityCounter2,1)=COUNTIF($Y$7:Y36,Y36))*1,ROW(OFFSET($W$7,0,0,AuthorityCounter2,1))))","v":""},18.650406504065042,{"$f":"IF((Y36=AB$2)*(Z36=AC$3)*(SUM($AB$6:AB35)=0),+Y36,0)","v":0},23,null,{"$f":"IF($AE$6=3,O36,SUM((CODE(MID(CONCATENATE(UPPER(M36),\"aaaaaaaaaa\"),{1;2},1))-30)*{1;0.01}))","v":55.47},{"$f":"COUNTIF($AE$7:$AE36,AE36)","v":5},null,55.46,55.46,{"$f":"COUNTIF($AI$7:$AI36,AI36)","v":3},{"$f":"IF($AE$6=1,L36,OFFSET($L$1,SUMPRODUCT(--(OFFSET($AE$7,0,0,AuthorityCounter,1)=AI36),--(OFFSET($AF$7,0,0,AuthorityCounter,1)=COUNTIF($AI$7:AI36,AI36)),ROW(OFFSET($AF$7,0,0,AuthorityCounter,1)))-1,0))","v":"Dudley"},null,{"$f":"IF(VLOOKUP(AK36,colAM,IF($H$75=\"OC\",8,5),FALSE)=1,MAX(AM$6:$AM35)+1,0)","v":30},"Dudley",false,{"$f":"IF($AP$5,SUM(SUMPRODUCT(--AO$7:$AO36)*AO36,(SUMPRODUCT(--(AO$7:$AO36=FALSE))+SUMPRODUCT(--colAP))*(1-AO36)),ROW()-6)","v":30},"Dudley","Dudley",null,null,null,null,null,null,null,null,null,null,null,null,null,null,null,null,null,null,null,null,null,null,null,null,null,null,null,null,null,null,null,null,null,null,null,null,null,null,null,null,null,null,null,null,null,null,null,null,null,null,null,null,null,null,null,null,null,null,null,null,null,null,null,null,null,null,null,null,null,null,null,null,null,null,null,null,null,null,null,null,null,null,null,null,null,null,null,null,null,null,null,null,null,null,null,null,null,null,null,null,null,null,null,null,null,null,null,null,null,null,null,null,null,null,null,null,null,null,null,null,null,null,null,null,null,null,null,null,null,null,null,null,null,null,null,null,null,null,null,null,null,null,null,null,null,null,null,null,null,null,null,null,null,null,null,null,null,null,null,null,null,null,null,null,null,null,null,null,null,null,null,null,null,null,null,null,null,null,null,null,null,null,null,null,null,null,null,null,null,null,null,null,null,null,null,null,null,null,null,null,null,null,null,null,null,null,null,null,null,"Page 10: Hire of Audio & Visual Materials","£#,##0",{"$f":"AB7","v":0}]
["(P.04)[03]Specific Grants",135,13,18,"Page 18: Specific Grants",null,null,null,null,null,null,"Durham","uu",null,42,{"$f":"IF((ROW()-5=$G$36),1,IF((M37=Coding!$H$75)+(Coding!$H$75=\"ALL\")+(Coding!$H$75=\"U\")*OR(M37=\"W\",M37=\"su\",M37=\"L\",M37=\"MD\",M37=\"UA\")+(Coding!$H$75=\"na\")*AND(M37<>\"W\",M37<>\"su\",M37<>\"L\",M37<>\"MD\",M37<>\"UA\",M37<>\"SC\",M37<>\"SD\",M37<>\"p\"),1,0))","v":1},false,{"$f":"IF(OR(NOT(ISERROR(MATCH(L37,OFFSET($H$410,$G$36-2,0,1,18),FALSE))),$G$75=L37),1,0+(($G$36=1)*($H$75=\"OC\")))","v":0},1,42,null,{"$f":"IF((S37=1)*($J$6<22),INDEX($J$13:$J$33,SUM($S$7:S37),1),\"\")","v":""},{"$f":"COUNTIF($T$7:T37,T37)","v":1},null,23,{"$f":"INDEX(V:V,SUMPRODUCT((OFFSET($T$7,0,0,AuthorityCounter2,1)=Y37)*1,(OFFSET($W$7,0,0,AuthorityCounter2,1)=COUNTIF($Y$7:Y37,Y37))*1,ROW(OFFSET($W$7,0,0,AuthorityCounter2,1))))","v":""},18.650406504065042,{"$f":"IF((Y37=AB$2)*(Z37=AC$3)*(SUM($AB$6:AB36)=0),+Y37,0)","v":0},23,null,{"$f":"IF($AE$6=3,O37,SUM((CODE(MID(CONCATENATE(UPPER(M37),\"aaaaaaaaaa\"),{1;2},1))-30)*{1;0.01}))","v":55.55},{"$f":"COUNTIF($AE$7:$AE37,AE37)","v":13},null,55.46,55.46,{"$f":"COUNTIF($AI$7:$AI37,AI37)","v":4},{"$f":"IF($AE$6=1,L37,OFFSET($L$1,SUMPRODUCT(--(OFFSET($AE$7,0,0,AuthorityCounter,1)=AI37),--(OFFSET($AF$7,0,0,AuthorityCounter,1)=COUNTIF($AI$7:AI37,AI37)),ROW(OFFSET($AF$7,0,0,AuthorityCounter,1)))-1,0))","v":"Durham"},null,{"$f":"IF(VLOOKUP(AK37,colAM,IF($H$75=\"OC\",8,5),FALSE)=1,MAX(AM$6:$AM36)+1,0)","v":31},"Durham",false,{"$f":"IF($AP$5,SUM(SUMPRODUCT(--AO$7:$AO37)*AO37,(SUMPRODUCT(--(AO$7:$AO37=FALSE))+SUMPRODUCT(--colAP))*(1-AO37)),ROW()-6)","v":31},"Durham","Durham",null,null,null,null,null,null,null,null,null,null,null,null,null,null,null,null,null,null,null,null,null,null,null,null,null,null,null,null,null,null,null,null,null,null,null,null,null,null,null,null,null,null,null,null,null,null,null,null,null,null,null,null,null,null,null,null,null,null,null,null,null,null,null,null,null,null,null,null,null,null,null,null,null,null,null,null,null,null,null,null,null,null,null,null,null,null,null,null,null,null,null,null,null,null,null,null,null,null,null,null,null,null,null,null,null,null,null,null,null,null,null,null,null,null,null,null,null,null,null,null,null,null,null,null,null,null,null,null,null,null,null,null,null,null,null,null,null,null,null,null,null,null,null,null,null,null,null,null,null,null,null,null,null,null,null,null,null,null,null,null,null,null,null,null,null,null,null,null,null,null,null,null,null,null,null,null,null,null,null,null,null,null,null,null,null,null,null,null,null,null,null,null,null,null,null,null,null,null,null,null,null,null,null,null,null,null,null,null,null,"Page 10: Specific Grants","£#,##0",{"$f":"AB7","v":0}]
["(P.04)[04]Receipts from the Public",135,14,18,"Page 18: Receipts from the Public",null,2,"  Cell Link for Chart Names",null,"(Max 200)",null,"Ealing","ul",null,14,{"$f":"IF((ROW()-5=$G$36),1,IF((M38=Coding!$H$75)+(Coding!$H$75=\"ALL\")+(Coding!$H$75=\"U\")*OR(M38=\"W\",M38=\"su\",M38=\"L\",M38=\"MD\",M38=\"UA\")+(Coding!$H$75=\"na\")*AND(M38<>\"W\",M38<>\"su\",M38<>\"L\",M38<>\"MD\",M38<>\"UA\",M38<>\"SC\",M38<>\"SD\",M38<>\"p\"),1,0))","v":1},false,{"$f":"IF(OR(NOT(ISERROR(MATCH(L38,OFFSET($H$410,$G$36-2,0,1,18),FALSE))),$G$75=L38),1,0+(($G$36=1)*($H$75=\"OC\")))","v":0},1,14,null,{"$f":"IF((S38=1)*($J$6<22),INDEX($J$13:$J$33,SUM($S$7:S38),1),\"\")","v":""},{"$f":"COUNTIF($T$7:T38,T38)","v":3},null,22,{"$f":"INDEX(V:V,SUMPRODUCT((OFFSET($T$7,0,0,AuthorityCounter2,1)=Y38)*1,(OFFSET($W$7,0,0,AuthorityCounter2,1)=COUNTIF($Y$7:Y38,Y38))*1,ROW(OFFSET($W$7,0,0,AuthorityCounter2,1))))","v":""},18.650406504065042,{"$f":"IF((Y38=AB$2)*(Z38=AC$3)*(SUM($AB$6:AB37)=0),+Y38,0)","v":0},22,null,{"$f":"IF($AE$6=3,O38,SUM((CODE(MID(CONCATENATE(UPPER(M38),\"aaaaaaaaaa\"),{1;2},1))-30)*{1;0.01}))","v":55.46},{"$f":"COUNTIF($AE$7:$AE38,AE38)","v":8},null,55.46,55.46,{"$f":"COUNTIF($AI$7:$AI38,AI38)","v":5},{"$f":"IF($AE$6=1,L38,OFFSET($L$1,SUMPRODUCT(--(OFFSET($AE$7,0,0,AuthorityCounter,1)=AI38),--(OFFSET($AF$7,0,0,AuthorityCounter,1)=COUNTIF($AI$7:AI38,AI38)),ROW(OFFSET($AF$7,0,0,AuthorityCounter,1)))-1,0))","v":"Ealing"},null,{"$f":"IF(VLOOKUP(AK38,colAM,IF($H$75=\"OC\",8,5),FALSE)=1,MAX(AM$6:$AM37)+1,0)","v":32},"Ealing",false,{"$f":"IF($AP$5,SUM(SUMPRODUCT(--AO$7:$AO38)*AO38,(SUMPRODUCT(--(AO$7:$AO38=FALSE))+SUMPRODUCT(--colAP))*(1-AO38)),ROW()-6)","v":32},"Ealing","Ealing",null,null,null,null,null,null,null,null,null,null,null,null,null,null,null,null,null,null,null,null,null,null,null,null,null,null,null,null,null,null,null,null,null,null,null,null,null,null,null,null,null,null,null,null,null,null,null,null,null,null,null,null,null,null,null,null,null,null,null,null,null,null,null,null,null,null,null,null,null,null,null,null,null,null,null,null,null,null,null,null,null,null,null,null,null,null,null,null,null,null,null,null,null,null,null,null,null,null,null,null,null,null,null,null,null,null,null,null,null,null,null,null,null,null,null,null,null,null,null,null,null,null,null,null,null,null,null,null,null,null,null,null,null,null,null,null,null,null,null,null,null,null,null,null,null,null,null,null,null,null,null,null,null,null,null,null,null,null,null,null,null,null,null,null,null,null,null,null,null,null,null,null,null,null,null,null,null,null,null,null,null,null,null,null,null,null,null,null,null,null,null,null,null,null,null,null,null,null,null,null,null,null,null,null,null,null,null,null,null,"Page 10: Receipts from the Public","£#,##0",{"$f":"AB7","v":0}]
["(P.04)[05]Corporate Income",135,15,18,"Page 18: Corporate Income",null,{"$f":"OFFSET($B$1,G38-1,0)","v":0},"  Offset Value 1",null,null,null,"East Sussex","c",null,{"$f":"IF(ISNUMBER(--OFFSET($D$409,(ROW()-6)+$G$39+AuthorityCounter+5,$G$40)),OFFSET($D$409,(ROW()-6)+$G$39+AuthorityCounter+5,$G$40),\"na\")","v":17},{"$f":"IF((ROW()-5=$G$36),1,IF((M39=Coding!$H$75)+(Coding!$H$75=\"ALL\")+(Coding!$H$75=\"U\")*OR(M39=\"W\",M39=\"su\",M39=\"L\",M39=\"MD\",M39=\"UA\")+(Coding!$H$75=\"na\")*AND(M39<>\"W\",M39<>\"su\",M39<>\"L\",M39<>\"MD\",M39<>\"UA\",M39<>\"SC\",M39<>\"SD\",M39<>\"p\"),1,0))","v":1},false,{"$f":"IF(OR(NOT(ISERROR(MATCH(L39,OFFSET($H$410,$G$36-2,0,1,18),FALSE))),$G$75=L39),1,0+(($G$36=1)*($H$75=\"OC\")))","v":0},1,17,null,{"$f":"IF((S39=1)*($J$6<22),INDEX($J$13:$J$33,SUM($S$7:S39),1),\"\")","v":""},{"$f":"COUNTIF($T$7:T39,T39)","v":2},null,22,{"$f":"INDEX(V:V,SUMPRODUCT((OFFSET($T$7,0,0,AuthorityCounter2,1)=Y39)*1,(OFFSET($W$7,0,0,AuthorityCounter2,1)=COUNTIF($Y$7:Y39,Y39))*1,ROW(OFFSET($W$7,0,0,AuthorityCounter2,1))))","v":""},18.650406504065042,{"$f":"IF((Y39=AB$2)*(Z39=AC$3)*(SUM($AB$6:AB38)=0),+Y39,0)","v":0},22,null,{"$f":"IF($AE$6=3,O39,SUM((CODE(MID(CONCATENATE(UPPER(M39),\"aaaaaaaaaa\"),{1;2},1))-30)*{1;0.01}))","v":37.67},{"$f":"COUNTIF($AE$7:$AE39,AE39)","v":7},null,55.46,55.46,{"$f":"COUNTIF($AI$7:$AI39,AI39)","v":6},{"$f":"IF($AE$6=1,L39,OFFSET($L$1,SUMPRODUCT(--(OFFSET($AE$7,0,0,AuthorityCounter,1)=AI39),--(OFFSET($AF$7,0,0,AuthorityCounter,1)=COUNTIF($AI$7:AI39,AI39)),ROW(OFFSET($AF$7,0,0,AuthorityCounter,1)))-1,0))","v":"East Sussex"},null,{"$f":"IF(VLOOKUP(AK39,colAM,IF($H$75=\"OC\",8,5),FALSE)=1,MAX(AM$6:$AM38)+1,0)","v":33},"East Sussex",false,{"$f":"IF($AP$5,SUM(SUMPRODUCT(--AO$7:$AO39)*AO39,(SUMPRODUCT(--(AO$7:$AO39=FALSE))+SUMPRODUCT(--colAP))*(1-AO39)),ROW()-6)","v":33},"East Sussex","East Sussex",null,null,null,null,null,null,null,null,null,null,null,null,null,null,null,null,null,null,null,null,null,null,null,null,null,null,null,null,null,null,null,null,null,null,null,null,null,null,null,null,null,null,null,null,null,null,null,null,null,null,null,null,null,null,null,null,null,null,null,null,null,null,null,null,null,null,null,null,null,null,null,null,null,null,null,null,null,null,null,null,null,null,null,null,null,null,null,null,null,null,null,null,null,null,null,null,null,null,null,null,null,null,null,null,null,null,null,null,null,null,null,null,null,null,null,null,null,null,null,null,null,null,null,null,null,null,null,null,null,null,null,null,null,null,null,null,null,null,null,null,null,null,null,null,null,null,null,null,null,null,null,null,null,null,null,null,null,null,null,null,null,null,null,null,null,null,null,null,null,null,null,null,null,null,null,null,null,null,null,null,null,null,null,null,null,null,null,null,null,null,null,null,null,null,null,null,null,null,null,null,null,null,null,null,null,null,null,null,null,"Page 10: Corporate Income","£#,##0",{"$f":"AB7","v":0}]
["(P.04)[06]Other Income",135,16,18,"Page 18: Other Income",null,{"$f":"OFFSET($C$1,G38-1,0)","v":0},"  Offset Value 2",null,null,null,"Enfield","ul",null,17,{"$f":"IF((ROW()-5=$G$36),1,IF((M40=Coding!$H$75)+(Coding!$H$75=\"ALL\")+(Coding!$H$75=\"U\")*OR(M40=\"W\",M40=\"su\",M40=\"L\",M40=\"MD\",M40=\"UA\")+(Coding!$H$75=\"na\")*AND(M40<>\"W\",M40<>\"su\",M40<>\"L\",M40<>\"MD\",M40<>\"UA\",M40<>\"SC\",M40<>\"SD\",M40<>\"p\"),1,0))","v":1},false,{"$f":"IF(OR(NOT(ISERROR(MATCH(L40,OFFSET($H$410,$G$36-2,0,1,18),FALSE))),$G$75=L40),1,0+(($G$36=1)*($H$75=\"OC\")))","v":0},1,17,null,{"$f":"IF((S40=1)*($J$6<22),INDEX($J$13:$J$33,SUM($S$7:S40),1),\"\")","v":""},{"$f":"COUNTIF($T$7:T40,T40)","v":3},null,22,{"$f":"INDEX(V:V,SUMPRODUCT((OFFSET($T$7,0,0,AuthorityCounter2,1)=Y40)*1,(OFFSET($W$7,0,0,AuthorityCounter2,1)=COUNTIF($Y$7:Y40,Y40))*1,ROW(OFFSET($W$7,0,0,AuthorityCounter2,1))))","v":""},18.650406504065042,{"$f":"IF((Y40=AB$2)*(Z40=AC$3)*(SUM($AB$6:AB39)=0),+Y40,0)","v":0},22,null,{"$f":"IF($AE$6=3,O40,SUM((CODE(MID(CONCATENATE(UPPER(M40),\"aaaaaaaaaa\"),{1;2},1))-30)*{1;0.01}))","v":55.46},{"$f":"COUNTIF($AE$7:$AE40,AE40)","v":9},null,55.46,55.46,{"$f":"COUNTIF($AI$7:$AI40,AI40)","v":7},{"$f":"IF($AE$6=1,L40,OFFSET($L$1,SUMPRODUCT(--(OFFSET($AE$7,0,0,AuthorityCounter,1)=AI40),--(OFFSET($AF$7,0,0,AuthorityCounter,1)=COUNTIF($AI$7:AI40,AI40)),ROW(OFFSET($AF$7,0,0,AuthorityCounter,1)))-1,0))","v":"Enfield"},null,{"$f":"IF(VLOOKUP(AK40,colAM,IF($H$75=\"OC\",8,5),FALSE)=1,MAX(AM$6:$AM39)+1,0)","v":34},"Enfield",false,{"$f":"IF($AP$5,SUM(SUMPRODUCT(--AO$7:$AO40)*AO40,(SUMPRODUCT(--(AO$7:$AO40=FALSE))+SUMPRODUCT(--colAP))*(1-AO40)),ROW()-6)","v":34},"Enfield","Enfield",null,null,null,null,null,null,null,null,null,null,null,null,null,null,null,null,null,null,null,null,null,null,null,null,null,null,null,null,null,null,null,null,null,null,null,null,null,null,null,null,null,null,null,null,null,null,null,null,null,null,null,null,null,null,null,null,null,null,null,null,null,null,null,null,null,null,null,null,null,null,null,null,null,null,null,null,null,null,null,null,null,null,null,null,null,null,null,null,null,null,null,null,null,null,null,null,null,null,null,null,null,null,null,null,null,null,null,null,null,null,null,null,null,null,null,null,null,null,null,null,null,null,null,null,null,null,null,null,null,null,null,null,null,null,null,null,null,null,null,null,null,null,null,null,null,null,null,null,null,null,null,null,null,null,null,null,null,null,null,null,null,null,null,null,null,null,null,null,null,null,null,null,null,null,null,null,null,null,null,null,null,null,null,null,null,null,null,null,null,null,null,null,null,null,null,null,null,null,null,null,null,null,null,null,null,null,null,null,null,"Page 10: Other Income","£#,##0",{"$f":"AB7","v":0}]
["(P.05)[01]Reservation Fees",135,17,19,"Page 19: Reservation Fees",null,null,null,null,null,null,"Essex","c",null,77,{"$f":"IF((ROW()-5=$G$36),1,IF((M41=Coding!$H$75)+(Coding!$H$75=\"ALL\")+(Coding!$H$75=\"U\")*OR(M41=\"W\",M41=\"su\",M41=\"L\",M41=\"MD\",M41=\"UA\")+(Coding!$H$75=\"na\")*AND(M41<>\"W\",M41<>\"su\",M41<>\"L\",M41<>\"MD\",M41<>\"UA\",M41<>\"SC\",M41<>\"SD\",M41<>\"p\"),1,0))","v":1},false,{"$f":"IF(OR(NOT(ISERROR(MATCH(L41,OFFSET($H$410,$G$36-2,0,1,18),FALSE))),$G$75=L41),1,0+(($G$36=1)*($H$75=\"OC\")))","v":0},1,77,null,{"$f":"IF((S41=1)*($J$6<22),INDEX($J$13:$J$33,SUM($S$7:S41),1),\"\")","v":""},{"$f":"COUNTIF($T$7:T41,T41)","v":1},null,22,{"$f":"INDEX(V:V,SUMPRODUCT((OFFSET($T$7,0,0,AuthorityCounter2,1)=Y41)*1,(OFFSET($W$7,0,0,AuthorityCounter2,1)=COUNTIF($Y$7:Y41,Y41))*1,ROW(OFFSET($W$7,0,0,AuthorityCounter2,1))))","v":""},18.650406504065042,{"$f":"IF((Y41=AB$2)*(Z41=AC$3)*(SUM($AB$6:AB40)=0),+Y41,0)","v":0},22,null,{"$f":"IF($AE$6=3,O41,SUM((CODE(MID(CONCATENATE(UPPER(M41),\"aaaaaaaaaa\"),{1;2},1))-30)*{1;0.01}))","v":37.67},{"$f":"COUNTIF($AE$7:$AE41,AE41)","v":8},null,55.46,55.46,{"$f":"COUNTIF($AI$7:$AI41,AI41)","v":8},{"$f":"IF($AE$6=1,L41,OFFSET($L$1,SUMPRODUCT(--(OFFSET($AE$7,0,0,AuthorityCounter,1)=AI41),--(OFFSET($AF$7,0,0,AuthorityCounter,1)=COUNTIF($AI$7:AI41,AI41)),ROW(OFFSET($AF$7,0,0,AuthorityCounter,1)))-1,0))","v":"Essex"},null,{"$f":"IF(VLOOKUP(AK41,colAM,IF($H$75=\"OC\",8,5),FALSE)=1,MAX(AM$6:$AM40)+1,0)","v":35},"Essex",false,{"$f":"IF($AP$5,SUM(SUMPRODUCT(--AO$7:$AO41)*AO41,(SUMPRODUCT(--(AO$7:$AO41=FALSE))+SUMPRODUCT(--colAP))*(1-AO41)),ROW()-6)","v":35},"Essex","Essex",null,null,null,null,null,null,null,null,null,null,null,null,null,null,null,null,null,null,null,null,null,null,null,null,null,null,null,null,null,null,null,null,null,null,null,null,null,null,null,null,null,null,null,null,null,null,null,null,null,null,null,null,null,null,null,null,null,null,null,null,null,null,null,null,null,null,null,null,null,null,null,null,null,null,null,null,null,null,null,null,null,null,null,null,null,null,null,null,null,null,null,null,null,null,null,null,null,null,null,null,null,null,null,null,null,null,null,null,null,null,null,null,null,null,null,null,null,null,null,null,null,null,null,null,null,null,null,null,null,null,null,null,null,null,null,null,null,null,null,null,null,null,null,null,null,null,null,null,null,null,null,null,null,null,null,null,null,null,null,null,null,null,null,null,null,null,null,null,null,null,null,null,null,null,null,null,null,null,null,null,null,null,null,null,null,null,null,null,null,null,null,null,null,null,null,null,null,null,null,null,null,null,null,null,null,null,null,null,null,"Page 11: Reservation Fees","£#,##0",{"$f":"AB7","v":0}]
["(P.05)[02]Electronic Revenue",135,18,19,"Page 19: Electronic Revenue",null,"CIPFA Public Libraries Profile","  Club (for Text, or Club)",null,null,null,"Gateshead","um",null,8,{"$f":"IF((ROW()-5=$G$36),1,IF((M42=Coding!$H$75)+(Coding!$H$75=\"ALL\")+(Coding!$H$75=\"U\")*OR(M42=\"W\",M42=\"su\",M42=\"L\",M42=\"MD\",M42=\"UA\")+(Coding!$H$75=\"na\")*AND(M42<>\"W\",M42<>\"su\",M42<>\"L\",M42<>\"MD\",M42<>\"UA\",M42<>\"SC\",M42<>\"SD\",M42<>\"p\"),1,0))","v":1},false,{"$f":"IF(OR(NOT(ISERROR(MATCH(L42,OFFSET($H$410,$G$36-2,0,1,18),FALSE))),$G$75=L42),1,0+(($G$36=1)*($H$75=\"OC\")))","v":0},1,8,null,{"$f":"IF((S42=1)*($J$6<22),INDEX($J$13:$J$33,SUM($S$7:S42),1),\"\")","v":""},{"$f":"COUNTIF($T$7:T42,T42)","v":2},null,20,{"$f":"INDEX(V:V,SUMPRODUCT((OFFSET($T$7,0,0,AuthorityCounter2,1)=Y42)*1,(OFFSET($W$7,0,0,AuthorityCounter2,1)=COUNTIF($Y$7:Y42,Y42))*1,ROW(OFFSET($W$7,0,0,AuthorityCounter2,1))))","v":""},18.650406504065042,{"$f":"IF((Y42=AB$2)*(Z42=AC$3)*(SUM($AB$6:AB41)=0),+Y42,0)","v":0},20,null,{"$f":"IF($AE$6=3,O42,SUM((CODE(MID(CONCATENATE(UPPER(M42),\"aaaaaaaaaa\"),{1;2},1))-30)*{1;0.01}))","v":55.47},{"$f":"COUNTIF($AE$7:$AE42,AE42)","v":6},null,55.46,55.46,{"$f":"COUNTIF($AI$7:$AI42,AI42)","v":9},{"$f":"IF($AE$6=1,L42,OFFSET($L$1,SUMPRODUCT(--(OFFSET($AE$7,0,0,AuthorityCounter,1)=AI42),--(OFFSET($AF$7,0,0,AuthorityCounter,1)=COUNTIF($AI$7:AI42,AI42)),ROW(OFFSET($AF$7,0,0,AuthorityCounter,1)))-1,0))","v":"Gateshead"},null,{"$f":"IF(VLOOKUP(AK42,colAM,IF($H$75=\"OC\",8,5),FALSE)=1,MAX(AM$6:$AM41)+1,0)","v":36},"Gateshead",false,{"$f":"IF($AP$5,SUM(SUMPRODUCT(--AO$7:$AO42)*AO42,(SUMPRODUCT(--(AO$7:$AO42=FALSE))+SUMPRODUCT(--colAP))*(1-AO42)),ROW()-6)","v":36},"Gateshead","Gateshead",null,null,null,null,null,null,null,null,null,null,null,null,null,null,null,null,null,null,null,null,null,null,null,null,null,null,null,null,null,null,null,null,null,null,null,null,null,null,null,null,null,null,null,null,null,null,null,null,null,null,null,null,null,null,null,null,null,null,null,null,null,null,null,null,null,null,null,null,null,null,null,null,null,null,null,null,null,null,null,null,null,null,null,null,null,null,null,null,null,null,null,null,null,null,null,null,null,null,null,null,null,null,null,null,null,null,null,null,null,null,null,null,null,null,null,null,null,null,null,null,null,null,null,null,null,null,null,null,null,null,null,null,null,null,null,null,null,null,null,null,null,null,null,null,null,null,null,null,null,null,null,null,null,null,null,null,null,null,null,null,null,null,null,null,null,null,null,null,null,null,null,null,null,null,null,null,null,null,null,null,null,null,null,null,null,null,null,null,null,null,null,null,null,null,null,null,null,null,null,null,null,null,null,null,null,null,null,null,null,"Page 11: Electronic Revenue","£#,##0.00",{"$f":"AB7","v":0}]
["(P.05)[03]Lettings",135,19,19,"Page 19: Lettings",null,null,null,null,null,null,"Gloucestershire","c",null,32,{"$f":"IF((ROW()-5=$G$36),1,IF((M43=Coding!$H$75)+(Coding!$H$75=\"ALL\")+(Coding!$H$75=\"U\")*OR(M43=\"W\",M43=\"su\",M43=\"L\",M43=\"MD\",M43=\"UA\")+(Coding!$H$75=\"na\")*AND(M43<>\"W\",M43<>\"su\",M43<>\"L\",M43<>\"MD\",M43<>\"UA\",M43<>\"SC\",M43<>\"SD\",M43<>\"p\"),1,0))","v":1},false,{"$f":"IF(OR(NOT(ISERROR(MATCH(L43,OFFSET($H$410,$G$36-2,0,1,18),FALSE))),$G$75=L43),1,0+(($G$36=1)*($H$75=\"OC\")))","v":0},1,32,null,{"$f":"IF((S43=1)*($J$6<22),INDEX($J$13:$J$33,SUM($S$7:S43),1),\"\")","v":""},{"$f":"COUNTIF($T$7:T43,T43)","v":1},null,18,{"$f":"INDEX(V:V,SUMPRODUCT((OFFSET($T$7,0,0,AuthorityCounter2,1)=Y43)*1,(OFFSET($W$7,0,0,AuthorityCounter2,1)=COUNTIF($Y$7:Y43,Y43))*1,ROW(OFFSET($W$7,0,0,AuthorityCounter2,1))))","v":""},18.650406504065042,{"$f":"IF((Y43=AB$2)*(Z43=AC$3)*(SUM($AB$6:AB42)=0),+Y43,0)","v":0},18,null,{"$f":"IF($AE$6=3,O43,SUM((CODE(MID(CONCATENATE(UPPER(M43),\"aaaaaaaaaa\"),{1;2},1))-30)*{1;0.01}))","v":37.67},{"$f":"COUNTIF($AE$7:$AE43,AE43)","v":9},null,55.46,55.46,{"$f":"COUNTIF($AI$7:$AI43,AI43)","v":10},{"$f":"IF($AE$6=1,L43,OFFSET($L$1,SUMPRODUCT(--(OFFSET($AE$7,0,0,AuthorityCounter,1)=AI43),--(OFFSET($AF$7,0,0,AuthorityCounter,1)=COUNTIF($AI$7:AI43,AI43)),ROW(OFFSET($AF$7,0,0,AuthorityCounter,1)))-1,0))","v":"Gloucestershire"},null,{"$f":"IF(VLOOKUP(AK43,colAM,IF($H$75=\"OC\",8,5),FALSE)=1,MAX(AM$6:$AM42)+1,0)","v":37},"Gloucestershire",false,{"$f":"IF($AP$5,SUM(SUMPRODUCT(--AO$7:$AO43)*AO43,(SUMPRODUCT(--(AO$7:$AO43=FALSE))+SUMPRODUCT(--colAP))*(1-AO43)),ROW()-6)","v":37},"Gloucestershire","Gloucestershire",null,null,null,null,null,null,null,null,null,null,null,null,null,null,null,null,null,null,null,null,null,null,null,null,null,null,null,null,null,null,null,null,null,null,null,null,null,null,null,null,null,null,null,null,null,null,null,null,null,null,null,null,null,null,null,null,null,null,null,null,null,null,null,null,null,null,null,null,null,null,null,null,null,null,null,null,null,null,null,null,null,null,null,null,null,null,null,null,null,null,null,null,null,null,null,null,null,null,null,null,null,null,null,null,null,null,null,null,null,null,null,null,null,null,null,null,null,null,null,null,null,null,null,null,null,null,null,null,null,null,null,null,null,null,null,null,null,null,null,null,null,null,null,null,null,null,null,null,null,null,null,null,null,null,null,null,null,null,null,null,null,null,null,null,null,null,null,null,null,null,null,null,null,null,null,null,null,null,null,null,null,null,null,null,null,null,null,null,null,null,null,null,null,null,null,null,null,null,null,null,null,null,null,null,null,null,null,null,null,"Page 11: Lettings","£#,##0",{"$f":"AB7","v":0}]
["(P.05)[04]Provision to other LAs",135,20,19,"Page 19: Provision to other LAs",null,{"$f":"MATCH(I88,I94:I105,FALSE)","v":{"$error":"#N/A"}},null,null,null,null,"Greenwich","ul",null,12,{"$f":"IF((ROW()-5=$G$36),1,IF((M44=Coding!$H$75)+(Coding!$H$75=\"ALL\")+(Coding!$H$75=\"U\")*OR(M44=\"W\",M44=\"su\",M44=\"L\",M44=\"MD\",M44=\"UA\")+(Coding!$H$75=\"na\")*AND(M44<>\"W\",M44<>\"su\",M44<>\"L\",M44<>\"MD\",M44<>\"UA\",M44<>\"SC\",M44<>\"SD\",M44<>\"p\"),1,0))","v":1},false,{"$f":"IF(OR(NOT(ISERROR(MATCH(L44,OFFSET($H$410,$G$36-2,0,1,18),FALSE))),$G$75=L44),1,0+(($G$36=1)*($H$75=\"OC\")))","v":0},1,12,null,{"$f":"IF((S44=1)*($J$6<22),INDEX($J$13:$J$33,SUM($S$7:S44),1),\"\")","v":""},{"$f":"COUNTIF($T$7:T44,T44)","v":3},null,17,{"$f":"INDEX(V:V,SUMPRODUCT((OFFSET($T$7,0,0,AuthorityCounter2,1)=Y44)*1,(OFFSET($W$7,0,0,AuthorityCounter2,1)=COUNTIF($Y$7:Y44,Y44))*1,ROW(OFFSET($W$7,0,0,AuthorityCounter2,1))))","v":""},18.650406504065042,{"$f":"IF((Y44=AB$2)*(Z44=AC$3)*(SUM($AB$6:AB43)=0),+Y44,0)","v":0},17,null,{"$f":"IF($AE$6=3,O44,SUM((CODE(MID(CONCATENATE(UPPER(M44),\"aaaaaaaaaa\"),{1;2},1))-30)*{1;0.01}))","v":55.46},{"$f":"COUNTIF($AE$7:$AE44,AE44)","v":10},null,55.46,55.46,{"$f":"COUNTIF($AI$7:$AI44,AI44)","v":11},{"$f":"IF($AE$6=1,L44,OFFSET($L$1,SUMPRODUCT(--(OFFSET($AE$7,0,0,AuthorityCounter,1)=AI44),--(OFFSET($AF$7,0,0,AuthorityCounter,1)=COUNTIF($AI$7:AI44,AI44)),ROW(OFFSET($AF$7,0,0,AuthorityCounter,1)))-1,0))","v":"Greenwich"},null,{"$f":"IF(VLOOKUP(AK44,colAM,IF($H$75=\"OC\",8,5),FALSE)=1,MAX(AM$6:$AM43)+1,0)","v":38},"Greenwich",false,{"$f":"IF($AP$5,SUM(SUMPRODUCT(--AO$7:$AO44)*AO44,(SUMPRODUCT(--(AO$7:$AO44=FALSE))+SUMPRODUCT(--colAP))*(1-AO44)),ROW()-6)","v":38},"Greenwich","Greenwich",null,null,null,null,null,null,null,null,null,null,null,null,null,null,null,null,null,null,null,null,null,null,null,null,null,null,null,null,null,null,null,null,null,null,null,null,null,null,null,null,null,null,null,null,null,null,null,null,null,null,null,null,null,null,null,null,null,null,null,null,null,null,null,null,null,null,null,null,null,null,null,null,null,null,null,null,null,null,null,null,null,null,null,null,null,null,null,null,null,null,null,null,null,null,null,null,null,null,null,null,null,null,null,null,null,null,null,null,null,null,null,null,null,null,null,null,null,null,null,null,null,null,null,null,null,null,null,null,null,null,null,null,null,null,null,null,null,null,null,null,null,null,null,null,null,null,null,null,null,null,null,null,null,null,null,null,null,null,null,null,null,null,null,null,null,null,null,null,null,null,null,null,null,null,null,null,null,null,null,null,null,null,null,null,null,null,null,null,null,null,null,null,null,null,null,null,null,null,null,null,null,null,null,null,null,null,null,null,null,"Page 11: Provision to other LAs","£#,##0",{"$f":"AB7","v":0}]
["(P.06)[01]Average Cost per Acquisition (Books)",135,21,20,"Page 20: Average Cost per Acquisition (Books)",null,null,null,null,null,null,"Hackney","ul",null,8,{"$f":"IF((ROW()-5=$G$36),1,IF((M45=Coding!$H$75)+(Coding!$H$75=\"ALL\")+(Coding!$H$75=\"U\")*OR(M45=\"W\",M45=\"su\",M45=\"L\",M45=\"MD\",M45=\"UA\")+(Coding!$H$75=\"na\")*AND(M45<>\"W\",M45<>\"su\",M45<>\"L\",M45<>\"MD\",M45<>\"UA\",M45<>\"SC\",M45<>\"SD\",M45<>\"p\"),1,0))","v":1},false,{"$f":"IF(OR(NOT(ISERROR(MATCH(L45,OFFSET($H$410,$G$36-2,0,1,18),FALSE))),$G$75=L45),1,0+(($G$36=1)*($H$75=\"OC\")))","v":0},1,8,null,{"$f":"IF((S45=1)*($J$6<22),INDEX($J$13:$J$33,SUM($S$7:S45),1),\"\")","v":""},{"$f":"COUNTIF($T$7:T45,T45)","v":3},null,17,{"$f":"INDEX(V:V,SUMPRODUCT((OFFSET($T$7,0,0,AuthorityCounter2,1)=Y45)*1,(OFFSET($W$7,0,0,AuthorityCounter2,1)=COUNTIF($Y$7:Y45,Y45))*1,ROW(OFFSET($W$7,0,0,AuthorityCounter2,1))))","v":""},18.650406504065042,{"$f":"IF((Y45=AB$2)*(Z45=AC$3)*(SUM($AB$6:AB44)=0),+Y45,0)","v":0},17,null,{"$f":"IF($AE$6=3,O45,SUM((CODE(MID(CONCATENATE(UPPER(M45),\"aaaaaaaaaa\"),{1;2},1))-30)*{1;0.01}))","v":55.46},{"$f":"COUNTIF($AE$7:$AE45,AE45)","v":11},null,55.46,55.46,{"$f":"COUNTIF($AI$7:$AI45,AI45)","v":12},{"$f":"IF($AE$6=1,L45,OFFSET($L$1,SUMPRODUCT(--(OFFSET($AE$7,0,0,AuthorityCounter,1)=AI45),--(OFFSET($AF$7,0,0,AuthorityCounter,1)=COUNTIF($AI$7:AI45,AI45)),ROW(OFFSET($AF$7,0,0,AuthorityCounter,1)))-1,0))","v":"Hackney"},null,{"$f":"IF(VLOOKUP(AK45,colAM,IF($H$75=\"OC\",8,5),FALSE)=1,MAX(AM$6:$AM44)+1,0)","v":39},"Hackney",false,{"$f":"IF($AP$5,SUM(SUMPRODUCT(--AO$7:$AO45)*AO45,(SUMPRODUCT(--(AO$7:$AO45=FALSE))+SUMPRODUCT(--colAP))*(1-AO45)),ROW()-6)","v":39},"Hackney","Hackney",null,null,null,null,null,null,null,null,null,null,null,null,null,null,null,null,null,null,null,null,null,null,null,null,null,null,null,null,null,null,null,null,null,null,null,null,null,null,null,null,null,null,null,null,null,null,null,null,null,null,null,null,null,null,null,null,null,null,null,null,null,null,null,null,null,null,null,null,null,null,null,null,null,null,null,null,null,null,null,null,null,null,null,null,null,null,null,null,null,null,null,null,null,null,null,null,null,null,null,null,null,null,null,null,null,null,null,null,null,null,null,null,null,null,null,null,null,null,null,null,null,null,null,null,null,null,null,null,null,null,null,null,null,null,null,null,null,null,null,null,null,null,null,null,null,null,null,null,null,null,null,null,null,null,null,null,null,null,null,null,null,null,null,null,null,null,null,null,null,null,null,null,null,null,null,null,null,null,null,null,null,null,null,null,null,null,null,null,null,null,null,null,null,null,null,null,null,null,null,null,null,null,null,null,null,null,null,null,null,"Page 12: Average Cost per Acquisition (Books)","£#,##0",{"$f":"AB7","v":0}]
["(P.06)[02]Cost per Visitor",135,22,20,"Page 20: Cost per Visitor",null,null,null,null,null,null,"Halton","uu",null,4,{"$f":"IF((ROW()-5=$G$36),1,IF((M46=Coding!$H$75)+(Coding!$H$75=\"ALL\")+(Coding!$H$75=\"U\")*OR(M46=\"W\",M46=\"su\",M46=\"L\",M46=\"MD\",M46=\"UA\")+(Coding!$H$75=\"na\")*AND(M46<>\"W\",M46<>\"su\",M46<>\"L\",M46<>\"MD\",M46<>\"UA\",M46<>\"SC\",M46<>\"SD\",M46<>\"p\"),1,0))","v":1},false,{"$f":"IF(OR(NOT(ISERROR(MATCH(L46,OFFSET($H$410,$G$36-2,0,1,18),FALSE))),$G$75=L46),1,0+(($G$36=1)*($H$75=\"OC\")))","v":0},1,4,null,{"$f":"IF((S46=1)*($J$6<22),INDEX($J$13:$J$33,SUM($S$7:S46),1),\"\")","v":""},{"$f":"COUNTIF($T$7:T46,T46)","v":2},null,17,{"$f":"INDEX(V:V,SUMPRODUCT((OFFSET($T$7,0,0,AuthorityCounter2,1)=Y46)*1,(OFFSET($W$7,0,0,AuthorityCounter2,1)=COUNTIF($Y$7:Y46,Y46))*1,ROW(OFFSET($W$7,0,0,AuthorityCounter2,1))))","v":""},18.650406504065042,{"$f":"IF((Y46=AB$2)*(Z46=AC$3)*(SUM($AB$6:AB45)=0),+Y46,0)","v":0},17,null,{"$f":"IF($AE$6=3,O46,SUM((CODE(MID(CONCATENATE(UPPER(M46),\"aaaaaaaaaa\"),{1;2},1))-30)*{1;0.01}))","v":55.55},{"$f":"COUNTIF($AE$7:$AE46,AE46)","v":14},null,55.46,55.46,{"$f":"COUNTIF($AI$7:$AI46,AI46)","v":13},{"$f":"IF($AE$6=1,L46,OFFSET($L$1,SUMPRODUCT(--(OFFSET($AE$7,0,0,AuthorityCounter,1)=AI46),--(OFFSET($AF$7,0,0,AuthorityCounter,1)=COUNTIF($AI$7:AI46,AI46)),ROW(OFFSET($AF$7,0,0,AuthorityCounter,1)))-1,0))","v":"Halton"},null,{"$f":"IF(VLOOKUP(AK46,colAM,IF($H$75=\"OC\",8,5),FALSE)=1,MAX(AM$6:$AM45)+1,0)","v":40},"Halton",false,{"$f":"IF($AP$5,SUM(SUMPRODUCT(--AO$7:$AO46)*AO46,(SUMPRODUCT(--(AO$7:$AO46=FALSE))+SUMPRODUCT(--colAP))*(1-AO46)),ROW()-6)","v":40},"Halton","Halton",null,null,null,null,null,null,null,null,null,null,null,null,null,null,null,null,null,null,null,null,null,null,null,null,null,null,null,null,null,null,null,null,null,null,null,null,null,null,null,null,null,null,null,null,null,null,null,null,null,null,null,null,null,null,null,null,null,null,null,null,null,null,null,null,null,null,null,null,null,null,null,null,null,null,null,null,null,null,null,null,null,null,null,null,null,null,null,null,null,null,null,null,null,null,null,null,null,null,null,null,null,null,null,null,null,null,null,null,null,null,null,null,null,null,null,null,null,null,null,null,null,null,null,null,null,null,null,null,null,null,null,null,null,null,null,null,null,null,null,null,null,null,null,null,null,null,null,null,null,null,null,null,null,null,null,null,null,null,null,null,null,null,null,null,null,null,null,null,null,null,null,null,null,null,null,null,null,null,null,null,null,null,null,null,null,null,null,null,null,null,null,null,null,null,null,null,null,null,null,null,null,null,null,null,null,null,null,null,null,"Page 12: Cost per Visitor","£#,##0",{"$f":"AB7","v":0}]
["(P.06)[03]Employee Expenditure as a % of Revenue Expenditure",135,23,20,"Page 20: Employee Expenditure as a % of Revenue Expenditure",null,null,null,null,null,null,"Hammersmith & Fulham","ul",null,4,{"$f":"IF((ROW()-5=$G$36),1,IF((M47=Coding!$H$75)+(Coding!$H$75=\"ALL\")+(Coding!$H$75=\"U\")*OR(M47=\"W\",M47=\"su\",M47=\"L\",M47=\"MD\",M47=\"UA\")+(Coding!$H$75=\"na\")*AND(M47<>\"W\",M47<>\"su\",M47<>\"L\",M47<>\"MD\",M47<>\"UA\",M47<>\"SC\",M47<>\"SD\",M47<>\"p\"),1,0))","v":1},false,{"$f":"IF(OR(NOT(ISERROR(MATCH(L47,OFFSET($H$410,$G$36-2,0,1,18),FALSE))),$G$75=L47),1,0+(($G$36=1)*($H$75=\"OC\")))","v":0},1,4,null,{"$f":"IF((S47=1)*($J$6<22),INDEX($J$13:$J$33,SUM($S$7:S47),1),\"\")","v":""},{"$f":"COUNTIF($T$7:T47,T47)","v":3},null,17,{"$f":"INDEX(V:V,SUMPRODUCT((OFFSET($T$7,0,0,AuthorityCounter2,1)=Y47)*1,(OFFSET($W$7,0,0,AuthorityCounter2,1)=COUNTIF($Y$7:Y47,Y47))*1,ROW(OFFSET($W$7,0,0,AuthorityCounter2,1))))","v":""},18.650406504065042,{"$f":"IF((Y47=AB$2)*(Z47=AC$3)*(SUM($AB$6:AB46)=0),+Y47,0)","v":0},17,null,{"$f":"IF($AE$6=3,O47,SUM((CODE(MID(CONCATENATE(UPPER(M47),\"aaaaaaaaaa\"),{1;2},1))-30)*{1;0.01}))","v":55.46},{"$f":"COUNTIF($AE$7:$AE47,AE47)","v":12},null,55.46,55.46,{"$f":"COUNTIF($AI$7:$AI47,AI47)","v":14},{"$f":"IF($AE$6=1,L47,OFFSET($L$1,SUMPRODUCT(--(OFFSET($AE$7,0,0,AuthorityCounter,1)=AI47),--(OFFSET($AF$7,0,0,AuthorityCounter,1)=COUNTIF($AI$7:AI47,AI47)),ROW(OFFSET($AF$7,0,0,AuthorityCounter,1)))-1,0))","v":"Hammersmith & Fulham"},null,{"$f":"IF(VLOOKUP(AK47,colAM,IF($H$75=\"OC\",8,5),FALSE)=1,MAX(AM$6:$AM46)+1,0)","v":41},"Hammersmith & Fulham",false,{"$f":"IF($AP$5,SUM(SUMPRODUCT(--AO$7:$AO47)*AO47,(SUMPRODUCT(--(AO$7:$AO47=FALSE))+SUMPRODUCT(--colAP))*(1-AO47)),ROW()-6)","v":41},"Hammersmith & Fulham","Hammersmith & Fulham",null,null,null,null,null,null,null,null,null,null,null,null,null,null,null,null,null,null,null,null,null,null,null,null,null,null,null,null,null,null,null,null,null,null,null,null,null,null,null,null,null,null,null,null,null,null,null,null,null,null,null,null,null,null,null,null,null,null,null,null,null,null,null,null,null,null,null,null,null,null,null,null,null,null,null,null,null,null,null,null,null,null,null,null,null,null,null,null,null,null,null,null,null,null,null,null,null,null,null,null,null,null,null,null,null,null,null,null,null,null,null,null,null,null,null,null,null,null,null,null,null,null,null,null,null,null,null,null,null,null,null,null,null,null,null,null,null,null,null,null,null,null,null,null,null,null,null,null,null,null,null,null,null,null,null,null,null,null,null,null,null,null,null,null,null,null,null,null,null,null,null,null,null,null,null,null,null,null,null,null,null,null,null,null,null,null,null,null,null,null,null,null,null,null,null,null,null,null,null,null,null,null,null,null,null,null,null,null,null,"Page 12: Employee Expenditure as a % of Revenue Expenditure","0%",{"$f":"AB7","v":0}]
["(P.06)[04]Material Expenditure as a % of Revenue Expenditure",135,24,20,"Page 20: Material Expenditure as a % of Revenue Expenditure",null,null,null,null,null,null,"Hampshire","c",null,52,{"$f":"IF((ROW()-5=$G$36),1,IF((M48=Coding!$H$75)+(Coding!$H$75=\"ALL\")+(Coding!$H$75=\"U\")*OR(M48=\"W\",M48=\"su\",M48=\"L\",M48=\"MD\",M48=\"UA\")+(Coding!$H$75=\"na\")*AND(M48<>\"W\",M48<>\"su\",M48<>\"L\",M48<>\"MD\",M48<>\"UA\",M48<>\"SC\",M48<>\"SD\",M48<>\"p\"),1,0))","v":1},false,{"$f":"IF(OR(NOT(ISERROR(MATCH(L48,OFFSET($H$410,$G$36-2,0,1,18),FALSE))),$G$75=L48),1,0+(($G$36=1)*($H$75=\"OC\")))","v":0},1,52,null,{"$f":"IF((S48=1)*($J$6<22),INDEX($J$13:$J$33,SUM($S$7:S48),1),\"\")","v":""},{"$f":"COUNTIF($T$7:T48,T48)","v":1},null,17,{"$f":"INDEX(V:V,SUMPRODUCT((OFFSET($T$7,0,0,AuthorityCounter2,1)=Y48)*1,(OFFSET($W$7,0,0,AuthorityCounter2,1)=COUNTIF($Y$7:Y48,Y48))*1,ROW(OFFSET($W$7,0,0,AuthorityCounter2,1))))","v":""},18.650406504065042,{"$f":"IF((Y48=AB$2)*(Z48=AC$3)*(SUM($AB$6:AB47)=0),+Y48,0)","v":0},17,null,{"$f":"IF($AE$6=3,O48,SUM((CODE(MID(CONCATENATE(UPPER(M48),\"aaaaaaaaaa\"),{1;2},1))-30)*{1;0.01}))","v":37.67},{"$f":"COUNTIF($AE$7:$AE48,AE48)","v":10},null,55.46,55.46,{"$f":"COUNTIF($AI$7:$AI48,AI48)","v":15},{"$f":"IF($AE$6=1,L48,OFFSET($L$1,SUMPRODUCT(--(OFFSET($AE$7,0,0,AuthorityCounter,1)=AI48),--(OFFSET($AF$7,0,0,AuthorityCounter,1)=COUNTIF($AI$7:AI48,AI48)),ROW(OFFSET($AF$7,0,0,AuthorityCounter,1)))-1,0))","v":"Hampshire"},null,{"$f":"IF(VLOOKUP(AK48,colAM,IF($H$75=\"OC\",8,5),FALSE)=1,MAX(AM$6:$AM47)+1,0)","v":42},"Hampshire",false,{"$f":"IF($AP$5,SUM(SUMPRODUCT(--AO$7:$AO48)*AO48,(SUMPRODUCT(--(AO$7:$AO48=FALSE))+SUMPRODUCT(--colAP))*(1-AO48)),ROW()-6)","v":42},"Hampshire","Hampshire",null,null,null,null,null,null,null,null,null,null,null,null,null,null,null,null,null,null,null,null,null,null,null,null,null,null,null,null,null,null,null,null,null,null,null,null,null,null,null,null,null,null,null,null,null,null,null,null,null,null,null,null,null,null,null,null,null,null,null,null,null,null,null,null,null,null,null,null,null,null,null,null,null,null,null,null,null,null,null,null,null,null,null,null,null,null,null,null,null,null,null,null,null,null,null,null,null,null,null,null,null,null,null,null,null,null,null,null,null,null,null,null,null,null,null,null,null,null,null,null,null,null,null,null,null,null,null,null,null,null,null,null,null,null,null,null,null,null,null,null,null,null,null,null,null,null,null,null,null,null,null,null,null,null,null,null,null,null,null,null,null,null,null,null,null,null,null,null,null,null,null,null,null,null,null,null,null,null,null,null,null,null,null,null,null,null,null,null,null,null,null,null,null,null,null,null,null,null,null,null,null,null,null,null,null,null,null,null,null,"Page 12: Material Expenditure as a % of Revenue Expenditure","0%",{"$f":"AB7","v":0}]
["(P.06)[05]Support Service Costs as a % of Revenue Expenditure",135,25,20,"Page 20: Support Service Costs as a % of Revenue Expenditure",null,null,null,null,null,null,"Haringey","ul",null,9,{"$f":"IF((ROW()-5=$G$36),1,IF((M49=Coding!$H$75)+(Coding!$H$75=\"ALL\")+(Coding!$H$75=\"U\")*OR(M49=\"W\",M49=\"su\",M49=\"L\",M49=\"MD\",M49=\"UA\")+(Coding!$H$75=\"na\")*AND(M49<>\"W\",M49<>\"su\",M49<>\"L\",M49<>\"MD\",M49<>\"UA\",M49<>\"SC\",M49<>\"SD\",M49<>\"p\"),1,0))","v":1},false,{"$f":"IF(OR(NOT(ISERROR(MATCH(L49,OFFSET($H$410,$G$36-2,0,1,18),FALSE))),$G$75=L49),1,0+(($G$36=1)*($H$75=\"OC\")))","v":0},1,9,null,{"$f":"IF((S49=1)*($J$6<22),INDEX($J$13:$J$33,SUM($S$7:S49),1),\"\")","v":""},{"$f":"COUNTIF($T$7:T49,T49)","v":2},null,17,{"$f":"INDEX(V:V,SUMPRODUCT((OFFSET($T$7,0,0,AuthorityCounter2,1)=Y49)*1,(OFFSET($W$7,0,0,AuthorityCounter2,1)=COUNTIF($Y$7:Y49,Y49))*1,ROW(OFFSET($W$7,0,0,AuthorityCounter2,1))))","v":""},18.650406504065042,{"$f":"IF((Y49=AB$2)*(Z49=AC$3)*(SUM($AB$6:AB48)=0),+Y49,0)","v":0},17,null,{"$f":"IF($AE$6=3,O49,SUM((CODE(MID(CONCATENATE(UPPER(M49),\"aaaaaaaaaa\"),{1;2},1))-30)*{1;0.01}))","v":55.46},{"$f":"COUNTIF($AE$7:$AE49,AE49)","v":13},null,55.46,55.46,{"$f":"COUNTIF($AI$7:$AI49,AI49)","v":16},{"$f":"IF($AE$6=1,L49,OFFSET($L$1,SUMPRODUCT(--(OFFSET($AE$7,0,0,AuthorityCounter,1)=AI49),--(OFFSET($AF$7,0,0,AuthorityCounter,1)=COUNTIF($AI$7:AI49,AI49)),ROW(OFFSET($AF$7,0,0,AuthorityCounter,1)))-1,0))","v":"Haringey"},null,{"$f":"IF(VLOOKUP(AK49,colAM,IF($H$75=\"OC\",8,5),FALSE)=1,MAX(AM$6:$AM48)+1,0)","v":43},"Haringey",false,{"$f":"IF($AP$5,SUM(SUMPRODUCT(--AO$7:$AO49)*AO49,(SUMPRODUCT(--(AO$7:$AO49=FALSE))+SUMPRODUCT(--colAP))*(1-AO49)),ROW()-6)","v":43},"Haringey","Haringey",null,null,null,null,null,null,null,null,null,null,null,null,null,null,null,null,null,null,null,null,null,null,null,null,null,null,null,null,null,null,null,null,null,null,null,null,null,null,null,null,null,null,null,null,null,null,null,null,null,null,null,null,null,null,null,null,null,null,null,null,null,null,null,null,null,null,null,null,null,null,null,null,null,null,null,null,null,null,null,null,null,null,null,null,null,null,null,null,null,null,null,null,null,null,null,null,null,null,null,null,null,null,null,null,null,null,null,null,null,null,null,null,null,null,null,null,null,null,null,null,null,null,null,null,null,null,null,null,null,null,null,null,null,null,null,null,null,null,null,null,null,null,null,null,null,null,null,null,null,null,null,null,null,null,null,null,null,null,null,null,null,null,null,null,null,null,null,null,null,null,null,null,null,null,null,null,null,null,null,null,null,null,null,null,null,null,null,null,null,null,null,null,null,null,null,null,null,null,null,null,null,null,null,null,null,null,null,null,null,"Page 12: Support Service Costs as a % of Revenue Expenditure","0%",{"$f":"AB7","v":0}]
["(P.06)[06]Cost per Available Hour",135,26,20,"Page 20: Cost per Available Hour",null,null,null,null,null,null,"Harrow","ul",null,6,{"$f":"IF((ROW()-5=$G$36),1,IF((M50=Coding!$H$75)+(Coding!$H$75=\"ALL\")+(Coding!$H$75=\"U\")*OR(M50=\"W\",M50=\"su\",M50=\"L\",M50=\"MD\",M50=\"UA\")+(Coding!$H$75=\"na\")*AND(M50<>\"W\",M50<>\"su\",M50<>\"L\",M50<>\"MD\",M50<>\"UA\",M50<>\"SC\",M50<>\"SD\",M50<>\"p\"),1,0))","v":1},false,{"$f":"IF(OR(NOT(ISERROR(MATCH(L50,OFFSET($H$410,$G$36-2,0,1,18),FALSE))),$G$75=L50),1,0+(($G$36=1)*($H$75=\"OC\")))","v":0},1,6,null,{"$f":"IF((S50=1)*($J$6<22),INDEX($J$13:$J$33,SUM($S$7:S50),1),\"\")","v":""},{"$f":"COUNTIF($T$7:T50,T50)","v":4},null,16,{"$f":"INDEX(V:V,SUMPRODUCT((OFFSET($T$7,0,0,AuthorityCounter2,1)=Y50)*1,(OFFSET($W$7,0,0,AuthorityCounter2,1)=COUNTIF($Y$7:Y50,Y50))*1,ROW(OFFSET($W$7,0,0,AuthorityCounter2,1))))","v":""},18.650406504065042,{"$f":"IF((Y50=AB$2)*(Z50=AC$3)*(SUM($AB$6:AB49)=0),+Y50,0)","v":0},16,null,{"$f":"IF($AE$6=3,O50,SUM((CODE(MID(CONCATENATE(UPPER(M50),\"aaaaaaaaaa\"),{1;2},1))-30)*{1;0.01}))","v":55.46},{"$f":"COUNTIF($AE$7:$AE50,AE50)","v":14},null,55.46,55.46,{"$f":"COUNTIF($AI$7:$AI50,AI50)","v":17},{"$f":"IF($AE$6=1,L50,OFFSET($L$1,SUMPRODUCT(--(OFFSET($AE$7,0,0,AuthorityCounter,1)=AI50),--(OFFSET($AF$7,0,0,AuthorityCounter,1)=COUNTIF($AI$7:AI50,AI50)),ROW(OFFSET($AF$7,0,0,AuthorityCounter,1)))-1,0))","v":"Harrow"},null,{"$f":"IF(VLOOKUP(AK50,colAM,IF($H$75=\"OC\",8,5),FALSE)=1,MAX(AM$6:$AM49)+1,0)","v":44},"Harrow",false,{"$f":"IF($AP$5,SUM(SUMPRODUCT(--AO$7:$AO50)*AO50,(SUMPRODUCT(--(AO$7:$AO50=FALSE))+SUMPRODUCT(--colAP))*(1-AO50)),ROW()-6)","v":44},"Harrow","Harrow",null,null,null,null,null,null,null,null,null,null,null,null,null,null,null,null,null,null,null,null,null,null,null,null,null,null,null,null,null,null,null,null,null,null,null,null,null,null,null,null,null,null,null,null,null,null,null,null,null,null,null,null,null,null,null,null,null,null,null,null,null,null,null,null,null,null,null,null,null,null,null,null,null,null,null,null,null,null,null,null,null,null,null,null,null,null,null,null,null,null,null,null,null,null,null,null,null,null,null,null,null,null,null,null,null,null,null,null,null,null,null,null,null,null,null,null,null,null,null,null,null,null,null,null,null,null,null,null,null,null,null,null,null,null,null,null,null,null,null,null,null,null,null,null,null,null,null,null,null,null,null,null,null,null,null,null,null,null,null,null,null,null,null,null,null,null,null,null,null,null,null,null,null,null,null,null,null,null,null,null,null,null,null,null,null,null,null,null,null,null,null,null,null,null,null,null,null,null,null,null,null,null,null,null,null,null,null,null,null,"Page 12: Cost per Available Hour","£#,##0",{"$f":"AB7","v":0}]
["(P.07)[01]Net Expenditure (Estimates)",135,27,21,"Page 21: Net Expenditure (Estimates)",null,null,null,null,null,null,"Havering","ul",null,10,{"$f":"IF((ROW()-5=$G$36),1,IF((M51=Coding!$H$75)+(Coding!$H$75=\"ALL\")+(Coding!$H$75=\"U\")*OR(M51=\"W\",M51=\"su\",M51=\"L\",M51=\"MD\",M51=\"UA\")+(Coding!$H$75=\"na\")*AND(M51<>\"W\",M51<>\"su\",M51<>\"L\",M51<>\"MD\",M51<>\"UA\",M51<>\"SC\",M51<>\"SD\",M51<>\"p\"),1,0))","v":1},false,{"$f":"IF(OR(NOT(ISERROR(MATCH(L51,OFFSET($H$410,$G$36-2,0,1,18),FALSE))),$G$75=L51),1,0+(($G$36=1)*($H$75=\"OC\")))","v":0},1,10,null,{"$f":"IF((S51=1)*($J$6<22),INDEX($J$13:$J$33,SUM($S$7:S51),1),\"\")","v":""},{"$f":"COUNTIF($T$7:T51,T51)","v":2},null,16,{"$f":"INDEX(V:V,SUMPRODUCT((OFFSET($T$7,0,0,AuthorityCounter2,1)=Y51)*1,(OFFSET($W$7,0,0,AuthorityCounter2,1)=COUNTIF($Y$7:Y51,Y51))*1,ROW(OFFSET($W$7,0,0,AuthorityCounter2,1))))","v":""},18.650406504065042,{"$f":"IF((Y51=AB$2)*(Z51=AC$3)*(SUM($AB$6:AB50)=0),+Y51,0)","v":0},16,null,{"$f":"IF($AE$6=3,O51,SUM((CODE(MID(CONCATENATE(UPPER(M51),\"aaaaaaaaaa\"),{1;2},1))-30)*{1;0.01}))","v":55.46},{"$f":"COUNTIF($AE$7:$AE51,AE51)","v":15},null,55.46,55.46,{"$f":"COUNTIF($AI$7:$AI51,AI51)","v":18},{"$f":"IF($AE$6=1,L51,OFFSET($L$1,SUMPRODUCT(--(OFFSET($AE$7,0,0,AuthorityCounter,1)=AI51),--(OFFSET($AF$7,0,0,AuthorityCounter,1)=COUNTIF($AI$7:AI51,AI51)),ROW(OFFSET($AF$7,0,0,AuthorityCounter,1)))-1,0))","v":"Havering"},null,{"$f":"IF(VLOOKUP(AK51,colAM,IF($H$75=\"OC\",8,5),FALSE)=1,MAX(AM$6:$AM50)+1,0)","v":45},"Havering",false,{"$f":"IF($AP$5,SUM(SUMPRODUCT(--AO$7:$AO51)*AO51,(SUMPRODUCT(--(AO$7:$AO51=FALSE))+SUMPRODUCT(--colAP))*(1-AO51)),ROW()-6)","v":45},"Havering","Havering",null,null,null,null,null,null,null,null,null,null,null,null,null,null,null,null,null,null,null,null,null,null,null,null,null,null,null,null,null,null,null,null,null,null,null,null,null,null,null,null,null,null,null,null,null,null,null,null,null,null,null,null,null,null,null,null,null,null,null,null,null,null,null,null,null,null,null,null,null,null,null,null,null,null,null,null,null,null,null,null,null,null,null,null,null,null,null,null,null,null,null,null,null,null,null,null,null,null,null,null,null,null,null,null,null,null,null,null,null,null,null,null,null,null,null,null,null,null,null,null,null,null,null,null,null,null,null,null,null,null,null,null,null,null,null,null,null,null,null,null,null,null,null,null,null,null,null,null,null,null,null,null,null,null,null,null,null,null,null,null,null,null,null,null,null,null,null,null,null,null,null,null,null,null,null,null,null,null,null,null,null,null,null,null,null,null,null,null,null,null,null,null,null,null,null,null,null,null,null,null,null,null,null,null,null,null,null,null,null,"Page 13: Net Expenditure (Estimates)","£#,##0",{"$f":"AB7","v":0}]
["(P.07)[02]Total Revenue Expenditure (Estimates)",135,28,21,"Page 21: Total Revenue Expenditure (Estimates)",null,null,null,null,null,null,"Herefordshire","uu",null,11,{"$f":"IF((ROW()-5=$G$36),1,IF((M52=Coding!$H$75)+(Coding!$H$75=\"ALL\")+(Coding!$H$75=\"U\")*OR(M52=\"W\",M52=\"su\",M52=\"L\",M52=\"MD\",M52=\"UA\")+(Coding!$H$75=\"na\")*AND(M52<>\"W\",M52<>\"su\",M52<>\"L\",M52<>\"MD\",M52<>\"UA\",M52<>\"SC\",M52<>\"SD\",M52<>\"p\"),1,0))","v":1},false,{"$f":"IF(OR(NOT(ISERROR(MATCH(L52,OFFSET($H$410,$G$36-2,0,1,18),FALSE))),$G$75=L52),1,0+(($G$36=1)*($H$75=\"OC\")))","v":0},1,11,null,{"$f":"IF((S52=1)*($J$6<22),INDEX($J$13:$J$33,SUM($S$7:S52),1),\"\")","v":""},{"$f":"COUNTIF($T$7:T52,T52)","v":1},null,16,{"$f":"INDEX(V:V,SUMPRODUCT((OFFSET($T$7,0,0,AuthorityCounter2,1)=Y52)*1,(OFFSET($W$7,0,0,AuthorityCounter2,1)=COUNTIF($Y$7:Y52,Y52))*1,ROW(OFFSET($W$7,0,0,AuthorityCounter2,1))))","v":""},18.650406504065042,{"$f":"IF((Y52=AB$2)*(Z52=AC$3)*(SUM($AB$6:AB51)=0),+Y52,0)","v":0},16,null,{"$f":"IF($AE$6=3,O52,SUM((CODE(MID(CONCATENATE(UPPER(M52),\"aaaaaaaaaa\"),{1;2},1))-30)*{1;0.01}))","v":55.55},{"$f":"COUNTIF($AE$7:$AE52,AE52)","v":15},null,55.46,55.46,{"$f":"COUNTIF($AI$7:$AI52,AI52)","v":19},{"$f":"IF($AE$6=1,L52,OFFSET($L$1,SUMPRODUCT(--(OFFSET($AE$7,0,0,AuthorityCounter,1)=AI52),--(OFFSET($AF$7,0,0,AuthorityCounter,1)=COUNTIF($AI$7:AI52,AI52)),ROW(OFFSET($AF$7,0,0,AuthorityCounter,1)))-1,0))","v":"Herefordshire"},null,{"$f":"IF(VLOOKUP(AK52,colAM,IF($H$75=\"OC\",8,5),FALSE)=1,MAX(AM$6:$AM51)+1,0)","v":46},"Herefordshire",false,{"$f":"IF($AP$5,SUM(SUMPRODUCT(--AO$7:$AO52)*AO52,(SUMPRODUCT(--(AO$7:$AO52=FALSE))+SUMPRODUCT(--colAP))*(1-AO52)),ROW()-6)","v":46},"Herefordshire","Herefordshire",null,null,null,null,null,null,null,null,null,null,null,null,null,null,null,null,null,null,null,null,null,null,null,null,null,null,null,null,null,null,null,null,null,null,null,null,null,null,null,null,null,null,null,null,null,null,null,null,null,null,null,null,null,null,null,null,null,null,null,null,null,null,null,null,null,null,null,null,null,null,null,null,null,null,null,null,null,null,null,null,null,null,null,null,null,null,null,null,null,null,null,null,null,null,null,null,null,null,null,null,null,null,null,null,null,null,null,null,null,null,null,null,null,null,null,null,null,null,null,null,null,null,null,null,null,null,null,null,null,null,null,null,null,null,null,null,null,null,null,null,null,null,null,null,null,null,null,null,null,null,null,null,null,null,null,null,null,null,null,null,null,null,null,null,null,null,null,null,null,null,null,null,null,null,null,null,null,null,null,null,null,null,null,null,null,null,null,null,null,null,null,null,null,null,null,null,null,null,null,null,null,null,null,null,null,null,null,null,null,"Page 13: Total Revenue Expenditure (Estimates)","£#,##0",{"$f":"AB7","v":0}]
["(P.07)[03]Total Revenue Income (Estimates)",135,29,21,"Page 21: Total Revenue Income (Estimates)",null,null,null,null,null,null,"Hertfordshire","c",null,48,{"$f":"IF((ROW()-5=$G$36),1,IF((M53=Coding!$H$75)+(Coding!$H$75=\"ALL\")+(Coding!$H$75=\"U\")*OR(M53=\"W\",M53=\"su\",M53=\"L\",M53=\"MD\",M53=\"UA\")+(Coding!$H$75=\"na\")*AND(M53<>\"W\",M53<>\"su\",M53<>\"L\",M53<>\"MD\",M53<>\"UA\",M53<>\"SC\",M53<>\"SD\",M53<>\"p\"),1,0))","v":1},false,{"$f":"IF(OR(NOT(ISERROR(MATCH(L53,OFFSET($H$410,$G$36-2,0,1,18),FALSE))),$G$75=L53),1,0+(($G$36=1)*($H$75=\"OC\")))","v":0},1,48,null,{"$f":"IF((S53=1)*($J$6<22),INDEX($J$13:$J$33,SUM($S$7:S53),1),\"\")","v":""},{"$f":"COUNTIF($T$7:T53,T53)","v":1},null,16,{"$f":"INDEX(V:V,SUMPRODUCT((OFFSET($T$7,0,0,AuthorityCounter2,1)=Y53)*1,(OFFSET($W$7,0,0,AuthorityCounter2,1)=COUNTIF($Y$7:Y53,Y53))*1,ROW(OFFSET($W$7,0,0,AuthorityCounter2,1))))","v":""},18.650406504065042,{"$f":"IF((Y53=AB$2)*(Z53=AC$3)*(SUM($AB$6:AB52)=0),+Y53,0)","v":0},16,null,{"$f":"IF($AE$6=3,O53,SUM((CODE(MID(CONCATENATE(UPPER(M53),\"aaaaaaaaaa\"),{1;2},1))-30)*{1;0.01}))","v":37.67},{"$f":"COUNTIF($AE$7:$AE53,AE53)","v":11},null,55.46,55.46,{"$f":"COUNTIF($AI$7:$AI53,AI53)","v":20},{"$f":"IF($AE$6=1,L53,OFFSET($L$1,SUMPRODUCT(--(OFFSET($AE$7,0,0,AuthorityCounter,1)=AI53),--(OFFSET($AF$7,0,0,AuthorityCounter,1)=COUNTIF($AI$7:AI53,AI53)),ROW(OFFSET($AF$7,0,0,AuthorityCounter,1)))-1,0))","v":"Hertfordshire"},null,{"$f":"IF(VLOOKUP(AK53,colAM,IF($H$75=\"OC\",8,5),FALSE)=1,MAX(AM$6:$AM52)+1,0)","v":47},"Hertfordshire",false,{"$f":"IF($AP$5,SUM(SUMPRODUCT(--AO$7:$AO53)*AO53,(SUMPRODUCT(--(AO$7:$AO53=FALSE))+SUMPRODUCT(--colAP))*(1-AO53)),ROW()-6)","v":47},"Hertfordshire","Hertfordshire",null,null,null,null,null,null,null,null,null,null,null,null,null,null,null,null,null,null,null,null,null,null,null,null,null,null,null,null,null,null,null,null,null,null,null,null,null,null,null,null,null,null,null,null,null,null,null,null,null,null,null,null,null,null,null,null,null,null,null,null,null,null,null,null,null,null,null,null,null,null,null,null,null,null,null,null,null,null,null,null,null,null,null,null,null,null,null,null,null,null,null,null,null,null,null,null,null,null,null,null,null,null,null,null,null,null,null,null,null,null,null,null,null,null,null,null,null,null,null,null,null,null,null,null,null,null,null,null,null,null,null,null,null,null,null,null,null,null,null,null,null,null,null,null,null,null,null,null,null,null,null,null,null,null,null,null,null,null,null,null,null,null,null,null,null,null,null,null,null,null,null,null,null,null,null,null,null,null,null,null,null,null,null,null,null,null,null,null,null,null,null,null,null,null,null,null,null,null,null,null,null,null,null,null,null,null,null,null,null,"Page 13: Total Revenue Income (Estimates)","£#,##0",{"$f":"AB7","v":0}]
["(P.07)[04]Employee Expenditure as a % of Revenue Expenditure (Estimates)",135,30,21,"Page 21: Employee Expenditure as a % of Revenue Expenditure (Estimates)",null,null,null,null,null,null,"Hounslow","ul",null,11,{"$f":"IF((ROW()-5=$G$36),1,IF((M54=Coding!$H$75)+(Coding!$H$75=\"ALL\")+(Coding!$H$75=\"U\")*OR(M54=\"W\",M54=\"su\",M54=\"L\",M54=\"MD\",M54=\"UA\")+(Coding!$H$75=\"na\")*AND(M54<>\"W\",M54<>\"su\",M54<>\"L\",M54<>\"MD\",M54<>\"UA\",M54<>\"SC\",M54<>\"SD\",M54<>\"p\"),1,0))","v":1},false,{"$f":"IF(OR(NOT(ISERROR(MATCH(L54,OFFSET($H$410,$G$36-2,0,1,18),FALSE))),$G$75=L54),1,0+(($G$36=1)*($H$75=\"OC\")))","v":0},1,11,null,{"$f":"IF((S54=1)*($J$6<22),INDEX($J$13:$J$33,SUM($S$7:S54),1),\"\")","v":""},{"$f":"COUNTIF($T$7:T54,T54)","v":2},null,16,{"$f":"INDEX(V:V,SUMPRODUCT((OFFSET($T$7,0,0,AuthorityCounter2,1)=Y54)*1,(OFFSET($W$7,0,0,AuthorityCounter2,1)=COUNTIF($Y$7:Y54,Y54))*1,ROW(OFFSET($W$7,0,0,AuthorityCounter2,1))))","v":""},18.650406504065042,{"$f":"IF((Y54=AB$2)*(Z54=AC$3)*(SUM($AB$6:AB53)=0),+Y54,0)","v":0},16,null,{"$f":"IF($AE$6=3,O54,SUM((CODE(MID(CONCATENATE(UPPER(M54),\"aaaaaaaaaa\"),{1;2},1))-30)*{1;0.01}))","v":55.46},{"$f":"COUNTIF($AE$7:$AE54,AE54)","v":16},null,55.46,55.46,{"$f":"COUNTIF($AI$7:$AI54,AI54)","v":21},{"$f":"IF($AE$6=1,L54,OFFSET($L$1,SUMPRODUCT(--(OFFSET($AE$7,0,0,AuthorityCounter,1)=AI54),--(OFFSET($AF$7,0,0,AuthorityCounter,1)=COUNTIF($AI$7:AI54,AI54)),ROW(OFFSET($AF$7,0,0,AuthorityCounter,1)))-1,0))","v":"Hounslow"},null,{"$f":"IF(VLOOKUP(AK54,colAM,IF($H$75=\"OC\",8,5),FALSE)=1,MAX(AM$6:$AM53)+1,0)","v":48},"Hounslow",false,{"$f":"IF($AP$5,SUM(SUMPRODUCT(--AO$7:$AO54)*AO54,(SUMPRODUCT(--(AO$7:$AO54=FALSE))+SUMPRODUCT(--colAP))*(1-AO54)),ROW()-6)","v":48},"Hounslow","Hounslow",null,null,null,null,null,null,null,null,null,null,null,null,null,null,null,null,null,null,null,null,null,null,null,null,null,null,null,null,null,null,null,null,null,null,null,null,null,null,null,null,null,null,null,null,null,null,null,null,null,null,null,null,null,null,null,null,null,null,null,null,null,null,null,null,null,null,null,null,null,null,null,null,null,null,null,null,null,null,null,null,null,null,null,null,null,null,null,null,null,null,null,null,null,null,null,null,null,null,null,null,null,null,null,null,null,null,null,null,null,null,null,null,null,null,null,null,null,null,null,null,null,null,null,null,null,null,null,null,null,null,null,null,null,null,null,null,null,null,null,null,null,null,null,null,null,null,null,null,null,null,null,null,null,null,null,null,null,null,null,null,null,null,null,null,null,null,null,null,null,null,null,null,null,null,null,null,null,null,null,null,null,null,null,null,null,null,null,null,null,null,null,null,null,null,null,null,null,null,null,null,null,null,null,null,null,null,null,null,null,"Page 13: Employee Expenditure as a % of Revenue Expenditure (Estimates)","0%",{"$f":"AB7","v":0}]
["(P.07)[05]Material Expenditure as a % of Revenue Expenditure (Estimates)",135,31,21,"Page 21: Material Expenditure as a % of Revenue Expenditure (Estimates)",null,null,null,null,null,null,"Isle of Wight","uu",null,8,{"$f":"IF((ROW()-5=$G$36),1,IF((M55=Coding!$H$75)+(Coding!$H$75=\"ALL\")+(Coding!$H$75=\"U\")*OR(M55=\"W\",M55=\"su\",M55=\"L\",M55=\"MD\",M55=\"UA\")+(Coding!$H$75=\"na\")*AND(M55<>\"W\",M55<>\"su\",M55<>\"L\",M55<>\"MD\",M55<>\"UA\",M55<>\"SC\",M55<>\"SD\",M55<>\"p\"),1,0))","v":1},false,{"$f":"IF(OR(NOT(ISERROR(MATCH(L55,OFFSET($H$410,$G$36-2,0,1,18),FALSE))),$G$75=L55),1,0+(($G$36=1)*($H$75=\"OC\")))","v":0},1,8,null,{"$f":"IF((S55=1)*($J$6<22),INDEX($J$13:$J$33,SUM($S$7:S55),1),\"\")","v":""},{"$f":"COUNTIF($T$7:T55,T55)","v":4},null,16,{"$f":"INDEX(V:V,SUMPRODUCT((OFFSET($T$7,0,0,AuthorityCounter2,1)=Y55)*1,(OFFSET($W$7,0,0,AuthorityCounter2,1)=COUNTIF($Y$7:Y55,Y55))*1,ROW(OFFSET($W$7,0,0,AuthorityCounter2,1))))","v":""},18.650406504065042,{"$f":"IF((Y55=AB$2)*(Z55=AC$3)*(SUM($AB$6:AB54)=0),+Y55,0)","v":0},16,null,{"$f":"IF($AE$6=3,O55,SUM((CODE(MID(CONCATENATE(UPPER(M55),\"aaaaaaaaaa\"),{1;2},1))-30)*{1;0.01}))","v":55.55},{"$f":"COUNTIF($AE$7:$AE55,AE55)","v":16},null,55.46,55.46,{"$f":"COUNTIF($AI$7:$AI55,AI55)","v":22},{"$f":"IF($AE$6=1,L55,OFFSET($L$1,SUMPRODUCT(--(OFFSET($AE$7,0,0,AuthorityCounter,1)=AI55),--(OFFSET($AF$7,0,0,AuthorityCounter,1)=COUNTIF($AI$7:AI55,AI55)),ROW(OFFSET($AF$7,0,0,AuthorityCounter,1)))-1,0))","v":"Isle of Wight"},null,{"$f":"IF(VLOOKUP(AK55,colAM,IF($H$75=\"OC\",8,5),FALSE)=1,MAX(AM$6:$AM54)+1,0)","v":49},"Isle of Wight",false,{"$f":"IF($AP$5,SUM(SUMPRODUCT(--AO$7:$AO55)*AO55,(SUMPRODUCT(--(AO$7:$AO55=FALSE))+SUMPRODUCT(--colAP))*(1-AO55)),ROW()-6)","v":49},"Isle of Wight","Isle of Wight",null,null,null,null,null,null,null,null,null,null,null,null,null,null,null,null,null,null,null,null,null,null,null,null,null,null,null,null,null,null,null,null,null,null,null,null,null,null,null,null,null,null,null,null,null,null,null,null,null,null,null,null,null,null,null,null,null,null,null,null,null,null,null,null,null,null,null,null,null,null,null,null,null,null,null,null,null,null,null,null,null,null,null,null,null,null,null,null,null,null,null,null,null,null,null,null,null,null,null,null,null,null,null,null,null,null,null,null,null,null,null,null,null,null,null,null,null,null,null,null,null,null,null,null,null,null,null,null,null,null,null,null,null,null,null,null,null,null,null,null,null,null,null,null,null,null,null,null,null,null,null,null,null,null,null,null,null,null,null,null,null,null,null,null,null,null,null,null,null,null,null,null,null,null,null,null,null,null,null,null,null,null,null,null,null,null,null,null,null,null,null,null,null,null,null,null,null,null,null,null,null,null,null,null,null,null,null,null,null,"Page 13: Material Expenditure as a % of Revenue Expenditure (Estimates)","0%",{"$f":"AB7","v":0}]
["(P.08)[01]Total Staff per 100,000 population",135,32,22,"Page 22: Total Staff per 100,000 population",null,null,null,null,null,null,"Islington","ul",null,10,{"$f":"IF((ROW()-5=$G$36),1,IF((M56=Coding!$H$75)+(Coding!$H$75=\"ALL\")+(Coding!$H$75=\"U\")*OR(M56=\"W\",M56=\"su\",M56=\"L\",M56=\"MD\",M56=\"UA\")+(Coding!$H$75=\"na\")*AND(M56<>\"W\",M56<>\"su\",M56<>\"L\",M56<>\"MD\",M56<>\"UA\",M56<>\"SC\",M56<>\"SD\",M56<>\"p\"),1,0))","v":1},false,{"$f":"IF(OR(NOT(ISERROR(MATCH(L56,OFFSET($H$410,$G$36-2,0,1,18),FALSE))),$G$75=L56),1,0+(($G$36=1)*($H$75=\"OC\")))","v":0},1,10,null,{"$f":"IF((S56=1)*($J$6<22),INDEX($J$13:$J$33,SUM($S$7:S56),1),\"\")","v":""},{"$f":"COUNTIF($T$7:T56,T56)","v":3},null,16,{"$f":"INDEX(V:V,SUMPRODUCT((OFFSET($T$7,0,0,AuthorityCounter2,1)=Y56)*1,(OFFSET($W$7,0,0,AuthorityCounter2,1)=COUNTIF($Y$7:Y56,Y56))*1,ROW(OFFSET($W$7,0,0,AuthorityCounter2,1))))","v":""},18.650406504065042,{"$f":"IF((Y56=AB$2)*(Z56=AC$3)*(SUM($AB$6:AB55)=0),+Y56,0)","v":0},16,null,{"$f":"IF($AE$6=3,O56,SUM((CODE(MID(CONCATENATE(UPPER(M56),\"aaaaaaaaaa\"),{1;2},1))-30)*{1;0.01}))","v":55.46},{"$f":"COUNTIF($AE$7:$AE56,AE56)","v":17},null,55.46,55.46,{"$f":"COUNTIF($AI$7:$AI56,AI56)","v":23},{"$f":"IF($AE$6=1,L56,OFFSET($L$1,SUMPRODUCT(--(OFFSET($AE$7,0,0,AuthorityCounter,1)=AI56),--(OFFSET($AF$7,0,0,AuthorityCounter,1)=COUNTIF($AI$7:AI56,AI56)),ROW(OFFSET($AF$7,0,0,AuthorityCounter,1)))-1,0))","v":"Islington"},null,{"$f":"IF(VLOOKUP(AK56,colAM,IF($H$75=\"OC\",8,5),FALSE)=1,MAX(AM$6:$AM55)+1,0)","v":50},"Islington",false,{"$f":"IF($AP$5,SUM(SUMPRODUCT(--AO$7:$AO56)*AO56,(SUMPRODUCT(--(AO$7:$AO56=FALSE))+SUMPRODUCT(--colAP))*(1-AO56)),ROW()-6)","v":50},"Islington","Islington",null,null,null,null,null,null,null,null,null,null,null,null,null,null,null,null,null,null,null,null,null,null,null,null,null,null,null,null,null,null,null,null,null,null,null,null,null,null,null,null,null,null,null,null,null,null,null,null,null,null,null,null,null,null,null,null,null,null,null,null,null,null,null,null,null,null,null,null,null,null,null,null,null,null,null,null,null,null,null,null,null,null,null,null,null,null,null,null,null,null,null,null,null,null,null,null,null,null,null,null,null,null,null,null,null,null,null,null,null,null,null,null,null,null,null,null,null,null,null,null,null,null,null,null,null,null,null,null,null,null,null,null,null,null,null,null,null,null,null,null,null,null,null,null,null,null,null,null,null,null,null,null,null,null,null,null,null,null,null,null,null,null,null,null,null,null,null,null,null,null,null,null,null,null,null,null,null,null,null,null,null,null,null,null,null,null,null,null,null,null,null,null,null,null,null,null,null,null,null,null,null,null,null,null,null,null,null,null,null,"Page 14: Total Staff per 100,000 population","#,##0",{"$f":"AB7","v":0}]
["(P.08)[02]Professional Staff per 100,000 population",135,33,22,"Page 22: Professional Staff per 100,000 population",null,null,null,null,null,null,"Kensington & Chelsea","ul",null,6,{"$f":"IF((ROW()-5=$G$36),1,IF((M57=Coding!$H$75)+(Coding!$H$75=\"ALL\")+(Coding!$H$75=\"U\")*OR(M57=\"W\",M57=\"su\",M57=\"L\",M57=\"MD\",M57=\"UA\")+(Coding!$H$75=\"na\")*AND(M57<>\"W\",M57<>\"su\",M57<>\"L\",M57<>\"MD\",M57<>\"UA\",M57<>\"SC\",M57<>\"SD\",M57<>\"p\"),1,0))","v":1},false,{"$f":"IF(OR(NOT(ISERROR(MATCH(L57,OFFSET($H$410,$G$36-2,0,1,18),FALSE))),$G$75=L57),1,0+(($G$36=1)*($H$75=\"OC\")))","v":0},1,6,null,{"$f":"IF((S57=1)*($J$6<22),INDEX($J$13:$J$33,SUM($S$7:S57),1),\"\")","v":""},{"$f":"COUNTIF($T$7:T57,T57)","v":5},null,16,{"$f":"INDEX(V:V,SUMPRODUCT((OFFSET($T$7,0,0,AuthorityCounter2,1)=Y57)*1,(OFFSET($W$7,0,0,AuthorityCounter2,1)=COUNTIF($Y$7:Y57,Y57))*1,ROW(OFFSET($W$7,0,0,AuthorityCounter2,1))))","v":""},18.650406504065042,{"$f":"IF((Y57=AB$2)*(Z57=AC$3)*(SUM($AB$6:AB56)=0),+Y57,0)","v":0},16,null,{"$f":"IF($AE$6=3,O57,SUM((CODE(MID(CONCATENATE(UPPER(M57),\"aaaaaaaaaa\"),{1;2},1))-30)*{1;0.01}))","v":55.46},{"$f":"COUNTIF($AE$7:$AE57,AE57)","v":18},null,55.46,55.46,{"$f":"COUNTIF($AI$7:$AI57,AI57)","v":24},{"$f":"IF($AE$6=1,L57,OFFSET($L$1,SUMPRODUCT(--(OFFSET($AE$7,0,0,AuthorityCounter,1)=AI57),--(OFFSET($AF$7,0,0,AuthorityCounter,1)=COUNTIF($AI$7:AI57,AI57)),ROW(OFFSET($AF$7,0,0,AuthorityCounter,1)))-1,0))","v":"Kensington & Chelsea"},null,{"$f":"IF(VLOOKUP(AK57,colAM,IF($H$75=\"OC\",8,5),FALSE)=1,MAX(AM$6:$AM56)+1,0)","v":51},"Kensington & Chelsea",false,{"$f":"IF($AP$5,SUM(SUMPRODUCT(--AO$7:$AO57)*AO57,(SUMPRODUCT(--(AO$7:$AO57=FALSE))+SUMPRODUCT(--colAP))*(1-AO57)),ROW()-6)","v":51},"Kensington & Chelsea","Kensington & Chelsea",null,null,null,null,null,null,null,null,null,null,null,null,null,null,null,null,null,null,null,null,null,null,null,null,null,null,null,null,null,null,null,null,null,null,null,null,null,null,null,null,null,null,null,null,null,null,null,null,null,null,null,null,null,null,null,null,null,null,null,null,null,null,null,null,null,null,null,null,null,null,null,null,null,null,null,null,null,null,null,null,null,null,null,null,null,null,null,null,null,null,null,null,null,null,null,null,null,null,null,null,null,null,null,null,null,null,null,null,null,null,null,null,null,null,null,null,null,null,null,null,null,null,null,null,null,null,null,null,null,null,null,null,null,null,null,null,null,null,null,null,null,null,null,null,null,null,null,null,null,null,null,null,null,null,null,null,null,null,null,null,null,null,null,null,null,null,null,null,null,null,null,null,null,null,null,null,null,null,null,null,null,null,null,null,null,null,null,null,null,null,null,null,null,null,null,null,null,null,null,null,null,null,null,null,null,null,null,null,null,"Page 14: Professional Staff per 100,000 population","#,##0",{"$f":"AB7","v":0}]
["(P.08)[03]Other Paid Staff per 100,000 population",135,34,22,"Page 22: Other Paid Staff per 100,000 population",null,null,null,null,null,null,"Kent","c",null,104,{"$f":"IF((ROW()-5=$G$36),1,IF((M58=Coding!$H$75)+(Coding!$H$75=\"ALL\")+(Coding!$H$75=\"U\")*OR(M58=\"W\",M58=\"su\",M58=\"L\",M58=\"MD\",M58=\"UA\")+(Coding!$H$75=\"na\")*AND(M58<>\"W\",M58<>\"su\",M58<>\"L\",M58<>\"MD\",M58<>\"UA\",M58<>\"SC\",M58<>\"SD\",M58<>\"p\"),1,0))","v":1},false,{"$f":"IF(OR(NOT(ISERROR(MATCH(L58,OFFSET($H$410,$G$36-2,0,1,18),FALSE))),$G$75=L58),1,0+(($G$36=1)*($H$75=\"OC\")))","v":0},1,104,null,{"$f":"IF((S58=1)*($J$6<22),INDEX($J$13:$J$33,SUM($S$7:S58),1),\"\")","v":""},{"$f":"COUNTIF($T$7:T58,T58)","v":1},null,16,{"$f":"INDEX(V:V,SUMPRODUCT((OFFSET($T$7,0,0,AuthorityCounter2,1)=Y58)*1,(OFFSET($W$7,0,0,AuthorityCounter2,1)=COUNTIF($Y$7:Y58,Y58))*1,ROW(OFFSET($W$7,0,0,AuthorityCounter2,1))))","v":""},18.650406504065042,{"$f":"IF((Y58=AB$2)*(Z58=AC$3)*(SUM($AB$6:AB57)=0),+Y58,0)","v":0},16,null,{"$f":"IF($AE$6=3,O58,SUM((CODE(MID(CONCATENATE(UPPER(M58),\"aaaaaaaaaa\"),{1;2},1))-30)*{1;0.01}))","v":37.67},{"$f":"COUNTIF($AE$7:$AE58,AE58)","v":12},null,55.46,55.46,{"$f":"COUNTIF($AI$7:$AI58,AI58)","v":25},{"$f":"IF($AE$6=1,L58,OFFSET($L$1,SUMPRODUCT(--(OFFSET($AE$7,0,0,AuthorityCounter,1)=AI58),--(OFFSET($AF$7,0,0,AuthorityCounter,1)=COUNTIF($AI$7:AI58,AI58)),ROW(OFFSET($AF$7,0,0,AuthorityCounter,1)))-1,0))","v":"Kent"},null,{"$f":"IF(VLOOKUP(AK58,colAM,IF($H$75=\"OC\",8,5),FALSE)=1,MAX(AM$6:$AM57)+1,0)","v":52},"Kent",false,{"$f":"IF($AP$5,SUM(SUMPRODUCT(--AO$7:$AO58)*AO58,(SUMPRODUCT(--(AO$7:$AO58=FALSE))+SUMPRODUCT(--colAP))*(1-AO58)),ROW()-6)","v":52},"Kent","Kent",null,null,null,null,null,null,null,null,null,null,null,null,null,null,null,null,null,null,null,null,null,null,null,null,null,null,null,null,null,null,null,null,null,null,null,null,null,null,null,null,null,null,null,null,null,null,null,null,null,null,null,null,null,null,null,null,null,null,null,null,null,null,null,null,null,null,null,null,null,null,null,null,null,null,null,null,null,null,null,null,null,null,null,null,null,null,null,null,null,null,null,null,null,null,null,null,null,null,null,null,null,null,null,null,null,null,null,null,null,null,null,null,null,null,null,null,null,null,null,null,null,null,null,null,null,null,null,null,null,null,null,null,null,null,null,null,null,null,null,null,null,null,null,null,null,null,null,null,null,null,null,null,null,null,null,null,null,null,null,null,null,null,null,null,null,null,null,null,null,null,null,null,null,null,null,null,null,null,null,null,null,null,null,null,null,null,null,null,null,null,null,null,null,null,null,null,null,null,null,null,null,null,null,null,null,null,null,null,null,"Page 14: Other Paid Staff per 100,000 population","#,##0",{"$f":"AB7","v":0}]
["(P.09)[01]Employee Costs per Employee",135,35,23,"Page 23: Employee Costs per Employee",null,null,null,null,null,null,"Kingston-upon-Thames","ul",null,7,{"$f":"IF((ROW()-5=$G$36),1,IF((M59=Coding!$H$75)+(Coding!$H$75=\"ALL\")+(Coding!$H$75=\"U\")*OR(M59=\"W\",M59=\"su\",M59=\"L\",M59=\"MD\",M59=\"UA\")+(Coding!$H$75=\"na\")*AND(M59<>\"W\",M59<>\"su\",M59<>\"L\",M59<>\"MD\",M59<>\"UA\",M59<>\"SC\",M59<>\"SD\",M59<>\"p\"),1,0))","v":1},false,{"$f":"IF(OR(NOT(ISERROR(MATCH(L59,OFFSET($H$410,$G$36-2,0,1,18),FALSE))),$G$75=L59),1,0+(($G$36=1)*($H$75=\"OC\")))","v":0},1,7,null,{"$f":"IF((S59=1)*($J$6<22),INDEX($J$13:$J$33,SUM($S$7:S59),1),\"\")","v":""},{"$f":"COUNTIF($T$7:T59,T59)","v":2},null,16,{"$f":"INDEX(V:V,SUMPRODUCT((OFFSET($T$7,0,0,AuthorityCounter2,1)=Y59)*1,(OFFSET($W$7,0,0,AuthorityCounter2,1)=COUNTIF($Y$7:Y59,Y59))*1,ROW(OFFSET($W$7,0,0,AuthorityCounter2,1))))","v":""},18.650406504065042,{"$f":"IF((Y59=AB$2)*(Z59=AC$3)*(SUM($AB$6:AB58)=0),+Y59,0)","v":0},16,null,{"$f":"IF($AE$6=3,O59,SUM((CODE(MID(CONCATENATE(UPPER(M59),\"aaaaaaaaaa\"),{1;2},1))-30)*{1;0.01}))","v":55.46},{"$f":"COUNTIF($AE$7:$AE59,AE59)","v":19},null,55.46,55.46,{"$f":"COUNTIF($AI$7:$AI59,AI59)","v":26},{"$f":"IF($AE$6=1,L59,OFFSET($L$1,SUMPRODUCT(--(OFFSET($AE$7,0,0,AuthorityCounter,1)=AI59),--(OFFSET($AF$7,0,0,AuthorityCounter,1)=COUNTIF($AI$7:AI59,AI59)),ROW(OFFSET($AF$7,0,0,AuthorityCounter,1)))-1,0))","v":"Kingston-upon-Thames"},null,{"$f":"IF(VLOOKUP(AK59,colAM,IF($H$75=\"OC\",8,5),FALSE)=1,MAX(AM$6:$AM58)+1,0)","v":53},"Kingston-upon-Thames",false,{"$f":"IF($AP$5,SUM(SUMPRODUCT(--AO$7:$AO59)*AO59,(SUMPRODUCT(--(AO$7:$AO59=FALSE))+SUMPRODUCT(--colAP))*(1-AO59)),ROW()-6)","v":53},"Kingston-upon-Thames","Kingston-upon-Thames",null,null,null,null,null,null,null,null,null,null,null,null,null,null,null,null,null,null,null,null,null,null,null,null,null,null,null,null,null,null,null,null,null,null,null,null,null,null,null,null,null,null,null,null,null,null,null,null,null,null,null,null,null,null,null,null,null,null,null,null,null,null,null,null,null,null,null,null,null,null,null,null,null,null,null,null,null,null,null,null,null,null,null,null,null,null,null,null,null,null,null,null,null,null,null,null,null,null,null,null,null,null,null,null,null,null,null,null,null,null,null,null,null,null,null,null,null,null,null,null,null,null,null,null,null,null,null,null,null,null,null,null,null,null,null,null,null,null,null,null,null,null,null,null,null,null,null,null,null,null,null,null,null,null,null,null,null,null,null,null,null,null,null,null,null,null,null,null,null,null,null,null,null,null,null,null,null,null,null,null,null,null,null,null,null,null,null,null,null,null,null,null,null,null,null,null,null,null,null,null,null,null,null,null,null,null,null,null,null,"Page 15: Employee Costs per Employee","£#,##0",{"$f":"AB7","v":0}]
["(P.09)[02]Employees per 1,000 population",135,36,23,"Page 23: Employees per 1,000 population",null,null,null,null,null,null,"Lancashire","c",null,68,{"$f":"IF((ROW()-5=$G$36),1,IF((M60=Coding!$H$75)+(Coding!$H$75=\"ALL\")+(Coding!$H$75=\"U\")*OR(M60=\"W\",M60=\"su\",M60=\"L\",M60=\"MD\",M60=\"UA\")+(Coding!$H$75=\"na\")*AND(M60<>\"W\",M60<>\"su\",M60<>\"L\",M60<>\"MD\",M60<>\"UA\",M60<>\"SC\",M60<>\"SD\",M60<>\"p\"),1,0))","v":1},false,{"$f":"IF(OR(NOT(ISERROR(MATCH(L60,OFFSET($H$410,$G$36-2,0,1,18),FALSE))),$G$75=L60),1,0+(($G$36=1)*($H$75=\"OC\")))","v":0},1,68,null,{"$f":"IF((S60=1)*($J$6<22),INDEX($J$13:$J$33,SUM($S$7:S60),1),\"\")","v":""},{"$f":"COUNTIF($T$7:T60,T60)","v":1},null,15,{"$f":"INDEX(V:V,SUMPRODUCT((OFFSET($T$7,0,0,AuthorityCounter2,1)=Y60)*1,(OFFSET($W$7,0,0,AuthorityCounter2,1)=COUNTIF($Y$7:Y60,Y60))*1,ROW(OFFSET($W$7,0,0,AuthorityCounter2,1))))","v":""},18.650406504065042,{"$f":"IF((Y60=AB$2)*(Z60=AC$3)*(SUM($AB$6:AB59)=0),+Y60,0)","v":0},15,null,{"$f":"IF($AE$6=3,O60,SUM((CODE(MID(CONCATENATE(UPPER(M60),\"aaaaaaaaaa\"),{1;2},1))-30)*{1;0.01}))","v":37.67},{"$f":"COUNTIF($AE$7:$AE60,AE60)","v":13},null,55.46,55.46,{"$f":"COUNTIF($AI$7:$AI60,AI60)","v":27},{"$f":"IF($AE$6=1,L60,OFFSET($L$1,SUMPRODUCT(--(OFFSET($AE$7,0,0,AuthorityCounter,1)=AI60),--(OFFSET($AF$7,0,0,AuthorityCounter,1)=COUNTIF($AI$7:AI60,AI60)),ROW(OFFSET($AF$7,0,0,AuthorityCounter,1)))-1,0))","v":"Lancashire"},null,{"$f":"IF(VLOOKUP(AK60,colAM,IF($H$75=\"OC\",8,5),FALSE)=1,MAX(AM$6:$AM59)+1,0)","v":54},"Lancashire",false,{"$f":"IF($AP$5,SUM(SUMPRODUCT(--AO$7:$AO60)*AO60,(SUMPRODUCT(--(AO$7:$AO60=FALSE))+SUMPRODUCT(--colAP))*(1-AO60)),ROW()-6)","v":54},"Lancashire","Lancashire",null,null,null,null,null,null,null,null,null,null,null,null,null,null,null,null,null,null,null,null,null,null,null,null,null,null,null,null,null,null,null,null,null,null,null,null,null,null,null,null,null,null,null,null,null,null,null,null,null,null,null,null,null,null,null,null,null,null,null,null,null,null,null,null,null,null,null,null,null,null,null,null,null,null,null,null,null,null,null,null,null,null,null,null,null,null,null,null,null,null,null,null,null,null,null,null,null,null,null,null,null,null,null,null,null,null,null,null,null,null,null,null,null,null,null,null,null,null,null,null,null,null,null,null,null,null,null,null,null,null,null,null,null,null,null,null,null,null,null,null,null,null,null,null,null,null,null,null,null,null,null,null,null,null,null,null,null,null,null,null,null,null,null,null,null,null,null,null,null,null,null,null,null,null,null,null,null,null,null,null,null,null,null,null,null,null,null,null,null,null,null,null,null,null,null,null,null,null,null,null,null,null,null,null,null,null,null,null,null,"Page 15: Employees per 1,000 population","0.00",{"$f":"AB7","v":0}]
["(P.09)[03]Employee Costs per 1,000 population",135,37,23,"Page 23: Employee Costs per 1,000 population",null,null,null,null,null,null,"Leicester","uu",null,16,{"$f":"IF((ROW()-5=$G$36),1,IF((M61=Coding!$H$75)+(Coding!$H$75=\"ALL\")+(Coding!$H$75=\"U\")*OR(M61=\"W\",M61=\"su\",M61=\"L\",M61=\"MD\",M61=\"UA\")+(Coding!$H$75=\"na\")*AND(M61<>\"W\",M61<>\"su\",M61<>\"L\",M61<>\"MD\",M61<>\"UA\",M61<>\"SC\",M61<>\"SD\",M61<>\"p\"),1,0))","v":1},false,{"$f":"IF(OR(NOT(ISERROR(MATCH(L61,OFFSET($H$410,$G$36-2,0,1,18),FALSE))),$G$75=L61),1,0+(($G$36=1)*($H$75=\"OC\")))","v":0},1,16,null,{"$f":"IF((S61=1)*($J$6<22),INDEX($J$13:$J$33,SUM($S$7:S61),1),\"\")","v":""},{"$f":"COUNTIF($T$7:T61,T61)","v":3},null,15,{"$f":"INDEX(V:V,SUMPRODUCT((OFFSET($T$7,0,0,AuthorityCounter2,1)=Y61)*1,(OFFSET($W$7,0,0,AuthorityCounter2,1)=COUNTIF($Y$7:Y61,Y61))*1,ROW(OFFSET($W$7,0,0,AuthorityCounter2,1))))","v":""},18.650406504065042,{"$f":"IF((Y61=AB$2)*(Z61=AC$3)*(SUM($AB$6:AB60)=0),+Y61,0)","v":0},15,null,{"$f":"IF($AE$6=3,O61,SUM((CODE(MID(CONCATENATE(UPPER(M61),\"aaaaaaaaaa\"),{1;2},1))-30)*{1;0.01}))","v":55.55},{"$f":"COUNTIF($AE$7:$AE61,AE61)","v":17},null,55.46,55.46,{"$f":"COUNTIF($AI$7:$AI61,AI61)","v":28},{"$f":"IF($AE$6=1,L61,OFFSET($L$1,SUMPRODUCT(--(OFFSET($AE$7,0,0,AuthorityCounter,1)=AI61),--(OFFSET($AF$7,0,0,AuthorityCounter,1)=COUNTIF($AI$7:AI61,AI61)),ROW(OFFSET($AF$7,0,0,AuthorityCounter,1)))-1,0))","v":"Leicester"},null,{"$f":"IF(VLOOKUP(AK61,colAM,IF($H$75=\"OC\",8,5),FALSE)=1,MAX(AM$6:$AM60)+1,0)","v":55},"Leicester",false,{"$f":"IF($AP$5,SUM(SUMPRODUCT(--AO$7:$AO61)*AO61,(SUMPRODUCT(--(AO$7:$AO61=FALSE))+SUMPRODUCT(--colAP))*(1-AO61)),ROW()-6)","v":55},"Leicester","Leicester",null,null,null,null,null,null,null,null,null,null,null,null,null,null,null,null,null,null,null,null,null,null,null,null,null,null,null,null,null,null,null,null,null,null,null,null,null,null,null,null,null,null,null,null,null,null,null,null,null,null,null,null,null,null,null,null,null,null,null,null,null,null,null,null,null,null,null,null,null,null,null,null,null,null,null,null,null,null,null,null,null,null,null,null,null,null,null,null,null,null,null,null,null,null,null,null,null,null,null,null,null,null,null,null,null,null,null,null,null,null,null,null,null,null,null,null,null,null,null,null,null,null,null,null,null,null,null,null,null,null,null,null,null,null,null,null,null,null,null,null,null,null,null,null,null,null,null,null,null,null,null,null,null,null,null,null,null,null,null,null,null,null,null,null,null,null,null,null,null,null,null,null,null,null,null,null,null,null,null,null,null,null,null,null,null,null,null,null,null,null,null,null,null,null,null,null,null,null,null,null,null,null,null,null,null,null,null,null,null,"Page 15: Employee Costs per 1,000 population","£#,##0",{"$f":"AB7","v":0}]
["(P.10)[01]Number of Volunteers",135,38,24,"Page 24: Number of Volunteers",null,null,null,null,null,null,"Leicestershire","c",null,23,{"$f":"IF((ROW()-5=$G$36),1,IF((M62=Coding!$H$75)+(Coding!$H$75=\"ALL\")+(Coding!$H$75=\"U\")*OR(M62=\"W\",M62=\"su\",M62=\"L\",M62=\"MD\",M62=\"UA\")+(Coding!$H$75=\"na\")*AND(M62<>\"W\",M62<>\"su\",M62<>\"L\",M62<>\"MD\",M62<>\"UA\",M62<>\"SC\",M62<>\"SD\",M62<>\"p\"),1,0))","v":1},false,{"$f":"IF(OR(NOT(ISERROR(MATCH(L62,OFFSET($H$410,$G$36-2,0,1,18),FALSE))),$G$75=L62),1,0+(($G$36=1)*($H$75=\"OC\")))","v":0},1,23,null,{"$f":"IF((S62=1)*($J$6<22),INDEX($J$13:$J$33,SUM($S$7:S62),1),\"\")","v":""},{"$f":"COUNTIF($T$7:T62,T62)","v":2},null,14,{"$f":"INDEX(V:V,SUMPRODUCT((OFFSET($T$7,0,0,AuthorityCounter2,1)=Y62)*1,(OFFSET($W$7,0,0,AuthorityCounter2,1)=COUNTIF($Y$7:Y62,Y62))*1,ROW(OFFSET($W$7,0,0,AuthorityCounter2,1))))","v":""},18.650406504065042,{"$f":"IF((Y62=AB$2)*(Z62=AC$3)*(SUM($AB$6:AB61)=0),+Y62,0)","v":0},14,null,{"$f":"IF($AE$6=3,O62,SUM((CODE(MID(CONCATENATE(UPPER(M62),\"aaaaaaaaaa\"),{1;2},1))-30)*{1;0.01}))","v":37.67},{"$f":"COUNTIF($AE$7:$AE62,AE62)","v":14},null,55.46,55.46,{"$f":"COUNTIF($AI$7:$AI62,AI62)","v":29},{"$f":"IF($AE$6=1,L62,OFFSET($L$1,SUMPRODUCT(--(OFFSET($AE$7,0,0,AuthorityCounter,1)=AI62),--(OFFSET($AF$7,0,0,AuthorityCounter,1)=COUNTIF($AI$7:AI62,AI62)),ROW(OFFSET($AF$7,0,0,AuthorityCounter,1)))-1,0))","v":"Leicestershire"},null,{"$f":"IF(VLOOKUP(AK62,colAM,IF($H$75=\"OC\",8,5),FALSE)=1,MAX(AM$6:$AM61)+1,0)","v":56},"Leicestershire",false,{"$f":"IF($AP$5,SUM(SUMPRODUCT(--AO$7:$AO62)*AO62,(SUMPRODUCT(--(AO$7:$AO62=FALSE))+SUMPRODUCT(--colAP))*(1-AO62)),ROW()-6)","v":56},"Leicestershire","Leicestershire",null,null,null,null,null,null,null,null,null,null,null,null,null,null,null,null,null,null,null,null,null,null,null,null,null,null,null,null,null,null,null,null,null,null,null,null,null,null,null,null,null,null,null,null,null,null,null,null,null,null,null,null,null,null,null,null,null,null,null,null,null,null,null,null,null,null,null,null,null,null,null,null,null,null,null,null,null,null,null,null,null,null,null,null,null,null,null,null,null,null,null,null,null,null,null,null,null,null,null,null,null,null,null,null,null,null,null,null,null,null,null,null,null,null,null,null,null,null,null,null,null,null,null,null,null,null,null,null,null,null,null,null,null,null,null,null,null,null,null,null,null,null,null,null,null,null,null,null,null,null,null,null,null,null,null,null,null,null,null,null,null,null,null,null,null,null,null,null,null,null,null,null,null,null,null,null,null,null,null,null,null,null,null,null,null,null,null,null,null,null,null,null,null,null,null,null,null,null,null,null,null,null,null,null,null,null,null,null,null,"Page 16: Number of Volunteers","#,##0",{"$f":"AB7","v":0}]
["(P.10)[01]Volunteer hours as a % of volunteer hours plus employee hours",135,39,24,"Page 24: Volunteer hours as a % of volunteer hours plus employee hours",null,null,null,null,null,null,"Lewisham","ul",null,13,{"$f":"IF((ROW()-5=$G$36),1,IF((M63=Coding!$H$75)+(Coding!$H$75=\"ALL\")+(Coding!$H$75=\"U\")*OR(M63=\"W\",M63=\"su\",M63=\"L\",M63=\"MD\",M63=\"UA\")+(Coding!$H$75=\"na\")*AND(M63<>\"W\",M63<>\"su\",M63<>\"L\",M63<>\"MD\",M63<>\"UA\",M63<>\"SC\",M63<>\"SD\",M63<>\"p\"),1,0))","v":1},false,{"$f":"IF(OR(NOT(ISERROR(MATCH(L63,OFFSET($H$410,$G$36-2,0,1,18),FALSE))),$G$75=L63),1,0+(($G$36=1)*($H$75=\"OC\")))","v":0},1,13,null,{"$f":"IF((S63=1)*($J$6<22),INDEX($J$13:$J$33,SUM($S$7:S63),1),\"\")","v":""},{"$f":"COUNTIF($T$7:T63,T63)","v":2},null,14,{"$f":"INDEX(V:V,SUMPRODUCT((OFFSET($T$7,0,0,AuthorityCounter2,1)=Y63)*1,(OFFSET($W$7,0,0,AuthorityCounter2,1)=COUNTIF($Y$7:Y63,Y63))*1,ROW(OFFSET($W$7,0,0,AuthorityCounter2,1))))","v":""},18.650406504065042,{"$f":"IF((Y63=AB$2)*(Z63=AC$3)*(SUM($AB$6:AB62)=0),+Y63,0)","v":0},14,null,{"$f":"IF($AE$6=3,O63,SUM((CODE(MID(CONCATENATE(UPPER(M63),\"aaaaaaaaaa\"),{1;2},1))-30)*{1;0.01}))","v":55.46},{"$f":"COUNTIF($AE$7:$AE63,AE63)","v":20},null,55.46,55.46,{"$f":"COUNTIF($AI$7:$AI63,AI63)","v":30},{"$f":"IF($AE$6=1,L63,OFFSET($L$1,SUMPRODUCT(--(OFFSET($AE$7,0,0,AuthorityCounter,1)=AI63),--(OFFSET($AF$7,0,0,AuthorityCounter,1)=COUNTIF($AI$7:AI63,AI63)),ROW(OFFSET($AF$7,0,0,AuthorityCounter,1)))-1,0))","v":"Lewisham"},null,{"$f":"IF(VLOOKUP(AK63,colAM,IF($H$75=\"OC\",8,5),FALSE)=1,MAX(AM$6:$AM62)+1,0)","v":57},"Lewisham",false,{"$f":"IF($AP$5,SUM(SUMPRODUCT(--AO$7:$AO63)*AO63,(SUMPRODUCT(--(AO$7:$AO63=FALSE))+SUMPRODUCT(--colAP))*(1-AO63)),ROW()-6)","v":57},"Lewisham","Lewisham",null,null,null,null,null,null,null,null,null,null,null,null,null,null,null,null,null,null,null,null,null,null,null,null,null,null,null,null,null,null,null,null,null,null,null,null,null,null,null,null,null,null,null,null,null,null,null,null,null,null,null,null,null,null,null,null,null,null,null,null,null,null,null,null,null,null,null,null,null,null,null,null,null,null,null,null,null,null,null,null,null,null,null,null,null,null,null,null,null,null,null,null,null,null,null,null,null,null,null,null,null,null,null,null,null,null,null,null,null,null,null,null,null,null,null,null,null,null,null,null,null,null,null,null,null,null,null,null,null,null,null,null,null,null,null,null,null,null,null,null,null,null,null,null,null,null,null,null,null,null,null,null,null,null,null,null,null,null,null,null,null,null,null,null,null,null,null,null,null,null,null,null,null,null,null,null,null,null,null,null,null,null,null,null,null,null,null,null,null,null,null,null,null,null,null,null,null,null,null,null,null,null,null,null,null,null,null,null,null,"Page 16: Volunteer hours as a % of volunteer hours plus employee hours","0.0%",{"$f":"AB7","v":0}]
["(P.10)[02]Number of Volunteer Hours",135,40,24,"Page 24: Number of Volunteer Hours",null,null,null,null,null,null,"Lincolnshire","c",null,22,{"$f":"IF((ROW()-5=$G$36),1,IF((M64=Coding!$H$75)+(Coding!$H$75=\"ALL\")+(Coding!$H$75=\"U\")*OR(M64=\"W\",M64=\"su\",M64=\"L\",M64=\"MD\",M64=\"UA\")+(Coding!$H$75=\"na\")*AND(M64<>\"W\",M64<>\"su\",M64<>\"L\",M64<>\"MD\",M64<>\"UA\",M64<>\"SC\",M64<>\"SD\",M64<>\"p\"),1,0))","v":1},false,{"$f":"IF(OR(NOT(ISERROR(MATCH(L64,OFFSET($H$410,$G$36-2,0,1,18),FALSE))),$G$75=L64),1,0+(($G$36=1)*($H$75=\"OC\")))","v":0},1,22,null,{"$f":"IF((S64=1)*($J$6<22),INDEX($J$13:$J$33,SUM($S$7:S64),1),\"\")","v":""},{"$f":"COUNTIF($T$7:T64,T64)","v":3},null,14,{"$f":"INDEX(V:V,SUMPRODUCT((OFFSET($T$7,0,0,AuthorityCounter2,1)=Y64)*1,(OFFSET($W$7,0,0,AuthorityCounter2,1)=COUNTIF($Y$7:Y64,Y64))*1,ROW(OFFSET($W$7,0,0,AuthorityCounter2,1))))","v":""},18.650406504065042,{"$f":"IF((Y64=AB$2)*(Z64=AC$3)*(SUM($AB$6:AB63)=0),+Y64,0)","v":0},14,null,{"$f":"IF($AE$6=3,O64,SUM((CODE(MID(CONCATENATE(UPPER(M64),\"aaaaaaaaaa\"),{1;2},1))-30)*{1;0.01}))","v":37.67},{"$f":"COUNTIF($AE$7:$AE64,AE64)","v":15},null,55.47,55.47,{"$f":"COUNTIF($AI$7:$AI64,AI64)","v":1},{"$f":"IF($AE$6=1,L64,OFFSET($L$1,SUMPRODUCT(--(OFFSET($AE$7,0,0,AuthorityCounter,1)=AI64),--(OFFSET($AF$7,0,0,AuthorityCounter,1)=COUNTIF($AI$7:AI64,AI64)),ROW(OFFSET($AF$7,0,0,AuthorityCounter,1)))-1,0))","v":"Lincolnshire"},null,{"$f":"IF(VLOOKUP(AK64,colAM,IF($H$75=\"OC\",8,5),FALSE)=1,MAX(AM$6:$AM63)+1,0)","v":58},"Lincolnshire",false,{"$f":"IF($AP$5,SUM(SUMPRODUCT(--AO$7:$AO64)*AO64,(SUMPRODUCT(--(AO$7:$AO64=FALSE))+SUMPRODUCT(--colAP))*(1-AO64)),ROW()-6)","v":58},"Lincolnshire","Lincolnshire",null,null,null,null,null,null,null,null,null,null,null,null,null,null,null,null,null,null,null,null,null,null,null,null,null,null,null,null,null,null,null,null,null,null,null,null,null,null,null,null,null,null,null,null,null,null,null,null,null,null,null,null,null,null,null,null,null,null,null,null,null,null,null,null,null,null,null,null,null,null,null,null,null,null,null,null,null,null,null,null,null,null,null,null,null,null,null,null,null,null,null,null,null,null,null,null,null,null,null,null,null,null,null,null,null,null,null,null,null,null,null,null,null,null,null,null,null,null,null,null,null,null,null,null,null,null,null,null,null,null,null,null,null,null,null,null,null,null,null,null,null,null,null,null,null,null,null,null,null,null,null,null,null,null,null,null,null,null,null,null,null,null,null,null,null,null,null,null,null,null,null,null,null,null,null,null,null,null,null,null,null,null,null,null,null,null,null,null,null,null,null,null,null,null,null,null,null,null,null,null,null,null,null,null,null,null,null,null,null,"Page 16: Number of Volunteer Hours","#,##0",{"$f":"AB7","v":0}]
["(P.10)[02]Number of volunteers as a % of volunteer headcount plus employee headcount",135,41,24,"Page 24: Number of volunteers as a % of volunteer headcount plus employee headcount",null,null,null,null,null,null,"Luton","uu",null,6,{"$f":"IF((ROW()-5=$G$36),1,IF((M65=Coding!$H$75)+(Coding!$H$75=\"ALL\")+(Coding!$H$75=\"U\")*OR(M65=\"W\",M65=\"su\",M65=\"L\",M65=\"MD\",M65=\"UA\")+(Coding!$H$75=\"na\")*AND(M65<>\"W\",M65<>\"su\",M65<>\"L\",M65<>\"MD\",M65<>\"UA\",M65<>\"SC\",M65<>\"SD\",M65<>\"p\"),1,0))","v":1},false,{"$f":"IF(OR(NOT(ISERROR(MATCH(L65,OFFSET($H$410,$G$36-2,0,1,18),FALSE))),$G$75=L65),1,0+(($G$36=1)*($H$75=\"OC\")))","v":0},1,6,null,{"$f":"IF((S65=1)*($J$6<22),INDEX($J$13:$J$33,SUM($S$7:S65),1),\"\")","v":""},{"$f":"COUNTIF($T$7:T65,T65)","v":6},null,14,{"$f":"INDEX(V:V,SUMPRODUCT((OFFSET($T$7,0,0,AuthorityCounter2,1)=Y65)*1,(OFFSET($W$7,0,0,AuthorityCounter2,1)=COUNTIF($Y$7:Y65,Y65))*1,ROW(OFFSET($W$7,0,0,AuthorityCounter2,1))))","v":""},18.650406504065042,{"$f":"IF((Y65=AB$2)*(Z65=AC$3)*(SUM($AB$6:AB64)=0),+Y65,0)","v":0},14,null,{"$f":"IF($AE$6=3,O65,SUM((CODE(MID(CONCATENATE(UPPER(M65),\"aaaaaaaaaa\"),{1;2},1))-30)*{1;0.01}))","v":55.55},{"$f":"COUNTIF($AE$7:$AE65,AE65)","v":18},null,55.47,55.47,{"$f":"COUNTIF($AI$7:$AI65,AI65)","v":2},{"$f":"IF($AE$6=1,L65,OFFSET($L$1,SUMPRODUCT(--(OFFSET($AE$7,0,0,AuthorityCounter,1)=AI65),--(OFFSET($AF$7,0,0,AuthorityCounter,1)=COUNTIF($AI$7:AI65,AI65)),ROW(OFFSET($AF$7,0,0,AuthorityCounter,1)))-1,0))","v":"Luton"},null,{"$f":"IF(VLOOKUP(AK65,colAM,IF($H$75=\"OC\",8,5),FALSE)=1,MAX(AM$6:$AM64)+1,0)","v":59},"Luton",false,{"$f":"IF($AP$5,SUM(SUMPRODUCT(--AO$7:$AO65)*AO65,(SUMPRODUCT(--(AO$7:$AO65=FALSE))+SUMPRODUCT(--colAP))*(1-AO65)),ROW()-6)","v":59},"Luton","Luton",null,null,null,null,null,null,null,null,null,null,null,null,null,null,null,null,null,null,null,null,null,null,null,null,null,null,null,null,null,null,null,null,null,null,null,null,null,null,null,null,null,null,null,null,null,null,null,null,null,null,null,null,null,null,null,null,null,null,null,null,null,null,null,null,null,null,null,null,null,null,null,null,null,null,null,null,null,null,null,null,null,null,null,null,null,null,null,null,null,null,null,null,null,null,null,null,null,null,null,null,null,null,null,null,null,null,null,null,null,null,null,null,null,null,null,null,null,null,null,null,null,null,null,null,null,null,null,null,null,null,null,null,null,null,null,null,null,null,null,null,null,null,null,null,null,null,null,null,null,null,null,null,null,null,null,null,null,null,null,null,null,null,null,null,null,null,null,null,null,null,null,null,null,null,null,null,null,null,null,null,null,null,null,null,null,null,null,null,null,null,null,null,null,null,null,null,null,null,null,null,null,null,null,null,null,null,null,null,null,"Page 16: Number of volunteers as a % of volunteer headcount plus employee headcount","0%",{"$f":"AB7","v":0}]
["(P.10)[03]Number of Hours per Volunteer",135,42,24,"Page 24: Number of Hours per Volunteer",null,null,null,null,null,null,"Manchester","um",null,16,{"$f":"IF((ROW()-5=$G$36),1,IF((M66=Coding!$H$75)+(Coding!$H$75=\"ALL\")+(Coding!$H$75=\"U\")*OR(M66=\"W\",M66=\"su\",M66=\"L\",M66=\"MD\",M66=\"UA\")+(Coding!$H$75=\"na\")*AND(M66<>\"W\",M66<>\"su\",M66<>\"L\",M66<>\"MD\",M66<>\"UA\",M66<>\"SC\",M66<>\"SD\",M66<>\"p\"),1,0))","v":1},false,{"$f":"IF(OR(NOT(ISERROR(MATCH(L66,OFFSET($H$410,$G$36-2,0,1,18),FALSE))),$G$75=L66),1,0+(($G$36=1)*($H$75=\"OC\")))","v":0},1,16,null,{"$f":"IF((S66=1)*($J$6<22),INDEX($J$13:$J$33,SUM($S$7:S66),1),\"\")","v":""},{"$f":"COUNTIF($T$7:T66,T66)","v":4},null,14,{"$f":"INDEX(V:V,SUMPRODUCT((OFFSET($T$7,0,0,AuthorityCounter2,1)=Y66)*1,(OFFSET($W$7,0,0,AuthorityCounter2,1)=COUNTIF($Y$7:Y66,Y66))*1,ROW(OFFSET($W$7,0,0,AuthorityCounter2,1))))","v":""},18.650406504065042,{"$f":"IF((Y66=AB$2)*(Z66=AC$3)*(SUM($AB$6:AB65)=0),+Y66,0)","v":0},14,null,{"$f":"IF($AE$6=3,O66,SUM((CODE(MID(CONCATENATE(UPPER(M66),\"aaaaaaaaaa\"),{1;2},1))-30)*{1;0.01}))","v":55.47},{"$f":"COUNTIF($AE$7:$AE66,AE66)","v":7},null,55.47,55.47,{"$f":"COUNTIF($AI$7:$AI66,AI66)","v":3},{"$f":"IF($AE$6=1,L66,OFFSET($L$1,SUMPRODUCT(--(OFFSET($AE$7,0,0,AuthorityCounter,1)=AI66),--(OFFSET($AF$7,0,0,AuthorityCounter,1)=COUNTIF($AI$7:AI66,AI66)),ROW(OFFSET($AF$7,0,0,AuthorityCounter,1)))-1,0))","v":"Manchester"},null,{"$f":"IF(VLOOKUP(AK66,colAM,IF($H$75=\"OC\",8,5),FALSE)=1,MAX(AM$6:$AM65)+1,0)","v":60},"Manchester",false,{"$f":"IF($AP$5,SUM(SUMPRODUCT(--AO$7:$AO66)*AO66,(SUMPRODUCT(--(AO$7:$AO66=FALSE))+SUMPRODUCT(--colAP))*(1-AO66)),ROW()-6)","v":60},"Manchester","Manchester",null,null,null,null,null,null,null,null,null,null,null,null,null,null,null,null,null,null,null,null,null,null,null,null,null,null,null,null,null,null,null,null,null,null,null,null,null,null,null,null,null,null,null,null,null,null,null,null,null,null,null,null,null,null,null,null,null,null,null,null,null,null,null,null,null,null,null,null,null,null,null,null,null,null,null,null,null,null,null,null,null,null,null,null,null,null,null,null,null,null,null,null,null,null,null,null,null,null,null,null,null,null,null,null,null,null,null,null,null,null,null,null,null,null,null,null,null,null,null,null,null,null,null,null,null,null,null,null,null,null,null,null,null,null,null,null,null,null,null,null,null,null,null,null,null,null,null,null,null,null,null,null,null,null,null,null,null,null,null,null,null,null,null,null,null,null,null,null,null,null,null,null,null,null,null,null,null,null,null,null,null,null,null,null,null,null,null,null,null,null,null,null,null,null,null,null,null,null,null,null,null,null,null,null,null,null,null,null,null,"Page 16: Number of Hours per Volunteer","#,##0",{"$f":"AB7","v":0}]
["(P.02)[01]Total Book Issues",270,0,26,"Page 26: Total Book Issues",null,null,null,null,null,null,"Medway","uu",null,17,{"$f":"IF((ROW()-5=$G$36),1,IF((M67=Coding!$H$75)+(Coding!$H$75=\"ALL\")+(Coding!$H$75=\"U\")*OR(M67=\"W\",M67=\"su\",M67=\"L\",M67=\"MD\",M67=\"UA\")+(Coding!$H$75=\"na\")*AND(M67<>\"W\",M67<>\"su\",M67<>\"L\",M67<>\"MD\",M67<>\"UA\",M67<>\"SC\",M67<>\"SD\",M67<>\"p\"),1,0))","v":1},false,{"$f":"IF(OR(NOT(ISERROR(MATCH(L67,OFFSET($H$410,$G$36-2,0,1,18),FALSE))),$G$75=L67),1,0+(($G$36=1)*($H$75=\"OC\")))","v":0},1,17,null,{"$f":"IF((S67=1)*($J$6<22),INDEX($J$13:$J$33,SUM($S$7:S67),1),\"\")","v":""},{"$f":"COUNTIF($T$7:T67,T67)","v":4},null,13,{"$f":"INDEX(V:V,SUMPRODUCT((OFFSET($T$7,0,0,AuthorityCounter2,1)=Y67)*1,(OFFSET($W$7,0,0,AuthorityCounter2,1)=COUNTIF($Y$7:Y67,Y67))*1,ROW(OFFSET($W$7,0,0,AuthorityCounter2,1))))","v":""},18.650406504065042,{"$f":"IF((Y67=AB$2)*(Z67=AC$3)*(SUM($AB$6:AB66)=0),+Y67,0)","v":0},13,null,{"$f":"IF($AE$6=3,O67,SUM((CODE(MID(CONCATENATE(UPPER(M67),\"aaaaaaaaaa\"),{1;2},1))-30)*{1;0.01}))","v":55.55},{"$f":"COUNTIF($AE$7:$AE67,AE67)","v":19},null,55.47,55.47,{"$f":"COUNTIF($AI$7:$AI67,AI67)","v":4},{"$f":"IF($AE$6=1,L67,OFFSET($L$1,SUMPRODUCT(--(OFFSET($AE$7,0,0,AuthorityCounter,1)=AI67),--(OFFSET($AF$7,0,0,AuthorityCounter,1)=COUNTIF($AI$7:AI67,AI67)),ROW(OFFSET($AF$7,0,0,AuthorityCounter,1)))-1,0))","v":"Medway"},null,{"$f":"IF(VLOOKUP(AK67,colAM,IF($H$75=\"OC\",8,5),FALSE)=1,MAX(AM$6:$AM66)+1,0)","v":61},"Medway",false,{"$f":"IF($AP$5,SUM(SUMPRODUCT(--AO$7:$AO67)*AO67,(SUMPRODUCT(--(AO$7:$AO67=FALSE))+SUMPRODUCT(--colAP))*(1-AO67)),ROW()-6)","v":61},"Medway","Medway",null,null,null,null,null,null,null,null,null,null,null,null,null,null,null,null,null,null,null,null,null,null,null,null,null,null,null,null,null,null,null,null,null,null,null,null,null,null,null,null,null,null,null,null,null,null,null,null,null,null,null,null,null,null,null,null,null,null,null,null,null,null,null,null,null,null,null,null,null,null,null,null,null,null,null,null,null,null,null,null,null,null,null,null,null,null,null,null,null,null,null,null,null,null,null,null,null,null,null,null,null,null,null,null,null,null,null,null,null,null,null,null,null,null,null,null,null,null,null,null,null,null,null,null,null,null,null,null,null,null,null,null,null,null,null,null,null,null,null,null,null,null,null,null,null,null,null,null,null,null,null,null,null,null,null,null,null,null,null,null,null,null,null,null,null,null,null,null,null,null,null,null,null,null,null,null,null,null,null,null,null,null,null,null,null,null,null,null,null,null,null,null,null,null,null,null,null,null,null,null,null,null,null,null,null,null,null,null,null,"Page 17: Total Book Issues","#,##0",{"$f":"AB7","v":0}]
["(P.02)[02]Adult Fiction Issues",270,1,{"$f":"D67--OR(B68<>B67,LEFT(A68,5)<>LEFT(A67,5))","v":26},{"$f":"\"Page \"&D68&\": \" &RIGHT(A68,LEN(A68)-10)","v":"Page 26: Adult Fiction Issues"},null,null,null,null,null,null,"Merton","ul",null,7,{"$f":"IF((ROW()-5=$G$36),1,IF((M68=Coding!$H$75)+(Coding!$H$75=\"ALL\")+(Coding!$H$75=\"U\")*OR(M68=\"W\",M68=\"su\",M68=\"L\",M68=\"MD\",M68=\"UA\")+(Coding!$H$75=\"na\")*AND(M68<>\"W\",M68<>\"su\",M68<>\"L\",M68<>\"MD\",M68<>\"UA\",M68<>\"SC\",M68<>\"SD\",M68<>\"p\"),1,0))","v":1},false,{"$f":"IF(OR(NOT(ISERROR(MATCH(L68,OFFSET($H$410,$G$36-2,0,1,18),FALSE))),$G$75=L68),1,0+(($G$36=1)*($H$75=\"OC\")))","v":0},1,7,null,{"$f":"IF((S68=1)*($J$6<22),INDEX($J$13:$J$33,SUM($S$7:S68),1),\"\")","v":""},{"$f":"COUNTIF($T$7:T68,T68)","v":3},null,13,{"$f":"INDEX(V:V,SUMPRODUCT((OFFSET($T$7,0,0,AuthorityCounter2,1)=Y68)*1,(OFFSET($W$7,0,0,AuthorityCounter2,1)=COUNTIF($Y$7:Y68,Y68))*1,ROW(OFFSET($W$7,0,0,AuthorityCounter2,1))))","v":""},18.650406504065042,{"$f":"IF((Y68=AB$2)*(Z68=AC$3)*(SUM($AB$6:AB67)=0),+Y68,0)","v":0},13,null,{"$f":"IF($AE$6=3,O68,SUM((CODE(MID(CONCATENATE(UPPER(M68),\"aaaaaaaaaa\"),{1;2},1))-30)*{1;0.01}))","v":55.46},{"$f":"COUNTIF($AE$7:$AE68,AE68)","v":21},null,55.47,55.47,{"$f":"COUNTIF($AI$7:$AI68,AI68)","v":5},{"$f":"IF($AE$6=1,L68,OFFSET($L$1,SUMPRODUCT(--(OFFSET($AE$7,0,0,AuthorityCounter,1)=AI68),--(OFFSET($AF$7,0,0,AuthorityCounter,1)=COUNTIF($AI$7:AI68,AI68)),ROW(OFFSET($AF$7,0,0,AuthorityCounter,1)))-1,0))","v":"Merton"},null,{"$f":"IF(VLOOKUP(AK68,colAM,IF($H$75=\"OC\",8,5),FALSE)=1,MAX(AM$6:$AM67)+1,0)","v":62},"Merton",false,{"$f":"IF($AP$5,SUM(SUMPRODUCT(--AO$7:$AO68)*AO68,(SUMPRODUCT(--(AO$7:$AO68=FALSE))+SUMPRODUCT(--colAP))*(1-AO68)),ROW()-6)","v":62},"Merton","Merton",null,null,null,null,null,null,null,null,null,null,null,null,null,null,null,null,null,null,null,null,null,null,null,null,null,null,null,null,null,null,null,null,null,null,null,null,null,null,null,null,null,null,null,null,null,null,null,null,null,null,null,null,null,null,null,null,null,null,null,null,null,null,null,null,null,null,null,null,null,null,null,null,null,null,null,null,null,null,null,null,null,null,null,null,null,null,null,null,null,null,null,null,null,null,null,null,null,null,null,null,null,null,null,null,null,null,null,null,null,null,null,null,null,null,null,null,null,null,null,null,null,null,null,null,null,null,null,null,null,null,null,null,null,null,null,null,null,null,null,null,null,null,null,null,null,null,null,null,null,null,null,null,null,null,null,null,null,null,null,null,null,null,null,null,null,null,null,null,null,null,null,null,null,null,null,null,null,null,null,null,null,null,null,null,null,null,null,null,null,null,null,null,null,null,null,null,null,null,null,null,null,null,null,null,null,null,null,null,null,"Page 17: Adult Fiction Issues","#,##0",{"$f":"AB7","v":0}]
["(P.02)[03]Adult Non-Fiction Issues",270,2,26,"Page 26: Adult Non-Fiction Issues",null,null,null,null,null,null,"Newcastle upon Tyne","um",null,13,{"$f":"IF((ROW()-5=$G$36),1,IF((M69=Coding!$H$75)+(Coding!$H$75=\"ALL\")+(Coding!$H$75=\"U\")*OR(M69=\"W\",M69=\"su\",M69=\"L\",M69=\"MD\",M69=\"UA\")+(Coding!$H$75=\"na\")*AND(M69<>\"W\",M69<>\"su\",M69<>\"L\",M69<>\"MD\",M69<>\"UA\",M69<>\"SC\",M69<>\"SD\",M69<>\"p\"),1,0))","v":1},false,{"$f":"IF(OR(NOT(ISERROR(MATCH(L69,OFFSET($H$410,$G$36-2,0,1,18),FALSE))),$G$75=L69),1,0+(($G$36=1)*($H$75=\"OC\")))","v":0},1,13,null,{"$f":"IF((S69=1)*($J$6<22),INDEX($J$13:$J$33,SUM($S$7:S69),1),\"\")","v":""},{"$f":"COUNTIF($T$7:T69,T69)","v":3},null,13,{"$f":"INDEX(V:V,SUMPRODUCT((OFFSET($T$7,0,0,AuthorityCounter2,1)=Y69)*1,(OFFSET($W$7,0,0,AuthorityCounter2,1)=COUNTIF($Y$7:Y69,Y69))*1,ROW(OFFSET($W$7,0,0,AuthorityCounter2,1))))","v":""},18.650406504065042,{"$f":"IF((Y69=AB$2)*(Z69=AC$3)*(SUM($AB$6:AB68)=0),+Y69,0)","v":0},13,null,{"$f":"IF($AE$6=3,O69,SUM((CODE(MID(CONCATENATE(UPPER(M69),\"aaaaaaaaaa\"),{1;2},1))-30)*{1;0.01}))","v":55.47},{"$f":"COUNTIF($AE$7:$AE69,AE69)","v":8},null,55.47,55.47,{"$f":"COUNTIF($AI$7:$AI69,AI69)","v":6},{"$f":"IF($AE$6=1,L69,OFFSET($L$1,SUMPRODUCT(--(OFFSET($AE$7,0,0,AuthorityCounter,1)=AI69),--(OFFSET($AF$7,0,0,AuthorityCounter,1)=COUNTIF($AI$7:AI69,AI69)),ROW(OFFSET($AF$7,0,0,AuthorityCounter,1)))-1,0))","v":"Newcastle upon Tyne"},null,{"$f":"IF(VLOOKUP(AK69,colAM,IF($H$75=\"OC\",8,5),FALSE)=1,MAX(AM$6:$AM68)+1,0)","v":63},"Newcastle upon Tyne",false,{"$f":"IF($AP$5,SUM(SUMPRODUCT(--AO$7:$AO69)*AO69,(SUMPRODUCT(--(AO$7:$AO69=FALSE))+SUMPRODUCT(--colAP))*(1-AO69)),ROW()-6)","v":63},"Newcastle upon Tyne","Newcastle upon Tyne",null,null,null,null,null,null,null,null,null,null,null,null,null,null,null,null,null,null,null,null,null,null,null,null,null,null,null,null,null,null,null,null,null,null,null,null,null,null,null,null,null,null,null,null,null,null,null,null,null,null,null,null,null,null,null,null,null,null,null,null,null,null,null,null,null,null,null,null,null,null,null,null,null,null,null,null,null,null,null,null,null,null,null,null,null,null,null,null,null,null,null,null,null,null,null,null,null,null,null,null,null,null,null,null,null,null,null,null,null,null,null,null,null,null,null,null,null,null,null,null,null,null,null,null,null,null,null,null,null,null,null,null,null,null,null,null,null,null,null,null,null,null,null,null,null,null,null,null,null,null,null,null,null,null,null,null,null,null,null,null,null,null,null,null,null,null,null,null,null,null,null,null,null,null,null,null,null,null,null,null,null,null,null,null,null,null,null,null,null,null,null,null,null,null,null,null,null,null,null,null,null,null,null,null,null,null,null,null,null,"Page 17: Adult Non-Fiction Issues","#,##0",{"$f":"AB7","v":0}]
["(P.02)[04]Children's Fiction Issues",270,3,26,"Page 26: Children's Fiction Issues",null,null,null,null,null,null,"Newham","ul",null,10,{"$f":"IF((ROW()-5=$G$36),1,IF((M70=Coding!$H$75)+(Coding!$H$75=\"ALL\")+(Coding!$H$75=\"U\")*OR(M70=\"W\",M70=\"su\",M70=\"L\",M70=\"MD\",M70=\"UA\")+(Coding!$H$75=\"na\")*AND(M70<>\"W\",M70<>\"su\",M70<>\"L\",M70<>\"MD\",M70<>\"UA\",M70<>\"SC\",M70<>\"SD\",M70<>\"p\"),1,0))","v":1},false,{"$f":"IF(OR(NOT(ISERROR(MATCH(L70,OFFSET($H$410,$G$36-2,0,1,18),FALSE))),$G$75=L70),1,0+(($G$36=1)*($H$75=\"OC\")))","v":0},1,10,null,{"$f":"IF((S70=1)*($J$6<22),INDEX($J$13:$J$33,SUM($S$7:S70),1),\"\")","v":""},{"$f":"COUNTIF($T$7:T70,T70)","v":4},null,13,{"$f":"INDEX(V:V,SUMPRODUCT((OFFSET($T$7,0,0,AuthorityCounter2,1)=Y70)*1,(OFFSET($W$7,0,0,AuthorityCounter2,1)=COUNTIF($Y$7:Y70,Y70))*1,ROW(OFFSET($W$7,0,0,AuthorityCounter2,1))))","v":""},18.650406504065042,{"$f":"IF((Y70=AB$2)*(Z70=AC$3)*(SUM($AB$6:AB69)=0),+Y70,0)","v":0},13,null,{"$f":"IF($AE$6=3,O70,SUM((CODE(MID(CONCATENATE(UPPER(M70),\"aaaaaaaaaa\"),{1;2},1))-30)*{1;0.01}))","v":55.46},{"$f":"COUNTIF($AE$7:$AE70,AE70)","v":22},null,55.47,55.47,{"$f":"COUNTIF($AI$7:$AI70,AI70)","v":7},{"$f":"IF($AE$6=1,L70,OFFSET($L$1,SUMPRODUCT(--(OFFSET($AE$7,0,0,AuthorityCounter,1)=AI70),--(OFFSET($AF$7,0,0,AuthorityCounter,1)=COUNTIF($AI$7:AI70,AI70)),ROW(OFFSET($AF$7,0,0,AuthorityCounter,1)))-1,0))","v":"Newham"},null,{"$f":"IF(VLOOKUP(AK70,colAM,IF($H$75=\"OC\",8,5),FALSE)=1,MAX(AM$6:$AM69)+1,0)","v":64},"Newham",false,{"$f":"IF($AP$5,SUM(SUMPRODUCT(--AO$7:$AO70)*AO70,(SUMPRODUCT(--(AO$7:$AO70=FALSE))+SUMPRODUCT(--colAP))*(1-AO70)),ROW()-6)","v":64},"Newham","Newham",null,null,null,null,null,null,null,null,null,null,null,null,null,null,null,null,null,null,null,null,null,null,null,null,null,null,null,null,null,null,null,null,null,null,null,null,null,null,null,null,null,null,null,null,null,null,null,null,null,null,null,null,null,null,null,null,null,null,null,null,null,null,null,null,null,null,null,null,null,null,null,null,null,null,null,null,null,null,null,null,null,null,null,null,null,null,null,null,null,null,null,null,null,null,null,null,null,null,null,null,null,null,null,null,null,null,null,null,null,null,null,null,null,null,null,null,null,null,null,null,null,null,null,null,null,null,null,null,null,null,null,null,null,null,null,null,null,null,null,null,null,null,null,null,null,null,null,null,null,null,null,null,null,null,null,null,null,null,null,null,null,null,null,null,null,null,null,null,null,null,null,null,null,null,null,null,null,null,null,null,null,null,null,null,null,null,null,null,null,null,null,null,null,null,null,null,null,null,null,null,null,null,null,null,null,null,null,null,null,"Page 17: Children's Fiction Issues","#,##0",{"$f":"AB7","v":0}]
["(P.02)[05]Children's Non-Fiction Issues",270,4,26,"Page 26: Children's Non-Fiction Issues",null,null,null,null,null,null,{"$f":"IF((ROW()-6)<=AuthorityCounter,OFFSET($D$409,ROW()-6,0),\"\")","v":"Norfolk"},{"$f":"IF((ROW()-6)<=AuthorityCounter,OFFSET($F$409,ROW()-6,0),\"\")","v":"c"},null,{"$f":"IF(ISNUMBER(--OFFSET($D$409,(ROW()-6)+$G$39+AuthorityCounter+5,$G$40)),OFFSET($D$409,(ROW()-6)+$G$39+AuthorityCounter+5,$G$40),\"na\")","v":55},{"$f":"IF((ROW()-5=$G$36),1,IF((M71=Coding!$H$75)+(Coding!$H$75=\"ALL\")+(Coding!$H$75=\"U\")*OR(M71=\"W\",M71=\"su\",M71=\"L\",M71=\"MD\",M71=\"UA\")+(Coding!$H$75=\"na\")*AND(M71<>\"W\",M71<>\"su\",M71<>\"L\",M71<>\"MD\",M71<>\"UA\",M71<>\"SC\",M71<>\"SD\",M71<>\"p\"),1,0))","v":1},false,{"$f":"IF(OR(NOT(ISERROR(MATCH(L71,OFFSET($H$410,$G$36-2,0,1,18),FALSE))),$G$75=L71),1,0+(($G$36=1)*($H$75=\"OC\")))","v":0},{"$f":"IF((ROW()-5=$G$36),1,IF($H$75=\"OC\",IF(NOT($J$10)+Q71,R71,0),IF(NOT($J$10)+Q71,P71,0)))","v":1},{"$f":"IF(S71=1,O71,\"not selected\")","v":55},null,{"$f":"IF((S71=1)*($J$6<22),INDEX($J$13:$J$33,SUM($S$7:S71),1),\"\")","v":""},{"$f":"COUNTIF($T$7:T71,T71)","v":1},null,{"$f":"IF((ROW()-6-$J$8)<1,\"na\",LARGE(OFFSET($T$7,0,0,AuthorityCounter2,1),ROW()-6-$J$8))","v":13},{"$f":"INDEX(V:V,SUMPRODUCT((OFFSET($T$7,0,0,AuthorityCounter2,1)=Y71)*1,(OFFSET($W$7,0,0,AuthorityCounter2,1)=COUNTIF($Y$7:Y71,Y71))*1,ROW(OFFSET($W$7,0,0,AuthorityCounter2,1))))","v":""},{"$f":"AB$3","v":18.650406504065042},{"$f":"IF((Y71=AB$2)*(Z71=AC$3)*(SUM($AB$6:AB70)=0),+Y71,0)","v":0},{"$f":"IF(ISNUMBER(AA71),Y71-AB71,\"na\")","v":13},null,{"$f":"IF($AE$6=3,O71,SUM((CODE(MID(CONCATENATE(UPPER(M71),\"aaaaaaaaaa\"),{1;2},1))-30)*{1;0.01}))","v":37.67},{"$f":"COUNTIF($AE$7:$AE71,AE71)","v":16},null,{"$f":"IF($AE$6=3,LARGE(OFFSET($AE$7,0,0,AuthorityCounter2,1),ROW()-6),SMALL(OFFSET($AE$7,0,0,AuthorityCounter2,1),ROW()-6))","v":55.47},55.47,{"$f":"COUNTIF($AI$7:$AI71,AI71)","v":8},{"$f":"IF($AE$6=1,L71,OFFSET($L$1,SUMPRODUCT(--(OFFSET($AE$7,0,0,AuthorityCounter,1)=AI71),--(OFFSET($AF$7,0,0,AuthorityCounter,1)=COUNTIF($AI$7:AI71,AI71)),ROW(OFFSET($AF$7,0,0,AuthorityCounter,1)))-1,0))","v":"Norfolk"},null,{"$f":"IF(VLOOKUP(AK71,colAM,IF($H$75=\"OC\",8,5),FALSE)=1,MAX(AM$6:$AM70)+1,0)","v":65},{"$f":"OFFSET($AK$1,ABS(SUMPRODUCT(--(colAN=(ROW()-6)),ROW(colAN))-1),0)","v":"Norfolk"},{"$f":"IF(AN71=0,0,VLOOKUP(AN71,colAO,6,FALSE))","v":false},{"$f":"IF($AP$5,SUM(SUMPRODUCT(--AO$7:$AO71)*AO71,(SUMPRODUCT(--(AO$7:$AO71=FALSE))+SUMPRODUCT(--colAP))*(1-AO71)),ROW()-6)","v":65},{"$f":"OFFSET($AN$6,MATCH(ROW()-6,colAQ,FALSE),0)","v":"Norfolk"},"Norfolk",null,null,null,null,null,null,null,null,null,null,null,null,null,null,null,null,null,null,null,null,null,null,null,null,null,null,null,null,null,null,null,null,null,null,null,null,null,null,null,null,null,null,null,null,null,null,null,null,null,null,null,null,null,null,null,null,null,null,null,null,null,null,null,null,null,null,null,null,null,null,null,null,null,null,null,null,null,null,null,null,null,null,null,null,null,null,null,null,null,null,null,null,null,null,null,null,null,null,null,null,null,null,null,null,null,null,null,null,null,null,null,null,null,null,null,null,null,null,null,null,null,null,null,null,null,null,null,null,null,null,null,null,null,null,null,null,null,null,null,null,null,null,null,null,null,null,null,null,null,null,null,null,null,null,null,null,null,null,null,null,null,null,null,null,null,null,null,null,null,null,null,null,null,null,null,null,null,null,null,null,null,null,null,null,null,null,null,null,null,null,null,null,null,null,null,null,null,null,null,null,null,null,null,null,null,null,null,null,null,"Page 17: Children's Non-Fiction Issues","#,##0",{"$f":"AB7","v":0}]
["(P.03)[01]Total Book Issue Stock Turn",270,5,27,"Page 27: Total Book Issue Stock Turn",null,null,null,null,null,null,"North East Lincolnshire","uu",null,4,{"$f":"IF((ROW()-5=$G$36),1,IF((M72=Coding!$H$75)+(Coding!$H$75=\"ALL\")+(Coding!$H$75=\"U\")*OR(M72=\"W\",M72=\"su\",M72=\"L\",M72=\"MD\",M72=\"UA\")+(Coding!$H$75=\"na\")*AND(M72<>\"W\",M72<>\"su\",M72<>\"L\",M72<>\"MD\",M72<>\"UA\",M72<>\"SC\",M72<>\"SD\",M72<>\"p\"),1,0))","v":1},false,{"$f":"IF(OR(NOT(ISERROR(MATCH(L72,OFFSET($H$410,$G$36-2,0,1,18),FALSE))),$G$75=L72),1,0+(($G$36=1)*($H$75=\"OC\")))","v":0},1,4,null,{"$f":"IF((S72=1)*($J$6<22),INDEX($J$13:$J$33,SUM($S$7:S72),1),\"\")","v":""},{"$f":"COUNTIF($T$7:T72,T72)","v":4},null,13,{"$f":"INDEX(V:V,SUMPRODUCT((OFFSET($T$7,0,0,AuthorityCounter2,1)=Y72)*1,(OFFSET($W$7,0,0,AuthorityCounter2,1)=COUNTIF($Y$7:Y72,Y72))*1,ROW(OFFSET($W$7,0,0,AuthorityCounter2,1))))","v":""},18.650406504065042,{"$f":"IF((Y72=AB$2)*(Z72=AC$3)*(SUM($AB$6:AB71)=0),+Y72,0)","v":0},13,null,{"$f":"IF($AE$6=3,O72,SUM((CODE(MID(CONCATENATE(UPPER(M72),\"aaaaaaaaaa\"),{1;2},1))-30)*{1;0.01}))","v":55.55},{"$f":"COUNTIF($AE$7:$AE72,AE72)","v":20},null,55.47,55.47,{"$f":"COUNTIF($AI$7:$AI72,AI72)","v":9},{"$f":"IF($AE$6=1,L72,OFFSET($L$1,SUMPRODUCT(--(OFFSET($AE$7,0,0,AuthorityCounter,1)=AI72),--(OFFSET($AF$7,0,0,AuthorityCounter,1)=COUNTIF($AI$7:AI72,AI72)),ROW(OFFSET($AF$7,0,0,AuthorityCounter,1)))-1,0))","v":"North East Lincolnshire"},null,{"$f":"IF(VLOOKUP(AK72,colAM,IF($H$75=\"OC\",8,5),FALSE)=1,MAX(AM$6:$AM71)+1,0)","v":66},"North East Lincolnshire",false,{"$f":"IF($AP$5,SUM(SUMPRODUCT(--AO$7:$AO72)*AO72,(SUMPRODUCT(--(AO$7:$AO72=FALSE))+SUMPRODUCT(--colAP))*(1-AO72)),ROW()-6)","v":66},"North East Lincolnshire",{"$f":"IF(ISERROR(AQ72),\"na\",AQ72)","v":"North East Lincolnshire"},null,null,null,null,null,null,null,null,null,null,null,null,null,null,null,null,null,null,null,null,null,null,null,null,null,null,null,null,null,null,null,null,null,null,null,null,null,null,null,null,null,null,null,null,null,null,null,null,null,null,null,null,null,null,null,null,null,null,null,null,null,null,null,null,null,null,null,null,null,null,null,null,null,null,null,null,null,null,null,null,null,null,null,null,null,null,null,null,null,null,null,null,null,null,null,null,null,null,null,null,null,null,null,null,null,null,null,null,null,null,null,null,null,null,null,null,null,null,null,null,null,null,null,null,null,null,null,null,null,null,null,null,null,null,null,null,null,null,null,null,null,null,null,null,null,null,null,null,null,null,null,null,null,null,null,null,null,null,null,null,null,null,null,null,null,null,null,null,null,null,null,null,null,null,null,null,null,null,null,null,null,null,null,null,null,null,null,null,null,null,null,null,null,null,null,null,null,null,null,null,null,null,null,null,null,null,null,null,null,"Page 18: Total Book Issue Stock Turn","#,##0.0",{"$f":"AB7","v":0}]
["(P.03)[02]Adult Fiction Stock Turn",270,6,27,"Page 27: Adult Fiction Stock Turn",null,"Authority","Group","Question",null,null,"North Lincolnshire","uu",null,16,{"$f":"IF((ROW()-5=$G$36),1,IF((M73=Coding!$H$75)+(Coding!$H$75=\"ALL\")+(Coding!$H$75=\"U\")*OR(M73=\"W\",M73=\"su\",M73=\"L\",M73=\"MD\",M73=\"UA\")+(Coding!$H$75=\"na\")*AND(M73<>\"W\",M73<>\"su\",M73<>\"L\",M73<>\"MD\",M73<>\"UA\",M73<>\"SC\",M73<>\"SD\",M73<>\"p\"),1,0))","v":1},false,{"$f":"IF(OR(NOT(ISERROR(MATCH(L73,OFFSET($H$410,$G$36-2,0,1,18),FALSE))),$G$75=L73),1,0+(($G$36=1)*($H$75=\"OC\")))","v":0},1,16,null,{"$f":"IF((S73=1)*($J$6<22),INDEX($J$13:$J$33,SUM($S$7:S73),1),\"\")","v":""},{"$f":"COUNTIF($T$7:T73,T73)","v":5},null,12,{"$f":"INDEX(V:V,SUMPRODUCT((OFFSET($T$7,0,0,AuthorityCounter2,1)=Y73)*1,(OFFSET($W$7,0,0,AuthorityCounter2,1)=COUNTIF($Y$7:Y73,Y73))*1,ROW(OFFSET($W$7,0,0,AuthorityCounter2,1))))","v":""},18.650406504065042,{"$f":"IF((Y73=AB$2)*(Z73=AC$3)*(SUM($AB$6:AB72)=0),+Y73,0)","v":0},12,null,{"$f":"IF($AE$6=3,O73,SUM((CODE(MID(CONCATENATE(UPPER(M73),\"aaaaaaaaaa\"),{1;2},1))-30)*{1;0.01}))","v":55.55},{"$f":"COUNTIF($AE$7:$AE73,AE73)","v":21},null,55.47,55.47,{"$f":"COUNTIF($AI$7:$AI73,AI73)","v":10},{"$f":"IF($AE$6=1,L73,OFFSET($L$1,SUMPRODUCT(--(OFFSET($AE$7,0,0,AuthorityCounter,1)=AI73),--(OFFSET($AF$7,0,0,AuthorityCounter,1)=COUNTIF($AI$7:AI73,AI73)),ROW(OFFSET($AF$7,0,0,AuthorityCounter,1)))-1,0))","v":"North Lincolnshire"},null,{"$f":"IF(VLOOKUP(AK73,colAM,IF($H$75=\"OC\",8,5),FALSE)=1,MAX(AM$6:$AM72)+1,0)","v":67},"North Lincolnshire",false,{"$f":"IF($AP$5,SUM(SUMPRODUCT(--AO$7:$AO73)*AO73,(SUMPRODUCT(--(AO$7:$AO73=FALSE))+SUMPRODUCT(--colAP))*(1-AO73)),ROW()-6)","v":67},"North Lincolnshire","North Lincolnshire",null,null,null,null,null,null,null,null,null,null,null,null,null,null,null,null,null,null,null,null,null,null,null,null,null,null,null,null,null,null,null,null,null,null,null,null,null,null,null,null,null,null,null,null,null,null,null,null,null,null,null,null,null,null,null,null,null,null,null,null,null,null,null,null,null,null,null,null,null,null,null,null,null,null,null,null,null,null,null,null,null,null,null,null,null,null,null,null,null,null,null,null,null,null,null,null,null,null,null,null,null,null,null,null,null,null,null,null,null,null,null,null,null,null,null,null,null,null,null,null,null,null,null,null,null,null,null,null,null,null,null,null,null,null,null,null,null,null,null,null,null,null,null,null,null,null,null,null,null,null,null,null,null,null,null,null,null,null,null,null,null,null,null,null,null,null,null,null,null,null,null,null,null,null,null,null,null,null,null,null,null,null,null,null,null,null,null,null,null,null,null,null,null,null,null,null,null,null,null,null,null,null,null,null,null,null,null,null,null,"Page 18: Adult Fiction Stock Turn","#,##0.0",{"$f":"AB7","v":0}]
["(P.03)[03]Adult Non-Fiction Stock Turn",270,7,27,"Page 27: Adult Non-Fiction Stock Turn",null,{"$f":"Coding!G36","v":1},1,{"$f":"Coding!G38","v":2},null,null,"North Somerset","uu",null,12,{"$f":"IF((ROW()-5=$G$36),1,IF((M74=Coding!$H$75)+(Coding!$H$75=\"ALL\")+(Coding!$H$75=\"U\")*OR(M74=\"W\",M74=\"su\",M74=\"L\",M74=\"MD\",M74=\"UA\")+(Coding!$H$75=\"na\")*AND(M74<>\"W\",M74<>\"su\",M74<>\"L\",M74<>\"MD\",M74<>\"UA\",M74<>\"SC\",M74<>\"SD\",M74<>\"p\"),1,0))","v":1},false,{"$f":"IF(OR(NOT(ISERROR(MATCH(L74,OFFSET($H$410,$G$36-2,0,1,18),FALSE))),$G$75=L74),1,0+(($G$36=1)*($H$75=\"OC\")))","v":0},1,12,null,{"$f":"IF((S74=1)*($J$6<22),INDEX($J$13:$J$33,SUM($S$7:S74),1),\"\")","v":""},{"$f":"COUNTIF($T$7:T74,T74)","v":4},null,12,{"$f":"INDEX(V:V,SUMPRODUCT((OFFSET($T$7,0,0,AuthorityCounter2,1)=Y74)*1,(OFFSET($W$7,0,0,AuthorityCounter2,1)=COUNTIF($Y$7:Y74,Y74))*1,ROW(OFFSET($W$7,0,0,AuthorityCounter2,1))))","v":""},18.650406504065042,{"$f":"IF((Y74=AB$2)*(Z74=AC$3)*(SUM($AB$6:AB73)=0),+Y74,0)","v":0},12,null,{"$f":"IF($AE$6=3,O74,SUM((CODE(MID(CONCATENATE(UPPER(M74),\"aaaaaaaaaa\"),{1;2},1))-30)*{1;0.01}))","v":55.55},{"$f":"COUNTIF($AE$7:$AE74,AE74)","v":22},null,55.47,55.47,{"$f":"COUNTIF($AI$7:$AI74,AI74)","v":11},{"$f":"IF($AE$6=1,L74,OFFSET($L$1,SUMPRODUCT(--(OFFSET($AE$7,0,0,AuthorityCounter,1)=AI74),--(OFFSET($AF$7,0,0,AuthorityCounter,1)=COUNTIF($AI$7:AI74,AI74)),ROW(OFFSET($AF$7,0,0,AuthorityCounter,1)))-1,0))","v":"North Somerset"},null,{"$f":"IF(VLOOKUP(AK74,colAM,IF($H$75=\"OC\",8,5),FALSE)=1,MAX(AM$6:$AM73)+1,0)","v":68},"North Somerset",false,{"$f":"IF($AP$5,SUM(SUMPRODUCT(--AO$7:$AO74)*AO74,(SUMPRODUCT(--(AO$7:$AO74=FALSE))+SUMPRODUCT(--colAP))*(1-AO74)),ROW()-6)","v":68},"North Somerset","North Somerset",null,null,null,null,null,null,null,null,null,null,null,null,null,null,null,null,null,null,null,null,null,null,null,null,null,null,null,null,null,null,null,null,null,null,null,null,null,null,null,null,null,null,null,null,null,null,null,null,null,null,null,null,null,null,null,null,null,null,null,null,null,null,null,null,null,null,null,null,null,null,null,null,null,null,null,null,null,null,null,null,null,null,null,null,null,null,null,null,null,null,null,null,null,null,null,null,null,null,null,null,null,null,null,null,null,null,null,null,null,null,null,null,null,null,null,null,null,null,null,null,null,null,null,null,null,null,null,null,null,null,null,null,null,null,null,null,null,null,null,null,null,null,null,null,null,null,null,null,null,null,null,null,null,null,null,null,null,null,null,null,null,null,null,null,null,null,null,null,null,null,null,null,null,null,null,null,null,null,null,null,null,null,null,null,null,null,null,null,null,null,null,null,null,null,null,null,null,null,null,null,null,null,null,null,null,null,null,null,null,"Page 18: Adult Non-Fiction Stock Turn","#,##0.0",{"$f":"AB7","v":0}]
["(P.03)[04]Children's Fiction Stock Turn",270,8,27,"Page 27: Children's Fiction Stock Turn",null,{"$f":"INDEX(Coding!L6:L360,G74)","v":"--- Please Select ---"},{"$f":"INDEX(Coding!H94:H105,H74,1)","v":"All"},null,null,null,"North Tyneside","um",null,16,{"$f":"IF((ROW()-5=$G$36),1,IF((M75=Coding!$H$75)+(Coding!$H$75=\"ALL\")+(Coding!$H$75=\"U\")*OR(M75=\"W\",M75=\"su\",M75=\"L\",M75=\"MD\",M75=\"UA\")+(Coding!$H$75=\"na\")*AND(M75<>\"W\",M75<>\"su\",M75<>\"L\",M75<>\"MD\",M75<>\"UA\",M75<>\"SC\",M75<>\"SD\",M75<>\"p\"),1,0))","v":1},false,{"$f":"IF(OR(NOT(ISERROR(MATCH(L75,OFFSET($H$410,$G$36-2,0,1,18),FALSE))),$G$75=L75),1,0+(($G$36=1)*($H$75=\"OC\")))","v":0},1,16,null,{"$f":"IF((S75=1)*($J$6<22),INDEX($J$13:$J$33,SUM($S$7:S75),1),\"\")","v":""},{"$f":"COUNTIF($T$7:T75,T75)","v":6},null,12,{"$f":"INDEX(V:V,SUMPRODUCT((OFFSET($T$7,0,0,AuthorityCounter2,1)=Y75)*1,(OFFSET($W$7,0,0,AuthorityCounter2,1)=COUNTIF($Y$7:Y75,Y75))*1,ROW(OFFSET($W$7,0,0,AuthorityCounter2,1))))","v":""},18.650406504065042,{"$f":"IF((Y75=AB$2)*(Z75=AC$3)*(SUM($AB$6:AB74)=0),+Y75,0)","v":0},12,null,{"$f":"IF($AE$6=3,O75,SUM((CODE(MID(CONCATENATE(UPPER(M75),\"aaaaaaaaaa\"),{1;2},1))-30)*{1;0.01}))","v":55.47},{"$f":"COUNTIF($AE$7:$AE75,AE75)","v":9},null,55.47,55.47,{"$f":"COUNTIF($AI$7:$AI75,AI75)","v":12},{"$f":"IF($AE$6=1,L75,OFFSET($L$1,SUMPRODUCT(--(OFFSET($AE$7,0,0,AuthorityCounter,1)=AI75),--(OFFSET($AF$7,0,0,AuthorityCounter,1)=COUNTIF($AI$7:AI75,AI75)),ROW(OFFSET($AF$7,0,0,AuthorityCounter,1)))-1,0))","v":"North Tyneside"},null,{"$f":"IF(VLOOKUP(AK75,colAM,IF($H$75=\"OC\",8,5),FALSE)=1,MAX(AM$6:$AM74)+1,0)","v":69},"North Tyneside",false,{"$f":"IF($AP$5,SUM(SUMPRODUCT(--AO$7:$AO75)*AO75,(SUMPRODUCT(--(AO$7:$AO75=FALSE))+SUMPRODUCT(--colAP))*(1-AO75)),ROW()-6)","v":69},"North Tyneside","North Tyneside",null,null,null,null,null,null,null,null,null,null,null,null,null,null,null,null,null,null,null,null,null,null,null,null,null,null,null,null,null,null,null,null,null,null,null,null,null,null,null,null,null,null,null,null,null,null,null,null,null,null,null,null,null,null,null,null,null,null,null,null,null,null,null,null,null,null,null,null,null,null,null,null,null,null,null,null,null,null,null,null,null,null,null,null,null,null,null,null,null,null,null,null,null,null,null,null,null,null,null,null,null,null,null,null,null,null,null,null,null,null,null,null,null,null,null,null,null,null,null,null,null,null,null,null,null,null,null,null,null,null,null,null,null,null,null,null,null,null,null,null,null,null,null,null,null,null,null,null,null,null,null,null,null,null,null,null,null,null,null,null,null,null,null,null,null,null,null,null,null,null,null,null,null,null,null,null,null,null,null,null,null,null,null,null,null,null,null,null,null,null,null,null,null,null,null,null,null,null,null,null,null,null,null,null,null,null,null,null,null,"Page 18: Children's Fiction Stock Turn","#,##0.0",{"$f":"AB7","v":0}]
["(P.03)[05]Children's Non-Fiction Stock Turn",270,9,27,"Page 27: Children's Non-Fiction Stock Turn",null,null,null,null,null,null,"North Yorkshire","c",null,44,{"$f":"IF((ROW()-5=$G$36),1,IF((M76=Coding!$H$75)+(Coding!$H$75=\"ALL\")+(Coding!$H$75=\"U\")*OR(M76=\"W\",M76=\"su\",M76=\"L\",M76=\"MD\",M76=\"UA\")+(Coding!$H$75=\"na\")*AND(M76<>\"W\",M76<>\"su\",M76<>\"L\",M76<>\"MD\",M76<>\"UA\",M76<>\"SC\",M76<>\"SD\",M76<>\"p\"),1,0))","v":1},false,{"$f":"IF(OR(NOT(ISERROR(MATCH(L76,OFFSET($H$410,$G$36-2,0,1,18),FALSE))),$G$75=L76),1,0+(($G$36=1)*($H$75=\"OC\")))","v":0},1,44,null,{"$f":"IF((S76=1)*($J$6<22),INDEX($J$13:$J$33,SUM($S$7:S76),1),\"\")","v":""},{"$f":"COUNTIF($T$7:T76,T76)","v":1},null,12,{"$f":"INDEX(V:V,SUMPRODUCT((OFFSET($T$7,0,0,AuthorityCounter2,1)=Y76)*1,(OFFSET($W$7,0,0,AuthorityCounter2,1)=COUNTIF($Y$7:Y76,Y76))*1,ROW(OFFSET($W$7,0,0,AuthorityCounter2,1))))","v":""},18.650406504065042,{"$f":"IF((Y76=AB$2)*(Z76=AC$3)*(SUM($AB$6:AB75)=0),+Y76,0)","v":0},12,null,{"$f":"IF($AE$6=3,O76,SUM((CODE(MID(CONCATENATE(UPPER(M76),\"aaaaaaaaaa\"),{1;2},1))-30)*{1;0.01}))","v":37.67},{"$f":"COUNTIF($AE$7:$AE76,AE76)","v":17},null,55.47,55.47,{"$f":"COUNTIF($AI$7:$AI76,AI76)","v":13},{"$f":"IF($AE$6=1,L76,OFFSET($L$1,SUMPRODUCT(--(OFFSET($AE$7,0,0,AuthorityCounter,1)=AI76),--(OFFSET($AF$7,0,0,AuthorityCounter,1)=COUNTIF($AI$7:AI76,AI76)),ROW(OFFSET($AF$7,0,0,AuthorityCounter,1)))-1,0))","v":"North Yorkshire"},null,{"$f":"IF(VLOOKUP(AK76,colAM,IF($H$75=\"OC\",8,5),FALSE)=1,MAX(AM$6:$AM75)+1,0)","v":70},"North Yorkshire",false,{"$f":"IF($AP$5,SUM(SUMPRODUCT(--AO$7:$AO76)*AO76,(SUMPRODUCT(--(AO$7:$AO76=FALSE))+SUMPRODUCT(--colAP))*(1-AO76)),ROW()-6)","v":70},"North Yorkshire","North Yorkshire",null,null,null,null,null,null,null,null,null,null,null,null,null,null,null,null,null,null,null,null,null,null,null,null,null,null,null,null,null,null,null,null,null,null,null,null,null,null,null,null,null,null,null,null,null,null,null,null,null,null,null,null,null,null,null,null,null,null,null,null,null,null,null,null,null,null,null,null,null,null,null,null,null,null,null,null,null,null,null,null,null,null,null,null,null,null,null,null,null,null,null,null,null,null,null,null,null,null,null,null,null,null,null,null,null,null,null,null,null,null,null,null,null,null,null,null,null,null,null,null,null,null,null,null,null,null,null,null,null,null,null,null,null,null,null,null,null,null,null,null,null,null,null,null,null,null,null,null,null,null,null,null,null,null,null,null,null,null,null,null,null,null,null,null,null,null,null,null,null,null,null,null,null,null,null,null,null,null,null,null,null,null,null,null,null,null,null,null,null,null,null,null,null,null,null,null,null,null,null,null,null,null,null,null,null,null,null,null,null,"Page 18: Children's Non-Fiction Stock Turn","#,##0.0",{"$f":"AB7","v":0}]
["(P.04)[01]Total Audio Visual Issues",270,10,28,"Page 28: Total Audio Visual Issues",null,null,null,null,null,null,"Northamptonshire","c",null,36,{"$f":"IF((ROW()-5=$G$36),1,IF((M77=Coding!$H$75)+(Coding!$H$75=\"ALL\")+(Coding!$H$75=\"U\")*OR(M77=\"W\",M77=\"su\",M77=\"L\",M77=\"MD\",M77=\"UA\")+(Coding!$H$75=\"na\")*AND(M77<>\"W\",M77<>\"su\",M77<>\"L\",M77<>\"MD\",M77<>\"UA\",M77<>\"SC\",M77<>\"SD\",M77<>\"p\"),1,0))","v":1},false,{"$f":"IF(OR(NOT(ISERROR(MATCH(L77,OFFSET($H$410,$G$36-2,0,1,18),FALSE))),$G$75=L77),1,0+(($G$36=1)*($H$75=\"OC\")))","v":0},1,36,null,{"$f":"IF((S77=1)*($J$6<22),INDEX($J$13:$J$33,SUM($S$7:S77),1),\"\")","v":""},{"$f":"COUNTIF($T$7:T77,T77)","v":1},null,12,{"$f":"INDEX(V:V,SUMPRODUCT((OFFSET($T$7,0,0,AuthorityCounter2,1)=Y77)*1,(OFFSET($W$7,0,0,AuthorityCounter2,1)=COUNTIF($Y$7:Y77,Y77))*1,ROW(OFFSET($W$7,0,0,AuthorityCounter2,1))))","v":""},18.650406504065042,{"$f":"IF((Y77=AB$2)*(Z77=AC$3)*(SUM($AB$6:AB76)=0),+Y77,0)","v":0},12,null,{"$f":"IF($AE$6=3,O77,SUM((CODE(MID(CONCATENATE(UPPER(M77),\"aaaaaaaaaa\"),{1;2},1))-30)*{1;0.01}))","v":37.67},{"$f":"COUNTIF($AE$7:$AE77,AE77)","v":18},null,55.47,55.47,{"$f":"COUNTIF($AI$7:$AI77,AI77)","v":14},{"$f":"IF($AE$6=1,L77,OFFSET($L$1,SUMPRODUCT(--(OFFSET($AE$7,0,0,AuthorityCounter,1)=AI77),--(OFFSET($AF$7,0,0,AuthorityCounter,1)=COUNTIF($AI$7:AI77,AI77)),ROW(OFFSET($AF$7,0,0,AuthorityCounter,1)))-1,0))","v":"Northamptonshire"},null,{"$f":"IF(VLOOKUP(AK77,colAM,IF($H$75=\"OC\",8,5),FALSE)=1,MAX(AM$6:$AM76)+1,0)","v":71},"Northamptonshire",false,{"$f":"IF($AP$5,SUM(SUMPRODUCT(--AO$7:$AO77)*AO77,(SUMPRODUCT(--(AO$7:$AO77=FALSE))+SUMPRODUCT(--colAP))*(1-AO77)),ROW()-6)","v":71},"Northamptonshire","Northamptonshire",null,null,null,null,null,null,null,null,null,null,null,null,null,null,null,null,null,null,null,null,null,null,null,null,null,null,null,null,null,null,null,null,null,null,null,null,null,null,null,null,null,null,null,null,null,null,null,null,null,null,null,null,null,null,null,null,null,null,null,null,null,null,null,null,null,null,null,null,null,null,null,null,null,null,null,null,null,null,null,null,null,null,null,null,null,null,null,null,null,null,null,null,null,null,null,null,null,null,null,null,null,null,null,null,null,null,null,null,null,null,null,null,null,null,null,null,null,null,null,null,null,null,null,null,null,null,null,null,null,null,null,null,null,null,null,null,null,null,null,null,null,null,null,null,null,null,null,null,null,null,null,null,null,null,null,null,null,null,null,null,null,null,null,null,null,null,null,null,null,null,null,null,null,null,null,null,null,null,null,null,null,null,null,null,null,null,null,null,null,null,null,null,null,null,null,null,null,null,null,null,null,null,null,null,null,null,null,null,null,"Page 19: Total Audio Visual Issues","#,##0",{"$f":"AB7","v":0}]
["(P.05)[01]Music, Videos and DVDs; Multi-media and Open Learning Packs; CD-ROMs and Software Issues",270,11,29,"Page 29: Music, Videos and DVDs; Multi-media and Open Learning Packs; CD-ROMs and Software Issues",null,null,"Comparator Group Table",null,null,null,"Nottingham","uu",null,15,{"$f":"IF((ROW()-5=$G$36),1,IF((M78=Coding!$H$75)+(Coding!$H$75=\"ALL\")+(Coding!$H$75=\"U\")*OR(M78=\"W\",M78=\"su\",M78=\"L\",M78=\"MD\",M78=\"UA\")+(Coding!$H$75=\"na\")*AND(M78<>\"W\",M78<>\"su\",M78<>\"L\",M78<>\"MD\",M78<>\"UA\",M78<>\"SC\",M78<>\"SD\",M78<>\"p\"),1,0))","v":1},false,{"$f":"IF(OR(NOT(ISERROR(MATCH(L78,OFFSET($H$410,$G$36-2,0,1,18),FALSE))),$G$75=L78),1,0+(($G$36=1)*($H$75=\"OC\")))","v":0},1,15,null,{"$f":"IF((S78=1)*($J$6<22),INDEX($J$13:$J$33,SUM($S$7:S78),1),\"\")","v":""},{"$f":"COUNTIF($T$7:T78,T78)","v":2},null,12,{"$f":"INDEX(V:V,SUMPRODUCT((OFFSET($T$7,0,0,AuthorityCounter2,1)=Y78)*1,(OFFSET($W$7,0,0,AuthorityCounter2,1)=COUNTIF($Y$7:Y78,Y78))*1,ROW(OFFSET($W$7,0,0,AuthorityCounter2,1))))","v":""},18.650406504065042,{"$f":"IF((Y78=AB$2)*(Z78=AC$3)*(SUM($AB$6:AB77)=0),+Y78,0)","v":0},12,null,{"$f":"IF($AE$6=3,O78,SUM((CODE(MID(CONCATENATE(UPPER(M78),\"aaaaaaaaaa\"),{1;2},1))-30)*{1;0.01}))","v":55.55},{"$f":"COUNTIF($AE$7:$AE78,AE78)","v":23},null,55.47,55.47,{"$f":"COUNTIF($AI$7:$AI78,AI78)","v":15},{"$f":"IF($AE$6=1,L78,OFFSET($L$1,SUMPRODUCT(--(OFFSET($AE$7,0,0,AuthorityCounter,1)=AI78),--(OFFSET($AF$7,0,0,AuthorityCounter,1)=COUNTIF($AI$7:AI78,AI78)),ROW(OFFSET($AF$7,0,0,AuthorityCounter,1)))-1,0))","v":"Nottingham"},null,{"$f":"IF(VLOOKUP(AK78,colAM,IF($H$75=\"OC\",8,5),FALSE)=1,MAX(AM$6:$AM77)+1,0)","v":72},"Nottingham",false,{"$f":"IF($AP$5,SUM(SUMPRODUCT(--AO$7:$AO78)*AO78,(SUMPRODUCT(--(AO$7:$AO78=FALSE))+SUMPRODUCT(--colAP))*(1-AO78)),ROW()-6)","v":72},"Nottingham","Nottingham",null,null,null,null,null,null,null,null,null,null,null,null,null,null,null,null,null,null,null,null,null,null,null,null,null,null,null,null,null,null,null,null,null,null,null,null,null,null,null,null,null,null,null,null,null,null,null,null,null,null,null,null,null,null,null,null,null,null,null,null,null,null,null,null,null,null,null,null,null,null,null,null,null,null,null,null,null,null,null,null,null,null,null,null,null,null,null,null,null,null,null,null,null,null,null,null,null,null,null,null,null,null,null,null,null,null,null,null,null,null,null,null,null,null,null,null,null,null,null,null,null,null,null,null,null,null,null,null,null,null,null,null,null,null,null,null,null,null,null,null,null,null,null,null,null,null,null,null,null,null,null,null,null,null,null,null,null,null,null,null,null,null,null,null,null,null,null,null,null,null,null,null,null,null,null,null,null,null,null,null,null,null,null,null,null,null,null,null,null,null,null,null,null,null,null,null,null,null,null,null,null,null,null,null,null,null,null,null,null,"Page 20: Music, Videos and DVDs; Multi-media and Open Learning Packs; CD-ROMs and Software Issues","#,##0",{"$f":"AB7","v":0}]
["(P.05)[02]Adult Talking Book Issues",270,12,29,"Page 29: Adult Talking Book Issues",null,6,"C","Counties",{"$f":"COUNTIF($M$7:$M$360,Coding!H79)","v":27},null,"Nottinghamshire","c",null,63,{"$f":"IF((ROW()-5=$G$36),1,IF((M79=Coding!$H$75)+(Coding!$H$75=\"ALL\")+(Coding!$H$75=\"U\")*OR(M79=\"W\",M79=\"su\",M79=\"L\",M79=\"MD\",M79=\"UA\")+(Coding!$H$75=\"na\")*AND(M79<>\"W\",M79<>\"su\",M79<>\"L\",M79<>\"MD\",M79<>\"UA\",M79<>\"SC\",M79<>\"SD\",M79<>\"p\"),1,0))","v":1},false,{"$f":"IF(OR(NOT(ISERROR(MATCH(L79,OFFSET($H$410,$G$36-2,0,1,18),FALSE))),$G$75=L79),1,0+(($G$36=1)*($H$75=\"OC\")))","v":0},1,63,null,{"$f":"IF((S79=1)*($J$6<22),INDEX($J$13:$J$33,SUM($S$7:S79),1),\"\")","v":""},{"$f":"COUNTIF($T$7:T79,T79)","v":1},null,12,{"$f":"INDEX(V:V,SUMPRODUCT((OFFSET($T$7,0,0,AuthorityCounter2,1)=Y79)*1,(OFFSET($W$7,0,0,AuthorityCounter2,1)=COUNTIF($Y$7:Y79,Y79))*1,ROW(OFFSET($W$7,0,0,AuthorityCounter2,1))))","v":""},18.650406504065042,{"$f":"IF((Y79=AB$2)*(Z79=AC$3)*(SUM($AB$6:AB78)=0),+Y79,0)","v":0},12,null,{"$f":"IF($AE$6=3,O79,SUM((CODE(MID(CONCATENATE(UPPER(M79),\"aaaaaaaaaa\"),{1;2},1))-30)*{1;0.01}))","v":37.67},{"$f":"COUNTIF($AE$7:$AE79,AE79)","v":19},null,55.47,55.47,{"$f":"COUNTIF($AI$7:$AI79,AI79)","v":16},{"$f":"IF($AE$6=1,L79,OFFSET($L$1,SUMPRODUCT(--(OFFSET($AE$7,0,0,AuthorityCounter,1)=AI79),--(OFFSET($AF$7,0,0,AuthorityCounter,1)=COUNTIF($AI$7:AI79,AI79)),ROW(OFFSET($AF$7,0,0,AuthorityCounter,1)))-1,0))","v":"Nottinghamshire"},null,{"$f":"IF(VLOOKUP(AK79,colAM,IF($H$75=\"OC\",8,5),FALSE)=1,MAX(AM$6:$AM78)+1,0)","v":73},"Nottinghamshire",false,{"$f":"IF($AP$5,SUM(SUMPRODUCT(--AO$7:$AO79)*AO79,(SUMPRODUCT(--(AO$7:$AO79=FALSE))+SUMPRODUCT(--colAP))*(1-AO79)),ROW()-6)","v":73},"Nottinghamshire","Nottinghamshire",null,null,null,null,null,null,null,null,null,null,null,null,null,null,null,null,null,null,null,null,null,null,null,null,null,null,null,null,null,null,null,null,null,null,null,null,null,null,null,null,null,null,null,null,null,null,null,null,null,null,null,null,null,null,null,null,null,null,null,null,null,null,null,null,null,null,null,null,null,null,null,null,null,null,null,null,null,null,null,null,null,null,null,null,null,null,null,null,null,null,null,null,null,null,null,null,null,null,null,null,null,null,null,null,null,null,null,null,null,null,null,null,null,null,null,null,null,null,null,null,null,null,null,null,null,null,null,null,null,null,null,null,null,null,null,null,null,null,null,null,null,null,null,null,null,null,null,null,null,null,null,null,null,null,null,null,null,null,null,null,null,null,null,null,null,null,null,null,null,null,null,null,null,null,null,null,null,null,null,null,null,null,null,null,null,null,null,null,null,null,null,null,null,null,null,null,null,null,null,null,null,null,null,null,null,null,null,null,null,"Page 20: Adult Talking Book Issues","#,##0",{"$f":"AB7","v":0}]
["(P.05)[03]Children's Talking Book Issues",270,13,29,"Page 29: Children's Talking Book Issues",null,5,"UU","English Unitaries",{"$f":"COUNTIF($M$7:$M$360,Coding!H80)","v":44},null,"Oldham","um",null,12,{"$f":"IF((ROW()-5=$G$36),1,IF((M80=Coding!$H$75)+(Coding!$H$75=\"ALL\")+(Coding!$H$75=\"U\")*OR(M80=\"W\",M80=\"su\",M80=\"L\",M80=\"MD\",M80=\"UA\")+(Coding!$H$75=\"na\")*AND(M80<>\"W\",M80<>\"su\",M80<>\"L\",M80<>\"MD\",M80<>\"UA\",M80<>\"SC\",M80<>\"SD\",M80<>\"p\"),1,0))","v":1},false,{"$f":"IF(OR(NOT(ISERROR(MATCH(L80,OFFSET($H$410,$G$36-2,0,1,18),FALSE))),$G$75=L80),1,0+(($G$36=1)*($H$75=\"OC\")))","v":0},1,12,null,{"$f":"IF((S80=1)*($J$6<22),INDEX($J$13:$J$33,SUM($S$7:S80),1),\"\")","v":""},{"$f":"COUNTIF($T$7:T80,T80)","v":5},null,12,{"$f":"INDEX(V:V,SUMPRODUCT((OFFSET($T$7,0,0,AuthorityCounter2,1)=Y80)*1,(OFFSET($W$7,0,0,AuthorityCounter2,1)=COUNTIF($Y$7:Y80,Y80))*1,ROW(OFFSET($W$7,0,0,AuthorityCounter2,1))))","v":""},18.650406504065042,{"$f":"IF((Y80=AB$2)*(Z80=AC$3)*(SUM($AB$6:AB79)=0),+Y80,0)","v":0},12,null,{"$f":"IF($AE$6=3,O80,SUM((CODE(MID(CONCATENATE(UPPER(M80),\"aaaaaaaaaa\"),{1;2},1))-30)*{1;0.01}))","v":55.47},{"$f":"COUNTIF($AE$7:$AE80,AE80)","v":10},null,55.47,55.47,{"$f":"COUNTIF($AI$7:$AI80,AI80)","v":17},{"$f":"IF($AE$6=1,L80,OFFSET($L$1,SUMPRODUCT(--(OFFSET($AE$7,0,0,AuthorityCounter,1)=AI80),--(OFFSET($AF$7,0,0,AuthorityCounter,1)=COUNTIF($AI$7:AI80,AI80)),ROW(OFFSET($AF$7,0,0,AuthorityCounter,1)))-1,0))","v":"Oldham"},null,{"$f":"IF(VLOOKUP(AK80,colAM,IF($H$75=\"OC\",8,5),FALSE)=1,MAX(AM$6:$AM79)+1,0)","v":74},"Oldham",false,{"$f":"IF($AP$5,SUM(SUMPRODUCT(--AO$7:$AO80)*AO80,(SUMPRODUCT(--(AO$7:$AO80=FALSE))+SUMPRODUCT(--colAP))*(1-AO80)),ROW()-6)","v":74},"Oldham","Oldham",null,null,null,null,null,null,null,null,null,null,null,null,null,null,null,null,null,null,null,null,null,null,null,null,null,null,null,null,null,null,null,null,null,null,null,null,null,null,null,null,null,null,null,null,null,null,null,null,null,null,null,null,null,null,null,null,null,null,null,null,null,null,null,null,null,null,null,null,null,null,null,null,null,null,null,null,null,null,null,null,null,null,null,null,null,null,null,null,null,null,null,null,null,null,null,null,null,null,null,null,null,null,null,null,null,null,null,null,null,null,null,null,null,null,null,null,null,null,null,null,null,null,null,null,null,null,null,null,null,null,null,null,null,null,null,null,null,null,null,null,null,null,null,null,null,null,null,null,null,null,null,null,null,null,null,null,null,null,null,null,null,null,null,null,null,null,null,null,null,null,null,null,null,null,null,null,null,null,null,null,null,null,null,null,null,null,null,null,null,null,null,null,null,null,null,null,null,null,null,null,null,null,null,null,null,null,null,null,null,"Page 20: Children's Talking Book Issues","#,##0",{"$f":"AB7","v":0}]
["(P.06)[01]Number of Requests for Specific Items",270,14,30,"Page 30: Number of Requests for Specific Items",null,null,null,null,null,null,"Oxfordshire","c",null,43,{"$f":"IF((ROW()-5=$G$36),1,IF((M81=Coding!$H$75)+(Coding!$H$75=\"ALL\")+(Coding!$H$75=\"U\")*OR(M81=\"W\",M81=\"su\",M81=\"L\",M81=\"MD\",M81=\"UA\")+(Coding!$H$75=\"na\")*AND(M81<>\"W\",M81<>\"su\",M81<>\"L\",M81<>\"MD\",M81<>\"UA\",M81<>\"SC\",M81<>\"SD\",M81<>\"p\"),1,0))","v":1},false,{"$f":"IF(OR(NOT(ISERROR(MATCH(L81,OFFSET($H$410,$G$36-2,0,1,18),FALSE))),$G$75=L81),1,0+(($G$36=1)*($H$75=\"OC\")))","v":0},1,43,null,{"$f":"IF((S81=1)*($J$6<22),INDEX($J$13:$J$33,SUM($S$7:S81),1),\"\")","v":""},{"$f":"COUNTIF($T$7:T81,T81)","v":1},null,12,{"$f":"INDEX(V:V,SUMPRODUCT((OFFSET($T$7,0,0,AuthorityCounter2,1)=Y81)*1,(OFFSET($W$7,0,0,AuthorityCounter2,1)=COUNTIF($Y$7:Y81,Y81))*1,ROW(OFFSET($W$7,0,0,AuthorityCounter2,1))))","v":""},18.650406504065042,{"$f":"IF((Y81=AB$2)*(Z81=AC$3)*(SUM($AB$6:AB80)=0),+Y81,0)","v":0},12,null,{"$f":"IF($AE$6=3,O81,SUM((CODE(MID(CONCATENATE(UPPER(M81),\"aaaaaaaaaa\"),{1;2},1))-30)*{1;0.01}))","v":37.67},{"$f":"COUNTIF($AE$7:$AE81,AE81)","v":20},null,55.47,55.47,{"$f":"COUNTIF($AI$7:$AI81,AI81)","v":18},{"$f":"IF($AE$6=1,L81,OFFSET($L$1,SUMPRODUCT(--(OFFSET($AE$7,0,0,AuthorityCounter,1)=AI81),--(OFFSET($AF$7,0,0,AuthorityCounter,1)=COUNTIF($AI$7:AI81,AI81)),ROW(OFFSET($AF$7,0,0,AuthorityCounter,1)))-1,0))","v":"Oxfordshire"},null,{"$f":"IF(VLOOKUP(AK81,colAM,IF($H$75=\"OC\",8,5),FALSE)=1,MAX(AM$6:$AM80)+1,0)","v":75},"Oxfordshire",false,{"$f":"IF($AP$5,SUM(SUMPRODUCT(--AO$7:$AO81)*AO81,(SUMPRODUCT(--(AO$7:$AO81=FALSE))+SUMPRODUCT(--colAP))*(1-AO81)),ROW()-6)","v":75},"Oxfordshire","Oxfordshire",null,null,null,null,null,null,null,null,null,null,null,null,null,null,null,null,null,null,null,null,null,null,null,null,null,null,null,null,null,null,null,null,null,null,null,null,null,null,null,null,null,null,null,null,null,null,null,null,null,null,null,null,null,null,null,null,null,null,null,null,null,null,null,null,null,null,null,null,null,null,null,null,null,null,null,null,null,null,null,null,null,null,null,null,null,null,null,null,null,null,null,null,null,null,null,null,null,null,null,null,null,null,null,null,null,null,null,null,null,null,null,null,null,null,null,null,null,null,null,null,null,null,null,null,null,null,null,null,null,null,null,null,null,null,null,null,null,null,null,null,null,null,null,null,null,null,null,null,null,null,null,null,null,null,null,null,null,null,null,null,null,null,null,null,null,null,null,null,null,null,null,null,null,null,null,null,null,null,null,null,null,null,null,null,null,null,null,null,null,null,null,null,null,null,null,null,null,null,null,null,null,null,null,null,null,null,null,null,null,"Page 21: Number of Requests for Specific Items","#,##0",{"$f":"AB7","v":0}]
["(P.06)[02]Number of Online Requests",270,15,30,"Page 30: Number of Online Requests",null,3,"UL","London Authorities",{"$f":"COUNTIF($M$7:$M$360,Coding!H82)","v":30},null,"Peterborough","uu",null,11,{"$f":"IF((ROW()-5=$G$36),1,IF((M82=Coding!$H$75)+(Coding!$H$75=\"ALL\")+(Coding!$H$75=\"U\")*OR(M82=\"W\",M82=\"su\",M82=\"L\",M82=\"MD\",M82=\"UA\")+(Coding!$H$75=\"na\")*AND(M82<>\"W\",M82<>\"su\",M82<>\"L\",M82<>\"MD\",M82<>\"UA\",M82<>\"SC\",M82<>\"SD\",M82<>\"p\"),1,0))","v":1},false,{"$f":"IF(OR(NOT(ISERROR(MATCH(L82,OFFSET($H$410,$G$36-2,0,1,18),FALSE))),$G$75=L82),1,0+(($G$36=1)*($H$75=\"OC\")))","v":0},1,11,null,{"$f":"IF((S82=1)*($J$6<22),INDEX($J$13:$J$33,SUM($S$7:S82),1),\"\")","v":""},{"$f":"COUNTIF($T$7:T82,T82)","v":3},null,11,{"$f":"INDEX(V:V,SUMPRODUCT((OFFSET($T$7,0,0,AuthorityCounter2,1)=Y82)*1,(OFFSET($W$7,0,0,AuthorityCounter2,1)=COUNTIF($Y$7:Y82,Y82))*1,ROW(OFFSET($W$7,0,0,AuthorityCounter2,1))))","v":""},18.650406504065042,{"$f":"IF((Y82=AB$2)*(Z82=AC$3)*(SUM($AB$6:AB81)=0),+Y82,0)","v":0},11,null,{"$f":"IF($AE$6=3,O82,SUM((CODE(MID(CONCATENATE(UPPER(M82),\"aaaaaaaaaa\"),{1;2},1))-30)*{1;0.01}))","v":55.55},{"$f":"COUNTIF($AE$7:$AE82,AE82)","v":24},null,55.47,{"$f":"IF(ISERROR(AH82),\"na\",AH82)","v":55.47},{"$f":"COUNTIF($AI$7:$AI82,AI82)","v":19},{"$f":"IF($AE$6=1,L82,OFFSET($L$1,SUMPRODUCT(--(OFFSET($AE$7,0,0,AuthorityCounter,1)=AI82),--(OFFSET($AF$7,0,0,AuthorityCounter,1)=COUNTIF($AI$7:AI82,AI82)),ROW(OFFSET($AF$7,0,0,AuthorityCounter,1)))-1,0))","v":"Peterborough"},null,{"$f":"IF(VLOOKUP(AK82,colAM,IF($H$75=\"OC\",8,5),FALSE)=1,MAX(AM$6:$AM81)+1,0)","v":76},"Peterborough",false,{"$f":"IF($AP$5,SUM(SUMPRODUCT(--AO$7:$AO82)*AO82,(SUMPRODUCT(--(AO$7:$AO82=FALSE))+SUMPRODUCT(--colAP))*(1-AO82)),ROW()-6)","v":76},"Peterborough","Peterborough",null,null,null,null,null,null,null,null,null,null,null,null,null,null,null,null,null,null,null,null,null,null,null,null,null,null,null,null,null,null,null,null,null,null,null,null,null,null,null,null,null,null,null,null,null,null,null,null,null,null,null,null,null,null,null,null,null,null,null,null,null,null,null,null,null,null,null,null,null,null,null,null,null,null,null,null,null,null,null,null,null,null,null,null,null,null,null,null,null,null,null,null,null,null,null,null,null,null,null,null,null,null,null,null,null,null,null,null,null,null,null,null,null,null,null,null,null,null,null,null,null,null,null,null,null,null,null,null,null,null,null,null,null,null,null,null,null,null,null,null,null,null,null,null,null,null,null,null,null,null,null,null,null,null,null,null,null,null,null,null,null,null,null,null,null,null,null,null,null,null,null,null,null,null,null,null,null,null,null,null,null,null,null,null,null,null,null,null,null,null,null,null,null,null,null,null,null,null,null,null,null,null,null,null,null,null,null,null,null,"Page 21: Number of Online Requests","#,##0",{"$f":"AB7","v":0}]
["(P.06)[03]Number of Enquiries",270,16,30,"Page 30: Number of Enquiries",null,4,"UM","Metropolitan Districts",{"$f":"COUNTIF($M$7:$M$360,Coding!H83)","v":24},null,"Plymouth","uu",null,12,{"$f":"IF((ROW()-5=$G$36),1,IF((M83=Coding!$H$75)+(Coding!$H$75=\"ALL\")+(Coding!$H$75=\"U\")*OR(M83=\"W\",M83=\"su\",M83=\"L\",M83=\"MD\",M83=\"UA\")+(Coding!$H$75=\"na\")*AND(M83<>\"W\",M83<>\"su\",M83<>\"L\",M83<>\"MD\",M83<>\"UA\",M83<>\"SC\",M83<>\"SD\",M83<>\"p\"),1,0))","v":1},false,{"$f":"IF(OR(NOT(ISERROR(MATCH(L83,OFFSET($H$410,$G$36-2,0,1,18),FALSE))),$G$75=L83),1,0+(($G$36=1)*($H$75=\"OC\")))","v":0},1,12,null,{"$f":"IF((S83=1)*($J$6<22),INDEX($J$13:$J$33,SUM($S$7:S83),1),\"\")","v":""},{"$f":"COUNTIF($T$7:T83,T83)","v":6},null,11,{"$f":"INDEX(V:V,SUMPRODUCT((OFFSET($T$7,0,0,AuthorityCounter2,1)=Y83)*1,(OFFSET($W$7,0,0,AuthorityCounter2,1)=COUNTIF($Y$7:Y83,Y83))*1,ROW(OFFSET($W$7,0,0,AuthorityCounter2,1))))","v":""},18.650406504065042,{"$f":"IF((Y83=AB$2)*(Z83=AC$3)*(SUM($AB$6:AB82)=0),+Y83,0)","v":0},11,null,{"$f":"IF($AE$6=3,O83,SUM((CODE(MID(CONCATENATE(UPPER(M83),\"aaaaaaaaaa\"),{1;2},1))-30)*{1;0.01}))","v":55.55},{"$f":"COUNTIF($AE$7:$AE83,AE83)","v":25},null,55.47,55.47,{"$f":"COUNTIF($AI$7:$AI83,AI83)","v":20},{"$f":"IF($AE$6=1,L83,OFFSET($L$1,SUMPRODUCT(--(OFFSET($AE$7,0,0,AuthorityCounter,1)=AI83),--(OFFSET($AF$7,0,0,AuthorityCounter,1)=COUNTIF($AI$7:AI83,AI83)),ROW(OFFSET($AF$7,0,0,AuthorityCounter,1)))-1,0))","v":"Plymouth"},null,{"$f":"IF(VLOOKUP(AK83,colAM,IF($H$75=\"OC\",8,5),FALSE)=1,MAX(AM$6:$AM82)+1,0)","v":77},"Plymouth",false,{"$f":"IF($AP$5,SUM(SUMPRODUCT(--AO$7:$AO83)*AO83,(SUMPRODUCT(--(AO$7:$AO83=FALSE))+SUMPRODUCT(--colAP))*(1-AO83)),ROW()-6)","v":77},"Plymouth","Plymouth",null,null,null,null,null,null,null,null,null,null,null,null,null,null,null,null,null,null,null,null,null,null,null,null,null,null,null,null,null,null,null,null,null,null,null,null,null,null,null,null,null,null,null,null,null,null,null,null,null,null,null,null,null,null,null,null,null,null,null,null,null,null,null,null,null,null,null,null,null,null,null,null,null,null,null,null,null,null,null,null,null,null,null,null,null,null,null,null,null,null,null,null,null,null,null,null,null,null,null,null,null,null,null,null,null,null,null,null,null,null,null,null,null,null,null,null,null,null,null,null,null,null,null,null,null,null,null,null,null,null,null,null,null,null,null,null,null,null,null,null,null,null,null,null,null,null,null,null,null,null,null,null,null,null,null,null,null,null,null,null,null,null,null,null,null,null,null,null,null,null,null,null,null,null,null,null,null,null,null,null,null,null,null,null,null,null,null,null,null,null,null,null,null,null,null,null,null,null,null,null,null,null,null,null,null,null,null,null,null,"Page 21: Number of Enquiries","#,##0",{"$f":"AB7","v":0}]
["(P.06)[04]Number of Online Enquiries",270,17,30,"Page 30: Number of Online Enquiries",null,1,"All","All Members",{"$f":"COUNTIF($M$7:$M$360,Coding!H84)","v":0},null,"Portsmouth","uu",null,10,{"$f":"IF((ROW()-5=$G$36),1,IF((M84=Coding!$H$75)+(Coding!$H$75=\"ALL\")+(Coding!$H$75=\"U\")*OR(M84=\"W\",M84=\"su\",M84=\"L\",M84=\"MD\",M84=\"UA\")+(Coding!$H$75=\"na\")*AND(M84<>\"W\",M84<>\"su\",M84<>\"L\",M84<>\"MD\",M84<>\"UA\",M84<>\"SC\",M84<>\"SD\",M84<>\"p\"),1,0))","v":1},false,{"$f":"IF(OR(NOT(ISERROR(MATCH(L84,OFFSET($H$410,$G$36-2,0,1,18),FALSE))),$G$75=L84),1,0+(($G$36=1)*($H$75=\"OC\")))","v":0},1,10,null,{"$f":"IF((S84=1)*($J$6<22),INDEX($J$13:$J$33,SUM($S$7:S84),1),\"\")","v":""},{"$f":"COUNTIF($T$7:T84,T84)","v":5},null,11,{"$f":"INDEX(V:V,SUMPRODUCT((OFFSET($T$7,0,0,AuthorityCounter2,1)=Y84)*1,(OFFSET($W$7,0,0,AuthorityCounter2,1)=COUNTIF($Y$7:Y84,Y84))*1,ROW(OFFSET($W$7,0,0,AuthorityCounter2,1))))","v":""},18.650406504065042,{"$f":"IF((Y84=AB$2)*(Z84=AC$3)*(SUM($AB$6:AB83)=0),+Y84,0)","v":0},11,null,{"$f":"IF($AE$6=3,O84,SUM((CODE(MID(CONCATENATE(UPPER(M84),\"aaaaaaaaaa\"),{1;2},1))-30)*{1;0.01}))","v":55.55},{"$f":"COUNTIF($AE$7:$AE84,AE84)","v":26},null,55.47,55.47,{"$f":"COUNTIF($AI$7:$AI84,AI84)","v":21},{"$f":"IF($AE$6=1,L84,OFFSET($L$1,SUMPRODUCT(--(OFFSET($AE$7,0,0,AuthorityCounter,1)=AI84),--(OFFSET($AF$7,0,0,AuthorityCounter,1)=COUNTIF($AI$7:AI84,AI84)),ROW(OFFSET($AF$7,0,0,AuthorityCounter,1)))-1,0))","v":"Portsmouth"},null,{"$f":"IF(VLOOKUP(AK84,colAM,IF($H$75=\"OC\",8,5),FALSE)=1,MAX(AM$6:$AM83)+1,0)","v":78},"Portsmouth",false,{"$f":"IF($AP$5,SUM(SUMPRODUCT(--AO$7:$AO84)*AO84,(SUMPRODUCT(--(AO$7:$AO84=FALSE))+SUMPRODUCT(--colAP))*(1-AO84)),ROW()-6)","v":78},"Portsmouth","Portsmouth",null,null,null,null,null,null,null,null,null,null,null,null,null,null,null,null,null,null,null,null,null,null,null,null,null,null,null,null,null,null,null,null,null,null,null,null,null,null,null,null,null,null,null,null,null,null,null,null,null,null,null,null,null,null,null,null,null,null,null,null,null,null,null,null,null,null,null,null,null,null,null,null,null,null,null,null,null,null,null,null,null,null,null,null,null,null,null,null,null,null,null,null,null,null,null,null,null,null,null,null,null,null,null,null,null,null,null,null,null,null,null,null,null,null,null,null,null,null,null,null,null,null,null,null,null,null,null,null,null,null,null,null,null,null,null,null,null,null,null,null,null,null,null,null,null,null,null,null,null,null,null,null,null,null,null,null,null,null,null,null,null,null,null,null,null,null,null,null,null,null,null,null,null,null,null,null,null,null,null,null,null,null,null,null,null,null,null,null,null,null,null,null,null,null,null,null,null,null,null,null,null,null,null,null,null,null,null,null,null,"Page 21: Number of Online Enquiries","#,##0",{"$f":"AB7","v":0}]
["(P.06)[05]Inter-Library Loans Supplied",270,18,30,"Page 30: Inter-Library Loans Supplied",null,2,"OC","Original Comparators",{"$f":"COUNTIF($M$7:$M$360,Coding!H85)","v":0},null,"Reading","uu",null,8,{"$f":"IF((ROW()-5=$G$36),1,IF((M85=Coding!$H$75)+(Coding!$H$75=\"ALL\")+(Coding!$H$75=\"U\")*OR(M85=\"W\",M85=\"su\",M85=\"L\",M85=\"MD\",M85=\"UA\")+(Coding!$H$75=\"na\")*AND(M85<>\"W\",M85<>\"su\",M85<>\"L\",M85<>\"MD\",M85<>\"UA\",M85<>\"SC\",M85<>\"SD\",M85<>\"p\"),1,0))","v":1},false,{"$f":"IF(OR(NOT(ISERROR(MATCH(L85,OFFSET($H$410,$G$36-2,0,1,18),FALSE))),$G$75=L85),1,0+(($G$36=1)*($H$75=\"OC\")))","v":0},1,8,null,{"$f":"IF((S85=1)*($J$6<22),INDEX($J$13:$J$33,SUM($S$7:S85),1),\"\")","v":""},{"$f":"COUNTIF($T$7:T85,T85)","v":5},null,11,{"$f":"INDEX(V:V,SUMPRODUCT((OFFSET($T$7,0,0,AuthorityCounter2,1)=Y85)*1,(OFFSET($W$7,0,0,AuthorityCounter2,1)=COUNTIF($Y$7:Y85,Y85))*1,ROW(OFFSET($W$7,0,0,AuthorityCounter2,1))))","v":""},18.650406504065042,{"$f":"IF((Y85=AB$2)*(Z85=AC$3)*(SUM($AB$6:AB84)=0),+Y85,0)","v":0},11,null,{"$f":"IF($AE$6=3,O85,SUM((CODE(MID(CONCATENATE(UPPER(M85),\"aaaaaaaaaa\"),{1;2},1))-30)*{1;0.01}))","v":55.55},{"$f":"COUNTIF($AE$7:$AE85,AE85)","v":27},null,55.47,55.47,{"$f":"COUNTIF($AI$7:$AI85,AI85)","v":22},{"$f":"IF($AE$6=1,L85,OFFSET($L$1,SUMPRODUCT(--(OFFSET($AE$7,0,0,AuthorityCounter,1)=AI85),--(OFFSET($AF$7,0,0,AuthorityCounter,1)=COUNTIF($AI$7:AI85,AI85)),ROW(OFFSET($AF$7,0,0,AuthorityCounter,1)))-1,0))","v":"Reading"},null,{"$f":"IF(VLOOKUP(AK85,colAM,IF($H$75=\"OC\",8,5),FALSE)=1,MAX(AM$6:$AM84)+1,0)","v":79},"Reading",false,{"$f":"IF($AP$5,SUM(SUMPRODUCT(--AO$7:$AO85)*AO85,(SUMPRODUCT(--(AO$7:$AO85=FALSE))+SUMPRODUCT(--colAP))*(1-AO85)),ROW()-6)","v":79},"Reading","Reading",null,null,null,null,null,null,null,null,null,null,null,null,null,null,null,null,null,null,null,null,null,null,null,null,null,null,null,null,null,null,null,null,null,null,null,null,null,null,null,null,null,null,null,null,null,null,null,null,null,null,null,null,null,null,null,null,null,null,null,null,null,null,null,null,null,null,null,null,null,null,null,null,null,null,null,null,null,null,null,null,null,null,null,null,null,null,null,null,null,null,null,null,null,null,null,null,null,null,null,null,null,null,null,null,null,null,null,null,null,null,null,null,null,null,null,null,null,null,null,null,null,null,null,null,null,null,null,null,null,null,null,null,null,null,null,null,null,null,null,null,null,null,null,null,null,null,null,null,null,null,null,null,null,null,null,null,null,null,null,null,null,null,null,null,null,null,null,null,null,null,null,null,null,null,null,null,null,null,null,null,null,null,null,null,null,null,null,null,null,null,null,null,null,null,null,null,null,null,null,null,null,null,null,null,null,null,null,null,null,"Page 21: Supplied","#,##0.0",{"$f":"AB7","v":0}]
["(P.06)[06]Inter-Library Loans Received",270,19,30,"Page 30: Inter-Library Loans Received",null,null,null,null,null,null,"Redbridge","ul",null,13,{"$f":"IF((ROW()-5=$G$36),1,IF((M86=Coding!$H$75)+(Coding!$H$75=\"ALL\")+(Coding!$H$75=\"U\")*OR(M86=\"W\",M86=\"su\",M86=\"L\",M86=\"MD\",M86=\"UA\")+(Coding!$H$75=\"na\")*AND(M86<>\"W\",M86<>\"su\",M86<>\"L\",M86<>\"MD\",M86<>\"UA\",M86<>\"SC\",M86<>\"SD\",M86<>\"p\"),1,0))","v":1},false,{"$f":"IF(OR(NOT(ISERROR(MATCH(L86,OFFSET($H$410,$G$36-2,0,1,18),FALSE))),$G$75=L86),1,0+(($G$36=1)*($H$75=\"OC\")))","v":0},1,13,null,{"$f":"IF((S86=1)*($J$6<22),INDEX($J$13:$J$33,SUM($S$7:S86),1),\"\")","v":""},{"$f":"COUNTIF($T$7:T86,T86)","v":4},null,11,{"$f":"INDEX(V:V,SUMPRODUCT((OFFSET($T$7,0,0,AuthorityCounter2,1)=Y86)*1,(OFFSET($W$7,0,0,AuthorityCounter2,1)=COUNTIF($Y$7:Y86,Y86))*1,ROW(OFFSET($W$7,0,0,AuthorityCounter2,1))))","v":""},18.650406504065042,{"$f":"IF((Y86=AB$2)*(Z86=AC$3)*(SUM($AB$6:AB85)=0),+Y86,0)","v":0},11,null,{"$f":"IF($AE$6=3,O86,SUM((CODE(MID(CONCATENATE(UPPER(M86),\"aaaaaaaaaa\"),{1;2},1))-30)*{1;0.01}))","v":55.46},{"$f":"COUNTIF($AE$7:$AE86,AE86)","v":23},null,55.47,55.47,{"$f":"COUNTIF($AI$7:$AI86,AI86)","v":23},{"$f":"IF($AE$6=1,L86,OFFSET($L$1,SUMPRODUCT(--(OFFSET($AE$7,0,0,AuthorityCounter,1)=AI86),--(OFFSET($AF$7,0,0,AuthorityCounter,1)=COUNTIF($AI$7:AI86,AI86)),ROW(OFFSET($AF$7,0,0,AuthorityCounter,1)))-1,0))","v":"Redbridge"},null,{"$f":"IF(VLOOKUP(AK86,colAM,IF($H$75=\"OC\",8,5),FALSE)=1,MAX(AM$6:$AM85)+1,0)","v":80},"Redbridge",false,{"$f":"IF($AP$5,SUM(SUMPRODUCT(--AO$7:$AO86)*AO86,(SUMPRODUCT(--(AO$7:$AO86=FALSE))+SUMPRODUCT(--colAP))*(1-AO86)),ROW()-6)","v":80},"Redbridge","Redbridge",null,null,null,null,null,null,null,null,null,null,null,null,null,null,null,null,null,null,null,null,null,null,null,null,null,null,null,null,null,null,null,null,null,null,null,null,null,null,null,null,null,null,null,null,null,null,null,null,null,null,null,null,null,null,null,null,null,null,null,null,null,null,null,null,null,null,null,null,null,null,null,null,null,null,null,null,null,null,null,null,null,null,null,null,null,null,null,null,null,null,null,null,null,null,null,null,null,null,null,null,null,null,null,null,null,null,null,null,null,null,null,null,null,null,null,null,null,null,null,null,null,null,null,null,null,null,null,null,null,null,null,null,null,null,null,null,null,null,null,null,null,null,null,null,null,null,null,null,null,null,null,null,null,null,null,null,null,null,null,null,null,null,null,null,null,null,null,null,null,null,null,null,null,null,null,null,null,null,null,null,null,null,null,null,null,null,null,null,null,null,null,null,null,null,null,null,null,null,null,null,null,null,null,null,null,null,null,null,null,"Page 21: Received","#,##0.00",{"$f":"AB7","v":0}]
["(P.03)[01]Total Book Stock",405,0,33,"Page 33: Total Book Stock",null,null,null,null,null,null,"Redcar & Cleveland","uu",null,14,{"$f":"IF((ROW()-5=$G$36),1,IF((M87=Coding!$H$75)+(Coding!$H$75=\"ALL\")+(Coding!$H$75=\"U\")*OR(M87=\"W\",M87=\"su\",M87=\"L\",M87=\"MD\",M87=\"UA\")+(Coding!$H$75=\"na\")*AND(M87<>\"W\",M87<>\"su\",M87<>\"L\",M87<>\"MD\",M87<>\"UA\",M87<>\"SC\",M87<>\"SD\",M87<>\"p\"),1,0))","v":1},false,{"$f":"IF(OR(NOT(ISERROR(MATCH(L87,OFFSET($H$410,$G$36-2,0,1,18),FALSE))),$G$75=L87),1,0+(($G$36=1)*($H$75=\"OC\")))","v":0},1,14,null,{"$f":"IF((S87=1)*($J$6<22),INDEX($J$13:$J$33,SUM($S$7:S87),1),\"\")","v":""},{"$f":"COUNTIF($T$7:T87,T87)","v":4},null,11,{"$f":"INDEX(V:V,SUMPRODUCT((OFFSET($T$7,0,0,AuthorityCounter2,1)=Y87)*1,(OFFSET($W$7,0,0,AuthorityCounter2,1)=COUNTIF($Y$7:Y87,Y87))*1,ROW(OFFSET($W$7,0,0,AuthorityCounter2,1))))","v":""},18.650406504065042,{"$f":"IF((Y87=AB$2)*(Z87=AC$3)*(SUM($AB$6:AB86)=0),+Y87,0)","v":0},11,null,{"$f":"IF($AE$6=3,O87,SUM((CODE(MID(CONCATENATE(UPPER(M87),\"aaaaaaaaaa\"),{1;2},1))-30)*{1;0.01}))","v":55.55},{"$f":"COUNTIF($AE$7:$AE87,AE87)","v":28},null,55.47,55.47,{"$f":"COUNTIF($AI$7:$AI87,AI87)","v":24},{"$f":"IF($AE$6=1,L87,OFFSET($L$1,SUMPRODUCT(--(OFFSET($AE$7,0,0,AuthorityCounter,1)=AI87),--(OFFSET($AF$7,0,0,AuthorityCounter,1)=COUNTIF($AI$7:AI87,AI87)),ROW(OFFSET($AF$7,0,0,AuthorityCounter,1)))-1,0))","v":"Redcar & Cleveland"},null,{"$f":"IF(VLOOKUP(AK87,colAM,IF($H$75=\"OC\",8,5),FALSE)=1,MAX(AM$6:$AM86)+1,0)","v":81},"Redcar & Cleveland",false,{"$f":"IF($AP$5,SUM(SUMPRODUCT(--AO$7:$AO87)*AO87,(SUMPRODUCT(--(AO$7:$AO87=FALSE))+SUMPRODUCT(--colAP))*(1-AO87)),ROW()-6)","v":81},"Redcar & Cleveland","Redcar & Cleveland",null,null,null,null,null,null,null,null,null,null,null,null,null,null,null,null,null,null,null,null,null,null,null,null,null,null,null,null,null,null,null,null,null,null,null,null,null,null,null,null,null,null,null,null,null,null,null,null,null,null,null,null,null,null,null,null,null,null,null,null,null,null,null,null,null,null,null,null,null,null,null,null,null,null,null,null,null,null,null,null,null,null,null,null,null,null,null,null,null,null,null,null,null,null,null,null,null,null,null,null,null,null,null,null,null,null,null,null,null,null,null,null,null,null,null,null,null,null,null,null,null,null,null,null,null,null,null,null,null,null,null,null,null,null,null,null,null,null,null,null,null,null,null,null,null,null,null,null,null,null,null,null,null,null,null,null,null,null,null,null,null,null,null,null,null,null,null,null,null,null,null,null,null,null,null,null,null,null,null,null,null,null,null,null,null,null,null,null,null,null,null,null,null,null,null,null,null,null,null,null,null,null,null,null,null,null,null,null,null,"Page 22: Total Book Stock","#,##0",{"$f":"AB7","v":0}]
["(P.03)[02]Reference Book Stock",405,1,33,"Page 33: Reference Book Stock",null,null,null,null,null,null,"Richmond-upon-Thames","ul",null,13,{"$f":"IF((ROW()-5=$G$36),1,IF((M88=Coding!$H$75)+(Coding!$H$75=\"ALL\")+(Coding!$H$75=\"U\")*OR(M88=\"W\",M88=\"su\",M88=\"L\",M88=\"MD\",M88=\"UA\")+(Coding!$H$75=\"na\")*AND(M88<>\"W\",M88<>\"su\",M88<>\"L\",M88<>\"MD\",M88<>\"UA\",M88<>\"SC\",M88<>\"SD\",M88<>\"p\"),1,0))","v":1},false,{"$f":"IF(OR(NOT(ISERROR(MATCH(L88,OFFSET($H$410,$G$36-2,0,1,18),FALSE))),$G$75=L88),1,0+(($G$36=1)*($H$75=\"OC\")))","v":0},1,13,null,{"$f":"IF((S88=1)*($J$6<22),INDEX($J$13:$J$33,SUM($S$7:S88),1),\"\")","v":""},{"$f":"COUNTIF($T$7:T88,T88)","v":5},null,11,{"$f":"INDEX(V:V,SUMPRODUCT((OFFSET($T$7,0,0,AuthorityCounter2,1)=Y88)*1,(OFFSET($W$7,0,0,AuthorityCounter2,1)=COUNTIF($Y$7:Y88,Y88))*1,ROW(OFFSET($W$7,0,0,AuthorityCounter2,1))))","v":""},18.650406504065042,{"$f":"IF((Y88=AB$2)*(Z88=AC$3)*(SUM($AB$6:AB87)=0),+Y88,0)","v":0},11,null,{"$f":"IF($AE$6=3,O88,SUM((CODE(MID(CONCATENATE(UPPER(M88),\"aaaaaaaaaa\"),{1;2},1))-30)*{1;0.01}))","v":55.46},{"$f":"COUNTIF($AE$7:$AE88,AE88)","v":24},null,55.55,55.55,{"$f":"COUNTIF($AI$7:$AI88,AI88)","v":1},{"$f":"IF($AE$6=1,L88,OFFSET($L$1,SUMPRODUCT(--(OFFSET($AE$7,0,0,AuthorityCounter,1)=AI88),--(OFFSET($AF$7,0,0,AuthorityCounter,1)=COUNTIF($AI$7:AI88,AI88)),ROW(OFFSET($AF$7,0,0,AuthorityCounter,1)))-1,0))","v":"Richmond-upon-Thames"},null,{"$f":"IF(VLOOKUP(AK88,colAM,IF($H$75=\"OC\",8,5),FALSE)=1,MAX(AM$6:$AM87)+1,0)","v":82},"Richmond-upon-Thames",false,{"$f":"IF($AP$5,SUM(SUMPRODUCT(--AO$7:$AO88)*AO88,(SUMPRODUCT(--(AO$7:$AO88=FALSE))+SUMPRODUCT(--colAP))*(1-AO88)),ROW()-6)","v":82},"Richmond-upon-Thames","Richmond-upon-Thames",null,null,null,null,null,null,null,null,null,null,null,null,null,null,null,null,null,null,null,null,null,null,null,null,null,null,null,null,null,null,null,null,null,null,null,null,null,null,null,null,null,null,null,null,null,null,null,null,null,null,null,null,null,null,null,null,null,null,null,null,null,null,null,null,null,null,null,null,null,null,null,null,null,null,null,null,null,null,null,null,null,null,null,null,null,null,null,null,null,null,null,null,null,null,null,null,null,null,null,null,null,null,null,null,null,null,null,null,null,null,null,null,null,null,null,null,null,null,null,null,null,null,null,null,null,null,null,null,null,null,null,null,null,null,null,null,null,null,null,null,null,null,null,null,null,null,null,null,null,null,null,null,null,null,null,null,null,null,null,null,null,null,null,null,null,null,null,null,null,null,null,null,null,null,null,null,null,null,null,null,null,null,null,null,null,null,null,null,null,null,null,null,null,null,null,null,null,null,null,null,null,null,null,null,null,null,null,null,null,"Page 22: Reference Book Stock","#,##0",{"$f":"AB7","v":0}]
["(P.03)[03]Adult Fiction Stock",405,2,33,"Page 33: Adult Fiction Stock",null,null,null,null,null,null,"Rochdale","um",null,17,{"$f":"IF((ROW()-5=$G$36),1,IF((M89=Coding!$H$75)+(Coding!$H$75=\"ALL\")+(Coding!$H$75=\"U\")*OR(M89=\"W\",M89=\"su\",M89=\"L\",M89=\"MD\",M89=\"UA\")+(Coding!$H$75=\"na\")*AND(M89<>\"W\",M89<>\"su\",M89<>\"L\",M89<>\"MD\",M89<>\"UA\",M89<>\"SC\",M89<>\"SD\",M89<>\"p\"),1,0))","v":1},false,{"$f":"IF(OR(NOT(ISERROR(MATCH(L89,OFFSET($H$410,$G$36-2,0,1,18),FALSE))),$G$75=L89),1,0+(($G$36=1)*($H$75=\"OC\")))","v":0},1,17,null,{"$f":"IF((S89=1)*($J$6<22),INDEX($J$13:$J$33,SUM($S$7:S89),1),\"\")","v":""},{"$f":"COUNTIF($T$7:T89,T89)","v":5},null,11,{"$f":"INDEX(V:V,SUMPRODUCT((OFFSET($T$7,0,0,AuthorityCounter2,1)=Y89)*1,(OFFSET($W$7,0,0,AuthorityCounter2,1)=COUNTIF($Y$7:Y89,Y89))*1,ROW(OFFSET($W$7,0,0,AuthorityCounter2,1))))","v":""},18.650406504065042,{"$f":"IF((Y89=AB$2)*(Z89=AC$3)*(SUM($AB$6:AB88)=0),+Y89,0)","v":0},11,null,{"$f":"IF($AE$6=3,O89,SUM((CODE(MID(CONCATENATE(UPPER(M89),\"aaaaaaaaaa\"),{1;2},1))-30)*{1;0.01}))","v":55.47},{"$f":"COUNTIF($AE$7:$AE89,AE89)","v":11},null,55.55,55.55,{"$f":"COUNTIF($AI$7:$AI89,AI89)","v":2},{"$f":"IF($AE$6=1,L89,OFFSET($L$1,SUMPRODUCT(--(OFFSET($AE$7,0,0,AuthorityCounter,1)=AI89),--(OFFSET($AF$7,0,0,AuthorityCounter,1)=COUNTIF($AI$7:AI89,AI89)),ROW(OFFSET($AF$7,0,0,AuthorityCounter,1)))-1,0))","v":"Rochdale"},null,{"$f":"IF(VLOOKUP(AK89,colAM,IF($H$75=\"OC\",8,5),FALSE)=1,MAX(AM$6:$AM88)+1,0)","v":83},"Rochdale",false,{"$f":"IF($AP$5,SUM(SUMPRODUCT(--AO$7:$AO89)*AO89,(SUMPRODUCT(--(AO$7:$AO89=FALSE))+SUMPRODUCT(--colAP))*(1-AO89)),ROW()-6)","v":83},"Rochdale","Rochdale",null,null,null,null,null,null,null,null,null,null,null,null,null,null,null,null,null,null,null,null,null,null,null,null,null,null,null,null,null,null,null,null,null,null,null,null,null,null,null,null,null,null,null,null,null,null,null,null,null,null,null,null,null,null,null,null,null,null,null,null,null,null,null,null,null,null,null,null,null,null,null,null,null,null,null,null,null,null,null,null,null,null,null,null,null,null,null,null,null,null,null,null,null,null,null,null,null,null,null,null,null,null,null,null,null,null,null,null,null,null,null,null,null,null,null,null,null,null,null,null,null,null,null,null,null,null,null,null,null,null,null,null,null,null,null,null,null,null,null,null,null,null,null,null,null,null,null,null,null,null,null,null,null,null,null,null,null,null,null,null,null,null,null,null,null,null,null,null,null,null,null,null,null,null,null,null,null,null,null,null,null,null,null,null,null,null,null,null,null,null,null,null,null,null,null,null,null,null,null,null,null,null,null,null,null,null,null,null,null,"Page 22: Adult Fiction Stock","#,##0",{"$f":"AB7","v":0}]
["(P.03)[04]Adult Non-Fiction Stock",405,3,33,"Page 33: Adult Non-Fiction Stock",null,null,null,null,null,null,"Rotherham","um",null,16,{"$f":"IF((ROW()-5=$G$36),1,IF((M90=Coding!$H$75)+(Coding!$H$75=\"ALL\")+(Coding!$H$75=\"U\")*OR(M90=\"W\",M90=\"su\",M90=\"L\",M90=\"MD\",M90=\"UA\")+(Coding!$H$75=\"na\")*AND(M90<>\"W\",M90<>\"su\",M90<>\"L\",M90<>\"MD\",M90<>\"UA\",M90<>\"SC\",M90<>\"SD\",M90<>\"p\"),1,0))","v":1},false,{"$f":"IF(OR(NOT(ISERROR(MATCH(L90,OFFSET($H$410,$G$36-2,0,1,18),FALSE))),$G$75=L90),1,0+(($G$36=1)*($H$75=\"OC\")))","v":0},1,16,null,{"$f":"IF((S90=1)*($J$6<22),INDEX($J$13:$J$33,SUM($S$7:S90),1),\"\")","v":""},{"$f":"COUNTIF($T$7:T90,T90)","v":7},null,10,{"$f":"INDEX(V:V,SUMPRODUCT((OFFSET($T$7,0,0,AuthorityCounter2,1)=Y90)*1,(OFFSET($W$7,0,0,AuthorityCounter2,1)=COUNTIF($Y$7:Y90,Y90))*1,ROW(OFFSET($W$7,0,0,AuthorityCounter2,1))))","v":""},18.650406504065042,{"$f":"IF((Y90=AB$2)*(Z90=AC$3)*(SUM($AB$6:AB89)=0),+Y90,0)","v":0},10,null,{"$f":"IF($AE$6=3,O90,SUM((CODE(MID(CONCATENATE(UPPER(M90),\"aaaaaaaaaa\"),{1;2},1))-30)*{1;0.01}))","v":55.47},{"$f":"COUNTIF($AE$7:$AE90,AE90)","v":12},null,55.55,55.55,{"$f":"COUNTIF($AI$7:$AI90,AI90)","v":3},{"$f":"IF($AE$6=1,L90,OFFSET($L$1,SUMPRODUCT(--(OFFSET($AE$7,0,0,AuthorityCounter,1)=AI90),--(OFFSET($AF$7,0,0,AuthorityCounter,1)=COUNTIF($AI$7:AI90,AI90)),ROW(OFFSET($AF$7,0,0,AuthorityCounter,1)))-1,0))","v":"Rotherham"},null,{"$f":"IF(VLOOKUP(AK90,colAM,IF($H$75=\"OC\",8,5),FALSE)=1,MAX(AM$6:$AM89)+1,0)","v":84},"Rotherham",false,{"$f":"IF($AP$5,SUM(SUMPRODUCT(--AO$7:$AO90)*AO90,(SUMPRODUCT(--(AO$7:$AO90=FALSE))+SUMPRODUCT(--colAP))*(1-AO90)),ROW()-6)","v":84},"Rotherham","Rotherham",null,null,null,null,null,null,null,null,null,null,null,null,null,null,null,null,null,null,null,null,null,null,null,null,null,null,null,null,null,null,null,null,null,null,null,null,null,null,null,null,null,null,null,null,null,null,null,null,null,null,null,null,null,null,null,null,null,null,null,null,null,null,null,null,null,null,null,null,null,null,null,null,null,null,null,null,null,null,null,null,null,null,null,null,null,null,null,null,null,null,null,null,null,null,null,null,null,null,null,null,null,null,null,null,null,null,null,null,null,null,null,null,null,null,null,null,null,null,null,null,null,null,null,null,null,null,null,null,null,null,null,null,null,null,null,null,null,null,null,null,null,null,null,null,null,null,null,null,null,null,null,null,null,null,null,null,null,null,null,null,null,null,null,null,null,null,null,null,null,null,null,null,null,null,null,null,null,null,null,null,null,null,null,null,null,null,null,null,null,null,null,null,null,null,null,null,null,null,null,null,null,null,null,null,null,null,null,null,null,"Page 22: Adult Non-Fiction Stock","#,##0",{"$f":"AB7","v":0}]
["(P.03)[05]Children's Fiction Stock",405,4,33,"Page 33: Children's Fiction Stock",null,null,null,null,null,null,"Rutland","uu",null,5,{"$f":"IF((ROW()-5=$G$36),1,IF((M91=Coding!$H$75)+(Coding!$H$75=\"ALL\")+(Coding!$H$75=\"U\")*OR(M91=\"W\",M91=\"su\",M91=\"L\",M91=\"MD\",M91=\"UA\")+(Coding!$H$75=\"na\")*AND(M91<>\"W\",M91<>\"su\",M91<>\"L\",M91<>\"MD\",M91<>\"UA\",M91<>\"SC\",M91<>\"SD\",M91<>\"p\"),1,0))","v":1},false,{"$f":"IF(OR(NOT(ISERROR(MATCH(L91,OFFSET($H$410,$G$36-2,0,1,18),FALSE))),$G$75=L91),1,0+(($G$36=1)*($H$75=\"OC\")))","v":0},1,5,null,{"$f":"IF((S91=1)*($J$6<22),INDEX($J$13:$J$33,SUM($S$7:S91),1),\"\")","v":""},{"$f":"COUNTIF($T$7:T91,T91)","v":2},null,10,{"$f":"INDEX(V:V,SUMPRODUCT((OFFSET($T$7,0,0,AuthorityCounter2,1)=Y91)*1,(OFFSET($W$7,0,0,AuthorityCounter2,1)=COUNTIF($Y$7:Y91,Y91))*1,ROW(OFFSET($W$7,0,0,AuthorityCounter2,1))))","v":""},18.650406504065042,{"$f":"IF((Y91=AB$2)*(Z91=AC$3)*(SUM($AB$6:AB90)=0),+Y91,0)","v":0},10,null,{"$f":"IF($AE$6=3,O91,SUM((CODE(MID(CONCATENATE(UPPER(M91),\"aaaaaaaaaa\"),{1;2},1))-30)*{1;0.01}))","v":55.55},{"$f":"COUNTIF($AE$7:$AE91,AE91)","v":29},null,55.55,55.55,{"$f":"COUNTIF($AI$7:$AI91,AI91)","v":4},{"$f":"IF($AE$6=1,L91,OFFSET($L$1,SUMPRODUCT(--(OFFSET($AE$7,0,0,AuthorityCounter,1)=AI91),--(OFFSET($AF$7,0,0,AuthorityCounter,1)=COUNTIF($AI$7:AI91,AI91)),ROW(OFFSET($AF$7,0,0,AuthorityCounter,1)))-1,0))","v":"Rutland"},null,{"$f":"IF(VLOOKUP(AK91,colAM,IF($H$75=\"OC\",8,5),FALSE)=1,MAX(AM$6:$AM90)+1,0)","v":85},"Rutland",false,{"$f":"IF($AP$5,SUM(SUMPRODUCT(--AO$7:$AO91)*AO91,(SUMPRODUCT(--(AO$7:$AO91=FALSE))+SUMPRODUCT(--colAP))*(1-AO91)),ROW()-6)","v":85},"Rutland","Rutland",null,null,null,null,null,null,null,null,null,null,null,null,null,null,null,null,null,null,null,null,null,null,null,null,null,null,null,null,null,null,null,null,null,null,null,null,null,null,null,null,null,null,null,null,null,null,null,null,null,null,null,null,null,null,null,null,null,null,null,null,null,null,null,null,null,null,null,null,null,null,null,null,null,null,null,null,null,null,null,null,null,null,null,null,null,null,null,null,null,null,null,null,null,null,null,null,null,null,null,null,null,null,null,null,null,null,null,null,null,null,null,null,null,null,null,null,null,null,null,null,null,null,null,null,null,null,null,null,null,null,null,null,null,null,null,null,null,null,null,null,null,null,null,null,null,null,null,null,null,null,null,null,null,null,null,null,null,null,null,null,null,null,null,null,null,null,null,null,null,null,null,null,null,null,null,null,null,null,null,null,null,null,null,null,null,null,null,null,null,null,null,null,null,null,null,null,null,null,null,null,null,null,null,null,null,null,null,null,null,"Page 22: Children's Fiction Stock","#,##0",{"$f":"AB7","v":0}]
["(P.03)[06]Children's Non-Fiction Stock",405,5,33,"Page 33: Children's Non-Fiction Stock",null,null,null,null,null,null,"Salford","um",null,16,{"$f":"IF((ROW()-5=$G$36),1,IF((M92=Coding!$H$75)+(Coding!$H$75=\"ALL\")+(Coding!$H$75=\"U\")*OR(M92=\"W\",M92=\"su\",M92=\"L\",M92=\"MD\",M92=\"UA\")+(Coding!$H$75=\"na\")*AND(M92<>\"W\",M92<>\"su\",M92<>\"L\",M92<>\"MD\",M92<>\"UA\",M92<>\"SC\",M92<>\"SD\",M92<>\"p\"),1,0))","v":1},false,{"$f":"IF(OR(NOT(ISERROR(MATCH(L92,OFFSET($H$410,$G$36-2,0,1,18),FALSE))),$G$75=L92),1,0+(($G$36=1)*($H$75=\"OC\")))","v":0},1,16,null,{"$f":"IF((S92=1)*($J$6<22),INDEX($J$13:$J$33,SUM($S$7:S92),1),\"\")","v":""},{"$f":"COUNTIF($T$7:T92,T92)","v":8},null,10,{"$f":"INDEX(V:V,SUMPRODUCT((OFFSET($T$7,0,0,AuthorityCounter2,1)=Y92)*1,(OFFSET($W$7,0,0,AuthorityCounter2,1)=COUNTIF($Y$7:Y92,Y92))*1,ROW(OFFSET($W$7,0,0,AuthorityCounter2,1))))","v":""},18.650406504065042,{"$f":"IF((Y92=AB$2)*(Z92=AC$3)*(SUM($AB$6:AB91)=0),+Y92,0)","v":0},10,null,{"$f":"IF($AE$6=3,O92,SUM((CODE(MID(CONCATENATE(UPPER(M92),\"aaaaaaaaaa\"),{1;2},1))-30)*{1;0.01}))","v":55.47},{"$f":"COUNTIF($AE$7:$AE92,AE92)","v":13},null,55.55,55.55,{"$f":"COUNTIF($AI$7:$AI92,AI92)","v":5},{"$f":"IF($AE$6=1,L92,OFFSET($L$1,SUMPRODUCT(--(OFFSET($AE$7,0,0,AuthorityCounter,1)=AI92),--(OFFSET($AF$7,0,0,AuthorityCounter,1)=COUNTIF($AI$7:AI92,AI92)),ROW(OFFSET($AF$7,0,0,AuthorityCounter,1)))-1,0))","v":"Salford"},null,{"$f":"IF(VLOOKUP(AK92,colAM,IF($H$75=\"OC\",8,5),FALSE)=1,MAX(AM$6:$AM91)+1,0)","v":86},"Salford",false,{"$f":"IF($AP$5,SUM(SUMPRODUCT(--AO$7:$AO92)*AO92,(SUMPRODUCT(--(AO$7:$AO92=FALSE))+SUMPRODUCT(--colAP))*(1-AO92)),ROW()-6)","v":86},"Salford","Salford",null,null,null,null,null,null,null,null,null,null,null,null,null,null,null,null,null,null,null,null,null,null,null,null,null,null,null,null,null,null,null,null,null,null,null,null,null,null,null,null,null,null,null,null,null,null,null,null,null,null,null,null,null,null,null,null,null,null,null,null,null,null,null,null,null,null,null,null,null,null,null,null,null,null,null,null,null,null,null,null,null,null,null,null,null,null,null,null,null,null,null,null,null,null,null,null,null,null,null,null,null,null,null,null,null,null,null,null,null,null,null,null,null,null,null,null,null,null,null,null,null,null,null,null,null,null,null,null,null,null,null,null,null,null,null,null,null,null,null,null,null,null,null,null,null,null,null,null,null,null,null,null,null,null,null,null,null,null,null,null,null,null,null,null,null,null,null,null,null,null,null,null,null,null,null,null,null,null,null,null,null,null,null,null,null,null,null,null,null,null,null,null,null,null,null,null,null,null,null,null,null,null,null,null,null,null,null,null,null,"Page 22: Children's Non-Fiction Stock","#,##0",{"$f":"AB7","v":0}]
["(P.03)[07]Reserve Stock",405,6,33,"Page 33: Reserve Stock",null,null,"Comparator Group Table",null,null,null,"Sandwell","um",null,20,{"$f":"IF((ROW()-5=$G$36),1,IF((M93=Coding!$H$75)+(Coding!$H$75=\"ALL\")+(Coding!$H$75=\"U\")*OR(M93=\"W\",M93=\"su\",M93=\"L\",M93=\"MD\",M93=\"UA\")+(Coding!$H$75=\"na\")*AND(M93<>\"W\",M93<>\"su\",M93<>\"L\",M93<>\"MD\",M93<>\"UA\",M93<>\"SC\",M93<>\"SD\",M93<>\"p\"),1,0))","v":1},false,{"$f":"IF(OR(NOT(ISERROR(MATCH(L93,OFFSET($H$410,$G$36-2,0,1,18),FALSE))),$G$75=L93),1,0+(($G$36=1)*($H$75=\"OC\")))","v":0},1,20,null,{"$f":"IF((S93=1)*($J$6<22),INDEX($J$13:$J$33,SUM($S$7:S93),1),\"\")","v":""},{"$f":"COUNTIF($T$7:T93,T93)","v":1},null,10,{"$f":"INDEX(V:V,SUMPRODUCT((OFFSET($T$7,0,0,AuthorityCounter2,1)=Y93)*1,(OFFSET($W$7,0,0,AuthorityCounter2,1)=COUNTIF($Y$7:Y93,Y93))*1,ROW(OFFSET($W$7,0,0,AuthorityCounter2,1))))","v":""},18.650406504065042,{"$f":"IF((Y93=AB$2)*(Z93=AC$3)*(SUM($AB$6:AB92)=0),+Y93,0)","v":0},10,null,{"$f":"IF($AE$6=3,O93,SUM((CODE(MID(CONCATENATE(UPPER(M93),\"aaaaaaaaaa\"),{1;2},1))-30)*{1;0.01}))","v":55.47},{"$f":"COUNTIF($AE$7:$AE93,AE93)","v":14},null,55.55,55.55,{"$f":"COUNTIF($AI$7:$AI93,AI93)","v":6},{"$f":"IF($AE$6=1,L93,OFFSET($L$1,SUMPRODUCT(--(OFFSET($AE$7,0,0,AuthorityCounter,1)=AI93),--(OFFSET($AF$7,0,0,AuthorityCounter,1)=COUNTIF($AI$7:AI93,AI93)),ROW(OFFSET($AF$7,0,0,AuthorityCounter,1)))-1,0))","v":"Sandwell"},null,{"$f":"IF(VLOOKUP(AK93,colAM,IF($H$75=\"OC\",8,5),FALSE)=1,MAX(AM$6:$AM92)+1,0)","v":87},"Sandwell",false,{"$f":"IF($AP$5,SUM(SUMPRODUCT(--AO$7:$AO93)*AO93,(SUMPRODUCT(--(AO$7:$AO93=FALSE))+SUMPRODUCT(--colAP))*(1-AO93)),ROW()-6)","v":87},"Sandwell","Sandwell",null,null,null,null,null,null,null,null,null,null,null,null,null,null,null,null,null,null,null,null,null,null,null,null,null,null,null,null,null,null,null,null,null,null,null,null,null,null,null,null,null,null,null,null,null,null,null,null,null,null,null,null,null,null,null,null,null,null,null,null,null,null,null,null,null,null,null,null,null,null,null,null,null,null,null,null,null,null,null,null,null,null,null,null,null,null,null,null,null,null,null,null,null,null,null,null,null,null,null,null,null,null,null,null,null,null,null,null,null,null,null,null,null,null,null,null,null,null,null,null,null,null,null,null,null,null,null,null,null,null,null,null,null,null,null,null,null,null,null,null,null,null,null,null,null,null,null,null,null,null,null,null,null,null,null,null,null,null,null,null,null,null,null,null,null,null,null,null,null,null,null,null,null,null,null,null,null,null,null,null,null,null,null,null,null,null,null,null,null,null,null,null,null,null,null,null,null,null,null,null,null,null,null,null,null,null,null,null,null,"Page 22: Reserve Stock","#,##0",{"$f":"AB7","v":0}]
["(P.05)[01]Total Audio Visual Stock",405,7,35,"Page 35: Total Audio Visual Stock",null,1,{"$f":"VLOOKUP(G94,$G$79:$J$89,2,FALSE)","v":"All"},{"$f":"VLOOKUP(G94,$G$79:$J$89,3,FALSE)","v":"All Members"},null,null,"Sefton","um",null,6,{"$f":"IF((ROW()-5=$G$36),1,IF((M94=Coding!$H$75)+(Coding!$H$75=\"ALL\")+(Coding!$H$75=\"U\")*OR(M94=\"W\",M94=\"su\",M94=\"L\",M94=\"MD\",M94=\"UA\")+(Coding!$H$75=\"na\")*AND(M94<>\"W\",M94<>\"su\",M94<>\"L\",M94<>\"MD\",M94<>\"UA\",M94<>\"SC\",M94<>\"SD\",M94<>\"p\"),1,0))","v":1},false,{"$f":"IF(OR(NOT(ISERROR(MATCH(L94,OFFSET($H$410,$G$36-2,0,1,18),FALSE))),$G$75=L94),1,0+(($G$36=1)*($H$75=\"OC\")))","v":0},1,6,null,{"$f":"IF((S94=1)*($J$6<22),INDEX($J$13:$J$33,SUM($S$7:S94),1),\"\")","v":""},{"$f":"COUNTIF($T$7:T94,T94)","v":7},null,10,{"$f":"INDEX(V:V,SUMPRODUCT((OFFSET($T$7,0,0,AuthorityCounter2,1)=Y94)*1,(OFFSET($W$7,0,0,AuthorityCounter2,1)=COUNTIF($Y$7:Y94,Y94))*1,ROW(OFFSET($W$7,0,0,AuthorityCounter2,1))))","v":""},18.650406504065042,{"$f":"IF((Y94=AB$2)*(Z94=AC$3)*(SUM($AB$6:AB93)=0),+Y94,0)","v":0},10,null,{"$f":"IF($AE$6=3,O94,SUM((CODE(MID(CONCATENATE(UPPER(M94),\"aaaaaaaaaa\"),{1;2},1))-30)*{1;0.01}))","v":55.47},{"$f":"COUNTIF($AE$7:$AE94,AE94)","v":15},null,55.55,55.55,{"$f":"COUNTIF($AI$7:$AI94,AI94)","v":7},{"$f":"IF($AE$6=1,L94,OFFSET($L$1,SUMPRODUCT(--(OFFSET($AE$7,0,0,AuthorityCounter,1)=AI94),--(OFFSET($AF$7,0,0,AuthorityCounter,1)=COUNTIF($AI$7:AI94,AI94)),ROW(OFFSET($AF$7,0,0,AuthorityCounter,1)))-1,0))","v":"Sefton"},null,{"$f":"IF(VLOOKUP(AK94,colAM,IF($H$75=\"OC\",8,5),FALSE)=1,MAX(AM$6:$AM93)+1,0)","v":88},"Sefton",false,{"$f":"IF($AP$5,SUM(SUMPRODUCT(--AO$7:$AO94)*AO94,(SUMPRODUCT(--(AO$7:$AO94=FALSE))+SUMPRODUCT(--colAP))*(1-AO94)),ROW()-6)","v":88},"Sefton","Sefton",null,null,null,null,null,null,null,null,null,null,null,null,null,null,null,null,null,null,null,null,null,null,null,null,null,null,null,null,null,null,null,null,null,null,null,null,null,null,null,null,null,null,null,null,null,null,null,null,null,null,null,null,null,null,null,null,null,null,null,null,null,null,null,null,null,null,null,null,null,null,null,null,null,null,null,null,null,null,null,null,null,null,null,null,null,null,null,null,null,null,null,null,null,null,null,null,null,null,null,null,null,null,null,null,null,null,null,null,null,null,null,null,null,null,null,null,null,null,null,null,null,null,null,null,null,null,null,null,null,null,null,null,null,null,null,null,null,null,null,null,null,null,null,null,null,null,null,null,null,null,null,null,null,null,null,null,null,null,null,null,null,null,null,null,null,null,null,null,null,null,null,null,null,null,null,null,null,null,null,null,null,null,null,null,null,null,null,null,null,null,null,null,null,null,null,null,null,null,null,null,null,null,null,null,null,null,null,null,null,"Page 23: Total Audio Visual Stock","#,##0",{"$f":"AB7","v":0}]
["(P.06)[01]Music, Videos and DVDs; Multi-media and Open Learning Packs; CD-ROMs and Software Stock",405,8,36,"Page 36: Music, Videos and DVDs; Multi-media and Open Learning Packs; CD-ROMs and Software Stock",null,2,"OC","Original Comparators",null,null,"Sheffield","um",null,12,{"$f":"IF((ROW()-5=$G$36),1,IF((M95=Coding!$H$75)+(Coding!$H$75=\"ALL\")+(Coding!$H$75=\"U\")*OR(M95=\"W\",M95=\"su\",M95=\"L\",M95=\"MD\",M95=\"UA\")+(Coding!$H$75=\"na\")*AND(M95<>\"W\",M95<>\"su\",M95<>\"L\",M95<>\"MD\",M95<>\"UA\",M95<>\"SC\",M95<>\"SD\",M95<>\"p\"),1,0))","v":1},false,{"$f":"IF(OR(NOT(ISERROR(MATCH(L95,OFFSET($H$410,$G$36-2,0,1,18),FALSE))),$G$75=L95),1,0+(($G$36=1)*($H$75=\"OC\")))","v":0},1,12,null,{"$f":"IF((S95=1)*($J$6<22),INDEX($J$13:$J$33,SUM($S$7:S95),1),\"\")","v":""},{"$f":"COUNTIF($T$7:T95,T95)","v":7},null,10,{"$f":"INDEX(V:V,SUMPRODUCT((OFFSET($T$7,0,0,AuthorityCounter2,1)=Y95)*1,(OFFSET($W$7,0,0,AuthorityCounter2,1)=COUNTIF($Y$7:Y95,Y95))*1,ROW(OFFSET($W$7,0,0,AuthorityCounter2,1))))","v":""},18.650406504065042,{"$f":"IF((Y95=AB$2)*(Z95=AC$3)*(SUM($AB$6:AB94)=0),+Y95,0)","v":0},10,null,{"$f":"IF($AE$6=3,O95,SUM((CODE(MID(CONCATENATE(UPPER(M95),\"aaaaaaaaaa\"),{1;2},1))-30)*{1;0.01}))","v":55.47},{"$f":"COUNTIF($AE$7:$AE95,AE95)","v":16},null,55.55,55.55,{"$f":"COUNTIF($AI$7:$AI95,AI95)","v":8},{"$f":"IF($AE$6=1,L95,OFFSET($L$1,SUMPRODUCT(--(OFFSET($AE$7,0,0,AuthorityCounter,1)=AI95),--(OFFSET($AF$7,0,0,AuthorityCounter,1)=COUNTIF($AI$7:AI95,AI95)),ROW(OFFSET($AF$7,0,0,AuthorityCounter,1)))-1,0))","v":"Sheffield"},null,{"$f":"IF(VLOOKUP(AK95,colAM,IF($H$75=\"OC\",8,5),FALSE)=1,MAX(AM$6:$AM94)+1,0)","v":89},"Sheffield",false,{"$f":"IF($AP$5,SUM(SUMPRODUCT(--AO$7:$AO95)*AO95,(SUMPRODUCT(--(AO$7:$AO95=FALSE))+SUMPRODUCT(--colAP))*(1-AO95)),ROW()-6)","v":89},"Sheffield","Sheffield",null,null,null,null,null,null,null,null,null,null,null,null,null,null,null,null,null,null,null,null,null,null,null,null,null,null,null,null,null,null,null,null,null,null,null,null,null,null,null,null,null,null,null,null,null,null,null,null,null,null,null,null,null,null,null,null,null,null,null,null,null,null,null,null,null,null,null,null,null,null,null,null,null,null,null,null,null,null,null,null,null,null,null,null,null,null,null,null,null,null,null,null,null,null,null,null,null,null,null,null,null,null,null,null,null,null,null,null,null,null,null,null,null,null,null,null,null,null,null,null,null,null,null,null,null,null,null,null,null,null,null,null,null,null,null,null,null,null,null,null,null,null,null,null,null,null,null,null,null,null,null,null,null,null,null,null,null,null,null,null,null,null,null,null,null,null,null,null,null,null,null,null,null,null,null,null,null,null,null,null,null,null,null,null,null,null,null,null,null,null,null,null,null,null,null,null,null,null,null,null,null,null,null,null,null,null,null,null,null,"Page 24: Music, Videos and DVDs; Multi-media and Open Learning Packs; CD-ROMs and Software Stock","#,##0",{"$f":"AB7","v":0}]
["(P.06)[02]Adult Talking Book Stock",405,9,36,"Page 36: Adult Talking Book Stock",null,3,"UL","London Authorities",null,null,"Shropshire","uu",null,24,{"$f":"IF((ROW()-5=$G$36),1,IF((M96=Coding!$H$75)+(Coding!$H$75=\"ALL\")+(Coding!$H$75=\"U\")*OR(M96=\"W\",M96=\"su\",M96=\"L\",M96=\"MD\",M96=\"UA\")+(Coding!$H$75=\"na\")*AND(M96<>\"W\",M96<>\"su\",M96<>\"L\",M96<>\"MD\",M96<>\"UA\",M96<>\"SC\",M96<>\"SD\",M96<>\"p\"),1,0))","v":1},false,{"$f":"IF(OR(NOT(ISERROR(MATCH(L96,OFFSET($H$410,$G$36-2,0,1,18),FALSE))),$G$75=L96),1,0+(($G$36=1)*($H$75=\"OC\")))","v":0},1,24,null,{"$f":"IF((S96=1)*($J$6<22),INDEX($J$13:$J$33,SUM($S$7:S96),1),\"\")","v":""},{"$f":"COUNTIF($T$7:T96,T96)","v":1},null,9,{"$f":"INDEX(V:V,SUMPRODUCT((OFFSET($T$7,0,0,AuthorityCounter2,1)=Y96)*1,(OFFSET($W$7,0,0,AuthorityCounter2,1)=COUNTIF($Y$7:Y96,Y96))*1,ROW(OFFSET($W$7,0,0,AuthorityCounter2,1))))","v":""},18.650406504065042,{"$f":"IF((Y96=AB$2)*(Z96=AC$3)*(SUM($AB$6:AB95)=0),+Y96,0)","v":0},9,null,{"$f":"IF($AE$6=3,O96,SUM((CODE(MID(CONCATENATE(UPPER(M96),\"aaaaaaaaaa\"),{1;2},1))-30)*{1;0.01}))","v":55.55},{"$f":"COUNTIF($AE$7:$AE96,AE96)","v":30},null,55.55,55.55,{"$f":"COUNTIF($AI$7:$AI96,AI96)","v":9},{"$f":"IF($AE$6=1,L96,OFFSET($L$1,SUMPRODUCT(--(OFFSET($AE$7,0,0,AuthorityCounter,1)=AI96),--(OFFSET($AF$7,0,0,AuthorityCounter,1)=COUNTIF($AI$7:AI96,AI96)),ROW(OFFSET($AF$7,0,0,AuthorityCounter,1)))-1,0))","v":"Shropshire"},null,{"$f":"IF(VLOOKUP(AK96,colAM,IF($H$75=\"OC\",8,5),FALSE)=1,MAX(AM$6:$AM95)+1,0)","v":90},"Shropshire",false,{"$f":"IF($AP$5,SUM(SUMPRODUCT(--AO$7:$AO96)*AO96,(SUMPRODUCT(--(AO$7:$AO96=FALSE))+SUMPRODUCT(--colAP))*(1-AO96)),ROW()-6)","v":90},"Shropshire","Shropshire",null,null,null,null,null,null,null,null,null,null,null,null,null,null,null,null,null,null,null,null,null,null,null,null,null,null,null,null,null,null,null,null,null,null,null,null,null,null,null,null,null,null,null,null,null,null,null,null,null,null,null,null,null,null,null,null,null,null,null,null,null,null,null,null,null,null,null,null,null,null,null,null,null,null,null,null,null,null,null,null,null,null,null,null,null,null,null,null,null,null,null,null,null,null,null,null,null,null,null,null,null,null,null,null,null,null,null,null,null,null,null,null,null,null,null,null,null,null,null,null,null,null,null,null,null,null,null,null,null,null,null,null,null,null,null,null,null,null,null,null,null,null,null,null,null,null,null,null,null,null,null,null,null,null,null,null,null,null,null,null,null,null,null,null,null,null,null,null,null,null,null,null,null,null,null,null,null,null,null,null,null,null,null,null,null,null,null,null,null,null,null,null,null,null,null,null,null,null,null,null,null,null,null,null,null,null,null,null,null,"Page 24: Adult Talking Book Stock","#,##0",{"$f":"AB7","v":0}]
["(P.06)[03]Children's Talking Book Stock",405,10,36,"Page 36: Children's Talking Book Stock",null,4,"UM","Metropolitan Districts",null,null,"Slough","uu",null,4,{"$f":"IF((ROW()-5=$G$36),1,IF((M97=Coding!$H$75)+(Coding!$H$75=\"ALL\")+(Coding!$H$75=\"U\")*OR(M97=\"W\",M97=\"su\",M97=\"L\",M97=\"MD\",M97=\"UA\")+(Coding!$H$75=\"na\")*AND(M97<>\"W\",M97<>\"su\",M97<>\"L\",M97<>\"MD\",M97<>\"UA\",M97<>\"SC\",M97<>\"SD\",M97<>\"p\"),1,0))","v":1},false,{"$f":"IF(OR(NOT(ISERROR(MATCH(L97,OFFSET($H$410,$G$36-2,0,1,18),FALSE))),$G$75=L97),1,0+(($G$36=1)*($H$75=\"OC\")))","v":0},1,4,null,{"$f":"IF((S97=1)*($J$6<22),INDEX($J$13:$J$33,SUM($S$7:S97),1),\"\")","v":""},{"$f":"COUNTIF($T$7:T97,T97)","v":5},null,9,{"$f":"INDEX(V:V,SUMPRODUCT((OFFSET($T$7,0,0,AuthorityCounter2,1)=Y97)*1,(OFFSET($W$7,0,0,AuthorityCounter2,1)=COUNTIF($Y$7:Y97,Y97))*1,ROW(OFFSET($W$7,0,0,AuthorityCounter2,1))))","v":""},18.650406504065042,{"$f":"IF((Y97=AB$2)*(Z97=AC$3)*(SUM($AB$6:AB96)=0),+Y97,0)","v":0},9,null,{"$f":"IF($AE$6=3,O97,SUM((CODE(MID(CONCATENATE(UPPER(M97),\"aaaaaaaaaa\"),{1;2},1))-30)*{1;0.01}))","v":55.55},{"$f":"COUNTIF($AE$7:$AE97,AE97)","v":31},null,55.55,55.55,{"$f":"COUNTIF($AI$7:$AI97,AI97)","v":10},{"$f":"IF($AE$6=1,L97,OFFSET($L$1,SUMPRODUCT(--(OFFSET($AE$7,0,0,AuthorityCounter,1)=AI97),--(OFFSET($AF$7,0,0,AuthorityCounter,1)=COUNTIF($AI$7:AI97,AI97)),ROW(OFFSET($AF$7,0,0,AuthorityCounter,1)))-1,0))","v":"Slough"},null,{"$f":"IF(VLOOKUP(AK97,colAM,IF($H$75=\"OC\",8,5),FALSE)=1,MAX(AM$6:$AM96)+1,0)","v":91},"Slough",false,{"$f":"IF($AP$5,SUM(SUMPRODUCT(--AO$7:$AO97)*AO97,(SUMPRODUCT(--(AO$7:$AO97=FALSE))+SUMPRODUCT(--colAP))*(1-AO97)),ROW()-6)","v":91},"Slough","Slough",null,null,null,null,null,null,null,null,null,null,null,null,null,null,null,null,null,null,null,null,null,null,null,null,null,null,null,null,null,null,null,null,null,null,null,null,null,null,null,null,null,null,null,null,null,null,null,null,null,null,null,null,null,null,null,null,null,null,null,null,null,null,null,null,null,null,null,null,null,null,null,null,null,null,null,null,null,null,null,null,null,null,null,null,null,null,null,null,null,null,null,null,null,null,null,null,null,null,null,null,null,null,null,null,null,null,null,null,null,null,null,null,null,null,null,null,null,null,null,null,null,null,null,null,null,null,null,null,null,null,null,null,null,null,null,null,null,null,null,null,null,null,null,null,null,null,null,null,null,null,null,null,null,null,null,null,null,null,null,null,null,null,null,null,null,null,null,null,null,null,null,null,null,null,null,null,null,null,null,null,null,null,null,null,null,null,null,null,null,null,null,null,null,null,null,null,null,null,null,null,null,null,null,null,null,null,null,null,null,"Page 24: Children's Talking Book Stock","#,##0",{"$f":"AB7","v":0}]
["(P.06)[04]Reserve stock",405,11,36,"Page 36: Reserve stock",null,5,"UU","English Unitaries",null,null,"Solihull","um",null,14,{"$f":"IF((ROW()-5=$G$36),1,IF((M98=Coding!$H$75)+(Coding!$H$75=\"ALL\")+(Coding!$H$75=\"U\")*OR(M98=\"W\",M98=\"su\",M98=\"L\",M98=\"MD\",M98=\"UA\")+(Coding!$H$75=\"na\")*AND(M98<>\"W\",M98<>\"su\",M98<>\"L\",M98<>\"MD\",M98<>\"UA\",M98<>\"SC\",M98<>\"SD\",M98<>\"p\"),1,0))","v":1},false,{"$f":"IF(OR(NOT(ISERROR(MATCH(L98,OFFSET($H$410,$G$36-2,0,1,18),FALSE))),$G$75=L98),1,0+(($G$36=1)*($H$75=\"OC\")))","v":0},1,14,null,{"$f":"IF((S98=1)*($J$6<22),INDEX($J$13:$J$33,SUM($S$7:S98),1),\"\")","v":""},{"$f":"COUNTIF($T$7:T98,T98)","v":5},null,9,{"$f":"INDEX(V:V,SUMPRODUCT((OFFSET($T$7,0,0,AuthorityCounter2,1)=Y98)*1,(OFFSET($W$7,0,0,AuthorityCounter2,1)=COUNTIF($Y$7:Y98,Y98))*1,ROW(OFFSET($W$7,0,0,AuthorityCounter2,1))))","v":""},18.650406504065042,{"$f":"IF((Y98=AB$2)*(Z98=AC$3)*(SUM($AB$6:AB97)=0),+Y98,0)","v":0},9,null,{"$f":"IF($AE$6=3,O98,SUM((CODE(MID(CONCATENATE(UPPER(M98),\"aaaaaaaaaa\"),{1;2},1))-30)*{1;0.01}))","v":55.47},{"$f":"COUNTIF($AE$7:$AE98,AE98)","v":17},null,55.55,55.55,{"$f":"COUNTIF($AI$7:$AI98,AI98)","v":11},{"$f":"IF($AE$6=1,L98,OFFSET($L$1,SUMPRODUCT(--(OFFSET($AE$7,0,0,AuthorityCounter,1)=AI98),--(OFFSET($AF$7,0,0,AuthorityCounter,1)=COUNTIF($AI$7:AI98,AI98)),ROW(OFFSET($AF$7,0,0,AuthorityCounter,1)))-1,0))","v":"Solihull"},null,{"$f":"IF(VLOOKUP(AK98,colAM,IF($H$75=\"OC\",8,5),FALSE)=1,MAX(AM$6:$AM97)+1,0)","v":92},"Solihull",false,{"$f":"IF($AP$5,SUM(SUMPRODUCT(--AO$7:$AO98)*AO98,(SUMPRODUCT(--(AO$7:$AO98=FALSE))+SUMPRODUCT(--colAP))*(1-AO98)),ROW()-6)","v":92},"Solihull","Solihull",null,null,null,null,null,null,null,null,null,null,null,null,null,null,null,null,null,null,null,null,null,null,null,null,null,null,null,null,null,null,null,null,null,null,null,null,null,null,null,null,null,null,null,null,null,null,null,null,null,null,null,null,null,null,null,null,null,null,null,null,null,null,null,null,null,null,null,null,null,null,null,null,null,null,null,null,null,null,null,null,null,null,null,null,null,null,null,null,null,null,null,null,null,null,null,null,null,null,null,null,null,null,null,null,null,null,null,null,null,null,null,null,null,null,null,null,null,null,null,null,null,null,null,null,null,null,null,null,null,null,null,null,null,null,null,null,null,null,null,null,null,null,null,null,null,null,null,null,null,null,null,null,null,null,null,null,null,null,null,null,null,null,null,null,null,null,null,null,null,null,null,null,null,null,null,null,null,null,null,null,null,null,null,null,null,null,null,null,null,null,null,null,null,null,null,null,null,null,null,null,null,null,null,null,null,null,null,null,null,"Page 24: Reserve stock","#,##0",{"$f":"AB7","v":0}]
["(P.06)[05]Reference Stock",405,12,36,"Page 36: Reference Stock",null,6,"C","Counties",null,null,"Somerset","c",null,33,{"$f":"IF((ROW()-5=$G$36),1,IF((M99=Coding!$H$75)+(Coding!$H$75=\"ALL\")+(Coding!$H$75=\"U\")*OR(M99=\"W\",M99=\"su\",M99=\"L\",M99=\"MD\",M99=\"UA\")+(Coding!$H$75=\"na\")*AND(M99<>\"W\",M99<>\"su\",M99<>\"L\",M99<>\"MD\",M99<>\"UA\",M99<>\"SC\",M99<>\"SD\",M99<>\"p\"),1,0))","v":1},false,{"$f":"IF(OR(NOT(ISERROR(MATCH(L99,OFFSET($H$410,$G$36-2,0,1,18),FALSE))),$G$75=L99),1,0+(($G$36=1)*($H$75=\"OC\")))","v":0},1,33,null,{"$f":"IF((S99=1)*($J$6<22),INDEX($J$13:$J$33,SUM($S$7:S99),1),\"\")","v":""},{"$f":"COUNTIF($T$7:T99,T99)","v":1},null,9,{"$f":"INDEX(V:V,SUMPRODUCT((OFFSET($T$7,0,0,AuthorityCounter2,1)=Y99)*1,(OFFSET($W$7,0,0,AuthorityCounter2,1)=COUNTIF($Y$7:Y99,Y99))*1,ROW(OFFSET($W$7,0,0,AuthorityCounter2,1))))","v":""},18.650406504065042,{"$f":"IF((Y99=AB$2)*(Z99=AC$3)*(SUM($AB$6:AB98)=0),+Y99,0)","v":0},9,null,{"$f":"IF($AE$6=3,O99,SUM((CODE(MID(CONCATENATE(UPPER(M99),\"aaaaaaaaaa\"),{1;2},1))-30)*{1;0.01}))","v":37.67},{"$f":"COUNTIF($AE$7:$AE99,AE99)","v":21},null,55.55,55.55,{"$f":"COUNTIF($AI$7:$AI99,AI99)","v":12},{"$f":"IF($AE$6=1,L99,OFFSET($L$1,SUMPRODUCT(--(OFFSET($AE$7,0,0,AuthorityCounter,1)=AI99),--(OFFSET($AF$7,0,0,AuthorityCounter,1)=COUNTIF($AI$7:AI99,AI99)),ROW(OFFSET($AF$7,0,0,AuthorityCounter,1)))-1,0))","v":"Somerset"},null,{"$f":"IF(VLOOKUP(AK99,colAM,IF($H$75=\"OC\",8,5),FALSE)=1,MAX(AM$6:$AM98)+1,0)","v":93},"Somerset",false,{"$f":"IF($AP$5,SUM(SUMPRODUCT(--AO$7:$AO99)*AO99,(SUMPRODUCT(--(AO$7:$AO99=FALSE))+SUMPRODUCT(--colAP))*(1-AO99)),ROW()-6)","v":93},"Somerset","Somerset",null,null,null,null,null,null,null,null,null,null,null,null,null,null,null,null,null,null,null,null,null,null,null,null,null,null,null,null,null,null,null,null,null,null,null,null,null,null,null,null,null,null,null,null,null,null,null,null,null,null,null,null,null,null,null,null,null,null,null,null,null,null,null,null,null,null,null,null,null,null,null,null,null,null,null,null,null,null,null,null,null,null,null,null,null,null,null,null,null,null,null,null,null,null,null,null,null,null,null,null,null,null,null,null,null,null,null,null,null,null,null,null,null,null,null,null,null,null,null,null,null,null,null,null,null,null,null,null,null,null,null,null,null,null,null,null,null,null,null,null,null,null,null,null,null,null,null,null,null,null,null,null,null,null,null,null,null,null,null,null,null,null,null,null,null,null,null,null,null,null,null,null,null,null,null,null,null,null,null,null,null,null,null,null,null,null,null,null,null,null,null,null,null,null,null,null,null,null,null,null,null,null,null,null,null,null,null,null,null,"Page 24: Reference Stock","#,##0.0",{"$f":"AB7","v":0}]
["(P.07)[01]Total Book Acquisitions",405,13,37,"Page 37: Total Book Acquisitions",null,null,null,null,null,null,"South Gloucestershire","uu",null,13,{"$f":"IF((ROW()-5=$G$36),1,IF((M100=Coding!$H$75)+(Coding!$H$75=\"ALL\")+(Coding!$H$75=\"U\")*OR(M100=\"W\",M100=\"su\",M100=\"L\",M100=\"MD\",M100=\"UA\")+(Coding!$H$75=\"na\")*AND(M100<>\"W\",M100<>\"su\",M100<>\"L\",M100<>\"MD\",M100<>\"UA\",M100<>\"SC\",M100<>\"SD\",M100<>\"p\"),1,0))","v":1},false,{"$f":"IF(OR(NOT(ISERROR(MATCH(L100,OFFSET($H$410,$G$36-2,0,1,18),FALSE))),$G$75=L100),1,0+(($G$36=1)*($H$75=\"OC\")))","v":0},1,13,null,{"$f":"IF((S100=1)*($J$6<22),INDEX($J$13:$J$33,SUM($S$7:S100),1),\"\")","v":""},{"$f":"COUNTIF($T$7:T100,T100)","v":6},null,9,{"$f":"INDEX(V:V,SUMPRODUCT((OFFSET($T$7,0,0,AuthorityCounter2,1)=Y100)*1,(OFFSET($W$7,0,0,AuthorityCounter2,1)=COUNTIF($Y$7:Y100,Y100))*1,ROW(OFFSET($W$7,0,0,AuthorityCounter2,1))))","v":""},18.650406504065042,{"$f":"IF((Y100=AB$2)*(Z100=AC$3)*(SUM($AB$6:AB99)=0),+Y100,0)","v":0},9,null,{"$f":"IF($AE$6=3,O100,SUM((CODE(MID(CONCATENATE(UPPER(M100),\"aaaaaaaaaa\"),{1;2},1))-30)*{1;0.01}))","v":55.55},{"$f":"COUNTIF($AE$7:$AE100,AE100)","v":32},null,55.55,55.55,{"$f":"COUNTIF($AI$7:$AI100,AI100)","v":13},{"$f":"IF($AE$6=1,L100,OFFSET($L$1,SUMPRODUCT(--(OFFSET($AE$7,0,0,AuthorityCounter,1)=AI100),--(OFFSET($AF$7,0,0,AuthorityCounter,1)=COUNTIF($AI$7:AI100,AI100)),ROW(OFFSET($AF$7,0,0,AuthorityCounter,1)))-1,0))","v":"South Gloucestershire"},null,{"$f":"IF(VLOOKUP(AK100,colAM,IF($H$75=\"OC\",8,5),FALSE)=1,MAX(AM$6:$AM99)+1,0)","v":94},"South Gloucestershire",false,{"$f":"IF($AP$5,SUM(SUMPRODUCT(--AO$7:$AO100)*AO100,(SUMPRODUCT(--(AO$7:$AO100=FALSE))+SUMPRODUCT(--colAP))*(1-AO100)),ROW()-6)","v":94},"South Gloucestershire","South Gloucestershire",null,null,null,null,null,null,null,null,null,null,null,null,null,null,null,null,null,null,null,null,null,null,null,null,null,null,null,null,null,null,null,null,null,null,null,null,null,null,null,null,null,null,null,null,null,null,null,null,null,null,null,null,null,null,null,null,null,null,null,null,null,null,null,null,null,null,null,null,null,null,null,null,null,null,null,null,null,null,null,null,null,null,null,null,null,null,null,null,null,null,null,null,null,null,null,null,null,null,null,null,null,null,null,null,null,null,null,null,null,null,null,null,null,null,null,null,null,null,null,null,null,null,null,null,null,null,null,null,null,null,null,null,null,null,null,null,null,null,null,null,null,null,null,null,null,null,null,null,null,null,null,null,null,null,null,null,null,null,null,null,null,null,null,null,null,null,null,null,null,null,null,null,null,null,null,null,null,null,null,null,null,null,null,null,null,null,null,null,null,null,null,null,null,null,null,null,null,null,null,null,null,null,null,null,null,null,null,null,null,"Page 25: Total Book Acquisitions","#,##0",{"$f":"AB7","v":0}]
["(P.07)[02]Adult Fiction Acquisitions",405,14,37,"Page 37: Adult Fiction Acquisitions",null,null,null,null,null,null,"South Tyneside","um",null,4,{"$f":"IF((ROW()-5=$G$36),1,IF((M101=Coding!$H$75)+(Coding!$H$75=\"ALL\")+(Coding!$H$75=\"U\")*OR(M101=\"W\",M101=\"su\",M101=\"L\",M101=\"MD\",M101=\"UA\")+(Coding!$H$75=\"na\")*AND(M101<>\"W\",M101<>\"su\",M101<>\"L\",M101<>\"MD\",M101<>\"UA\",M101<>\"SC\",M101<>\"SD\",M101<>\"p\"),1,0))","v":1},false,{"$f":"IF(OR(NOT(ISERROR(MATCH(L101,OFFSET($H$410,$G$36-2,0,1,18),FALSE))),$G$75=L101),1,0+(($G$36=1)*($H$75=\"OC\")))","v":0},1,4,null,{"$f":"IF((S101=1)*($J$6<22),INDEX($J$13:$J$33,SUM($S$7:S101),1),\"\")","v":""},{"$f":"COUNTIF($T$7:T101,T101)","v":6},null,8,{"$f":"INDEX(V:V,SUMPRODUCT((OFFSET($T$7,0,0,AuthorityCounter2,1)=Y101)*1,(OFFSET($W$7,0,0,AuthorityCounter2,1)=COUNTIF($Y$7:Y101,Y101))*1,ROW(OFFSET($W$7,0,0,AuthorityCounter2,1))))","v":""},18.650406504065042,{"$f":"IF((Y101=AB$2)*(Z101=AC$3)*(SUM($AB$6:AB100)=0),+Y101,0)","v":0},8,null,{"$f":"IF($AE$6=3,O101,SUM((CODE(MID(CONCATENATE(UPPER(M101),\"aaaaaaaaaa\"),{1;2},1))-30)*{1;0.01}))","v":55.47},{"$f":"COUNTIF($AE$7:$AE101,AE101)","v":18},null,55.55,55.55,{"$f":"COUNTIF($AI$7:$AI101,AI101)","v":14},{"$f":"IF($AE$6=1,L101,OFFSET($L$1,SUMPRODUCT(--(OFFSET($AE$7,0,0,AuthorityCounter,1)=AI101),--(OFFSET($AF$7,0,0,AuthorityCounter,1)=COUNTIF($AI$7:AI101,AI101)),ROW(OFFSET($AF$7,0,0,AuthorityCounter,1)))-1,0))","v":"South Tyneside"},null,{"$f":"IF(VLOOKUP(AK101,colAM,IF($H$75=\"OC\",8,5),FALSE)=1,MAX(AM$6:$AM100)+1,0)","v":95},"South Tyneside",false,{"$f":"IF($AP$5,SUM(SUMPRODUCT(--AO$7:$AO101)*AO101,(SUMPRODUCT(--(AO$7:$AO101=FALSE))+SUMPRODUCT(--colAP))*(1-AO101)),ROW()-6)","v":95},"South Tyneside","South Tyneside",null,null,null,null,null,null,null,null,null,null,null,null,null,null,null,null,null,null,null,null,null,null,null,null,null,null,null,null,null,null,null,null,null,null,null,null,null,null,null,null,null,null,null,null,null,null,null,null,null,null,null,null,null,null,null,null,null,null,null,null,null,null,null,null,null,null,null,null,null,null,null,null,null,null,null,null,null,null,null,null,null,null,null,null,null,null,null,null,null,null,null,null,null,null,null,null,null,null,null,null,null,null,null,null,null,null,null,null,null,null,null,null,null,null,null,null,null,null,null,null,null,null,null,null,null,null,null,null,null,null,null,null,null,null,null,null,null,null,null,null,null,null,null,null,null,null,null,null,null,null,null,null,null,null,null,null,null,null,null,null,null,null,null,null,null,null,null,null,null,null,null,null,null,null,null,null,null,null,null,null,null,null,null,null,null,null,null,null,null,null,null,null,null,null,null,null,null,null,null,null,null,null,null,null,null,null,null,null,null,"Page 25: Adult Fiction Acquisitions","#,##0",{"$f":"AB7","v":0}]
["(P.07)[03]Adult Non-Fiction Acquisitions",405,15,37,"Page 37: Adult Non-Fiction Acquisitions",null,null,null,null,null,null,"Southampton","uu",null,11,{"$f":"IF((ROW()-5=$G$36),1,IF((M102=Coding!$H$75)+(Coding!$H$75=\"ALL\")+(Coding!$H$75=\"U\")*OR(M102=\"W\",M102=\"su\",M102=\"L\",M102=\"MD\",M102=\"UA\")+(Coding!$H$75=\"na\")*AND(M102<>\"W\",M102<>\"su\",M102<>\"L\",M102<>\"MD\",M102<>\"UA\",M102<>\"SC\",M102<>\"SD\",M102<>\"p\"),1,0))","v":1},false,{"$f":"IF(OR(NOT(ISERROR(MATCH(L102,OFFSET($H$410,$G$36-2,0,1,18),FALSE))),$G$75=L102),1,0+(($G$36=1)*($H$75=\"OC\")))","v":0},1,11,null,{"$f":"IF((S102=1)*($J$6<22),INDEX($J$13:$J$33,SUM($S$7:S102),1),\"\")","v":""},{"$f":"COUNTIF($T$7:T102,T102)","v":4},null,8,{"$f":"INDEX(V:V,SUMPRODUCT((OFFSET($T$7,0,0,AuthorityCounter2,1)=Y102)*1,(OFFSET($W$7,0,0,AuthorityCounter2,1)=COUNTIF($Y$7:Y102,Y102))*1,ROW(OFFSET($W$7,0,0,AuthorityCounter2,1))))","v":""},18.650406504065042,{"$f":"IF((Y102=AB$2)*(Z102=AC$3)*(SUM($AB$6:AB101)=0),+Y102,0)","v":0},8,null,{"$f":"IF($AE$6=3,O102,SUM((CODE(MID(CONCATENATE(UPPER(M102),\"aaaaaaaaaa\"),{1;2},1))-30)*{1;0.01}))","v":55.55},{"$f":"COUNTIF($AE$7:$AE102,AE102)","v":33},null,55.55,55.55,{"$f":"COUNTIF($AI$7:$AI102,AI102)","v":15},{"$f":"IF($AE$6=1,L102,OFFSET($L$1,SUMPRODUCT(--(OFFSET($AE$7,0,0,AuthorityCounter,1)=AI102),--(OFFSET($AF$7,0,0,AuthorityCounter,1)=COUNTIF($AI$7:AI102,AI102)),ROW(OFFSET($AF$7,0,0,AuthorityCounter,1)))-1,0))","v":"Southampton"},null,{"$f":"IF(VLOOKUP(AK102,colAM,IF($H$75=\"OC\",8,5),FALSE)=1,MAX(AM$6:$AM101)+1,0)","v":96},"Southampton",false,{"$f":"IF($AP$5,SUM(SUMPRODUCT(--AO$7:$AO102)*AO102,(SUMPRODUCT(--(AO$7:$AO102=FALSE))+SUMPRODUCT(--colAP))*(1-AO102)),ROW()-6)","v":96},"Southampton","Southampton",null,null,null,null,null,null,null,null,null,null,null,null,null,null,null,null,null,null,null,null,null,null,null,null,null,null,null,null,null,null,null,null,null,null,null,null,null,null,null,null,null,null,null,null,null,null,null,null,null,null,null,null,null,null,null,null,null,null,null,null,null,null,null,null,null,null,null,null,null,null,null,null,null,null,null,null,null,null,null,null,null,null,null,null,null,null,null,null,null,null,null,null,null,null,null,null,null,null,null,null,null,null,null,null,null,null,null,null,null,null,null,null,null,null,null,null,null,null,null,null,null,null,null,null,null,null,null,null,null,null,null,null,null,null,null,null,null,null,null,null,null,null,null,null,null,null,null,null,null,null,null,null,null,null,null,null,null,null,null,null,null,null,null,null,null,null,null,null,null,null,null,null,null,null,null,null,null,null,null,null,null,null,null,null,null,null,null,null,null,null,null,null,null,null,null,null,null,null,null,null,null,null,null,null,null,null,null,null,null,"Page 25: Adult Non-Fiction Acquisitions","#,##0",{"$f":"AB7","v":0}]
["(P.07)[04]Children's Fiction Acquisitions",405,16,37,"Page 37: Children's Fiction Acquisitions",null,null,null,null,null,null,"Southend-on-Sea","uu",null,{"$f":"IF(ISNUMBER(--OFFSET($D$409,(ROW()-6)+$G$39+AuthorityCounter+5,$G$40)),OFFSET($D$409,(ROW()-6)+$G$39+AuthorityCounter+5,$G$40),\"na\")","v":7},{"$f":"IF((ROW()-5=$G$36),1,IF((M103=Coding!$H$75)+(Coding!$H$75=\"ALL\")+(Coding!$H$75=\"U\")*OR(M103=\"W\",M103=\"su\",M103=\"L\",M103=\"MD\",M103=\"UA\")+(Coding!$H$75=\"na\")*AND(M103<>\"W\",M103<>\"su\",M103<>\"L\",M103<>\"MD\",M103<>\"UA\",M103<>\"SC\",M103<>\"SD\",M103<>\"p\"),1,0))","v":1},false,{"$f":"IF(OR(NOT(ISERROR(MATCH(L103,OFFSET($H$410,$G$36-2,0,1,18),FALSE))),$G$75=L103),1,0+(($G$36=1)*($H$75=\"OC\")))","v":0},1,7,null,{"$f":"IF((S103=1)*($J$6<22),INDEX($J$13:$J$33,SUM($S$7:S103),1),\"\")","v":""},{"$f":"COUNTIF($T$7:T103,T103)","v":4},null,8,{"$f":"INDEX(V:V,SUMPRODUCT((OFFSET($T$7,0,0,AuthorityCounter2,1)=Y103)*1,(OFFSET($W$7,0,0,AuthorityCounter2,1)=COUNTIF($Y$7:Y103,Y103))*1,ROW(OFFSET($W$7,0,0,AuthorityCounter2,1))))","v":""},18.650406504065042,{"$f":"IF((Y103=AB$2)*(Z103=AC$3)*(SUM($AB$6:AB102)=0),+Y103,0)","v":0},8,null,{"$f":"IF($AE$6=3,O103,SUM((CODE(MID(CONCATENATE(UPPER(M103),\"aaaaaaaaaa\"),{1;2},1))-30)*{1;0.01}))","v":55.55},{"$f":"COUNTIF($AE$7:$AE103,AE103)","v":34},null,55.55,55.55,{"$f":"COUNTIF($AI$7:$AI103,AI103)","v":16},{"$f":"IF($AE$6=1,L103,OFFSET($L$1,SUMPRODUCT(--(OFFSET($AE$7,0,0,AuthorityCounter,1)=AI103),--(OFFSET($AF$7,0,0,AuthorityCounter,1)=COUNTIF($AI$7:AI103,AI103)),ROW(OFFSET($AF$7,0,0,AuthorityCounter,1)))-1,0))","v":"Southend-on-Sea"},null,{"$f":"IF(VLOOKUP(AK103,colAM,IF($H$75=\"OC\",8,5),FALSE)=1,MAX(AM$6:$AM102)+1,0)","v":97},"Southend-on-Sea",false,{"$f":"IF($AP$5,SUM(SUMPRODUCT(--AO$7:$AO103)*AO103,(SUMPRODUCT(--(AO$7:$AO103=FALSE))+SUMPRODUCT(--colAP))*(1-AO103)),ROW()-6)","v":97},"Southend-on-Sea","Southend-on-Sea",null,null,null,null,null,null,null,null,null,null,null,null,null,null,null,null,null,null,null,null,null,null,null,null,null,null,null,null,null,null,null,null,null,null,null,null,null,null,null,null,null,null,null,null,null,null,null,null,null,null,null,null,null,null,null,null,null,null,null,null,null,null,null,null,null,null,null,null,null,null,null,null,null,null,null,null,null,null,null,null,null,null,null,null,null,null,null,null,null,null,null,null,null,null,null,null,null,null,null,null,null,null,null,null,null,null,null,null,null,null,null,null,null,null,null,null,null,null,null,null,null,null,null,null,null,null,null,null,null,null,null,null,null,null,null,null,null,null,null,null,null,null,null,null,null,null,null,null,null,null,null,null,null,null,null,null,null,null,null,null,null,null,null,null,null,null,null,null,null,null,null,null,null,null,null,null,null,null,null,null,null,null,null,null,null,null,null,null,null,null,null,null,null,null,null,null,null,null,null,null,null,null,null,null,null,null,null,null,null,"Page 25: Children's Fiction Acquisitions","#,##0",{"$f":"AB7","v":0}]
["(P.07)[05]Children's Non-Fiction Acquisitions",405,17,37,"Page 37: Children's Non-Fiction Acquisitions",null,null,null,null,null,null,"Southwark","ul",null,11,{"$f":"IF((ROW()-5=$G$36),1,IF((M104=Coding!$H$75)+(Coding!$H$75=\"ALL\")+(Coding!$H$75=\"U\")*OR(M104=\"W\",M104=\"su\",M104=\"L\",M104=\"MD\",M104=\"UA\")+(Coding!$H$75=\"na\")*AND(M104<>\"W\",M104<>\"su\",M104<>\"L\",M104<>\"MD\",M104<>\"UA\",M104<>\"SC\",M104<>\"SD\",M104<>\"p\"),1,0))","v":1},false,{"$f":"IF(OR(NOT(ISERROR(MATCH(L104,OFFSET($H$410,$G$36-2,0,1,18),FALSE))),$G$75=L104),1,0+(($G$36=1)*($H$75=\"OC\")))","v":0},1,11,null,{"$f":"IF((S104=1)*($J$6<22),INDEX($J$13:$J$33,SUM($S$7:S104),1),\"\")","v":""},{"$f":"COUNTIF($T$7:T104,T104)","v":5},null,8,{"$f":"INDEX(V:V,SUMPRODUCT((OFFSET($T$7,0,0,AuthorityCounter2,1)=Y104)*1,(OFFSET($W$7,0,0,AuthorityCounter2,1)=COUNTIF($Y$7:Y104,Y104))*1,ROW(OFFSET($W$7,0,0,AuthorityCounter2,1))))","v":""},18.650406504065042,{"$f":"IF((Y104=AB$2)*(Z104=AC$3)*(SUM($AB$6:AB103)=0),+Y104,0)","v":0},8,null,{"$f":"IF($AE$6=3,O104,SUM((CODE(MID(CONCATENATE(UPPER(M104),\"aaaaaaaaaa\"),{1;2},1))-30)*{1;0.01}))","v":55.46},{"$f":"COUNTIF($AE$7:$AE104,AE104)","v":25},null,55.55,55.55,{"$f":"COUNTIF($AI$7:$AI104,AI104)","v":17},{"$f":"IF($AE$6=1,L104,OFFSET($L$1,SUMPRODUCT(--(OFFSET($AE$7,0,0,AuthorityCounter,1)=AI104),--(OFFSET($AF$7,0,0,AuthorityCounter,1)=COUNTIF($AI$7:AI104,AI104)),ROW(OFFSET($AF$7,0,0,AuthorityCounter,1)))-1,0))","v":"Southwark"},null,{"$f":"IF(VLOOKUP(AK104,colAM,IF($H$75=\"OC\",8,5),FALSE)=1,MAX(AM$6:$AM103)+1,0)","v":98},"Southwark",false,{"$f":"IF($AP$5,SUM(SUMPRODUCT(--AO$7:$AO104)*AO104,(SUMPRODUCT(--(AO$7:$AO104=FALSE))+SUMPRODUCT(--colAP))*(1-AO104)),ROW()-6)","v":98},"Southwark","Southwark",null,null,null,null,null,null,null,null,null,null,null,null,null,null,null,null,null,null,null,null,null,null,null,null,null,null,null,null,null,null,null,null,null,null,null,null,null,null,null,null,null,null,null,null,null,null,null,null,null,null,null,null,null,null,null,null,null,null,null,null,null,null,null,null,null,null,null,null,null,null,null,null,null,null,null,null,null,null,null,null,null,null,null,null,null,null,null,null,null,null,null,null,null,null,null,null,null,null,null,null,null,null,null,null,null,null,null,null,null,null,null,null,null,null,null,null,null,null,null,null,null,null,null,null,null,null,null,null,null,null,null,null,null,null,null,null,null,null,null,null,null,null,null,null,null,null,null,null,null,null,null,null,null,null,null,null,null,null,null,null,null,null,null,null,null,null,null,null,null,null,null,null,null,null,null,null,null,null,null,null,null,null,null,null,null,null,null,null,null,null,null,null,null,null,null,null,null,null,null,null,null,null,null,null,null,null,null,null,null,"Page 25: Children's Non-Fiction Acquisitions","#,##0",{"$f":"AB7","v":0}]
["(P.07)[06]Reference Book Acquisitions",405,18,37,"Page 37: Reference Book Acquisitions",null,null,null,null,null,null,"St Helens","um",null,12,{"$f":"IF((ROW()-5=$G$36),1,IF((M105=Coding!$H$75)+(Coding!$H$75=\"ALL\")+(Coding!$H$75=\"U\")*OR(M105=\"W\",M105=\"su\",M105=\"L\",M105=\"MD\",M105=\"UA\")+(Coding!$H$75=\"na\")*AND(M105<>\"W\",M105<>\"su\",M105<>\"L\",M105<>\"MD\",M105<>\"UA\",M105<>\"SC\",M105<>\"SD\",M105<>\"p\"),1,0))","v":1},false,{"$f":"IF(OR(NOT(ISERROR(MATCH(L105,OFFSET($H$410,$G$36-2,0,1,18),FALSE))),$G$75=L105),1,0+(($G$36=1)*($H$75=\"OC\")))","v":0},1,12,null,{"$f":"IF((S105=1)*($J$6<22),INDEX($J$13:$J$33,SUM($S$7:S105),1),\"\")","v":""},{"$f":"COUNTIF($T$7:T105,T105)","v":8},null,8,{"$f":"INDEX(V:V,SUMPRODUCT((OFFSET($T$7,0,0,AuthorityCounter2,1)=Y105)*1,(OFFSET($W$7,0,0,AuthorityCounter2,1)=COUNTIF($Y$7:Y105,Y105))*1,ROW(OFFSET($W$7,0,0,AuthorityCounter2,1))))","v":""},18.650406504065042,{"$f":"IF((Y105=AB$2)*(Z105=AC$3)*(SUM($AB$6:AB104)=0),+Y105,0)","v":0},8,null,{"$f":"IF($AE$6=3,O105,SUM((CODE(MID(CONCATENATE(UPPER(M105),\"aaaaaaaaaa\"),{1;2},1))-30)*{1;0.01}))","v":55.47},{"$f":"COUNTIF($AE$7:$AE105,AE105)","v":19},null,55.55,55.55,{"$f":"COUNTIF($AI$7:$AI105,AI105)","v":18},{"$f":"IF($AE$6=1,L105,OFFSET($L$1,SUMPRODUCT(--(OFFSET($AE$7,0,0,AuthorityCounter,1)=AI105),--(OFFSET($AF$7,0,0,AuthorityCounter,1)=COUNTIF($AI$7:AI105,AI105)),ROW(OFFSET($AF$7,0,0,AuthorityCounter,1)))-1,0))","v":"St Helens"},null,{"$f":"IF(VLOOKUP(AK105,colAM,IF($H$75=\"OC\",8,5),FALSE)=1,MAX(AM$6:$AM104)+1,0)","v":99},"St Helens",false,{"$f":"IF($AP$5,SUM(SUMPRODUCT(--AO$7:$AO105)*AO105,(SUMPRODUCT(--(AO$7:$AO105=FALSE))+SUMPRODUCT(--colAP))*(1-AO105)),ROW()-6)","v":99},"St Helens","St Helens",null,null,null,null,null,null,null,null,null,null,null,null,null,null,null,null,null,null,null,null,null,null,null,null,null,null,null,null,null,null,null,null,null,null,null,null,null,null,null,null,null,null,null,null,null,null,null,null,null,null,null,null,null,null,null,null,null,null,null,null,null,null,null,null,null,null,null,null,null,null,null,null,null,null,null,null,null,null,null,null,null,null,null,null,null,null,null,null,null,null,null,null,null,null,null,null,null,null,null,null,null,null,null,null,null,null,null,null,null,null,null,null,null,null,null,null,null,null,null,null,null,null,null,null,null,null,null,null,null,null,null,null,null,null,null,null,null,null,null,null,null,null,null,null,null,null,null,null,null,null,null,null,null,null,null,null,null,null,null,null,null,null,null,null,null,null,null,null,null,null,null,null,null,null,null,null,null,null,null,null,null,null,null,null,null,null,null,null,null,null,null,null,null,null,null,null,null,null,null,null,null,null,null,null,null,null,null,null,null,"Page 25: Reference Book Acquisitions","#,##0.0",{"$f":"AB7","v":0}]
["(P.08)[01]Total Audio Visual Acquisitions",405,19,38,"Page 38: Total Audio Visual Acquisitions",null,null,null,null,null,null,"Staffordshire","c",null,46,{"$f":"IF((ROW()-5=$G$36),1,IF((M106=Coding!$H$75)+(Coding!$H$75=\"ALL\")+(Coding!$H$75=\"U\")*OR(M106=\"W\",M106=\"su\",M106=\"L\",M106=\"MD\",M106=\"UA\")+(Coding!$H$75=\"na\")*AND(M106<>\"W\",M106<>\"su\",M106<>\"L\",M106<>\"MD\",M106<>\"UA\",M106<>\"SC\",M106<>\"SD\",M106<>\"p\"),1,0))","v":1},false,{"$f":"IF(OR(NOT(ISERROR(MATCH(L106,OFFSET($H$410,$G$36-2,0,1,18),FALSE))),$G$75=L106),1,0+(($G$36=1)*($H$75=\"OC\")))","v":0},1,46,null,{"$f":"IF((S106=1)*($J$6<22),INDEX($J$13:$J$33,SUM($S$7:S106),1),\"\")","v":""},{"$f":"COUNTIF($T$7:T106,T106)","v":1},null,8,{"$f":"INDEX(V:V,SUMPRODUCT((OFFSET($T$7,0,0,AuthorityCounter2,1)=Y106)*1,(OFFSET($W$7,0,0,AuthorityCounter2,1)=COUNTIF($Y$7:Y106,Y106))*1,ROW(OFFSET($W$7,0,0,AuthorityCounter2,1))))","v":""},18.650406504065042,{"$f":"IF((Y106=AB$2)*(Z106=AC$3)*(SUM($AB$6:AB105)=0),+Y106,0)","v":0},8,null,{"$f":"IF($AE$6=3,O106,SUM((CODE(MID(CONCATENATE(UPPER(M106),\"aaaaaaaaaa\"),{1;2},1))-30)*{1;0.01}))","v":37.67},{"$f":"COUNTIF($AE$7:$AE106,AE106)","v":22},null,55.55,55.55,{"$f":"COUNTIF($AI$7:$AI106,AI106)","v":19},{"$f":"IF($AE$6=1,L106,OFFSET($L$1,SUMPRODUCT(--(OFFSET($AE$7,0,0,AuthorityCounter,1)=AI106),--(OFFSET($AF$7,0,0,AuthorityCounter,1)=COUNTIF($AI$7:AI106,AI106)),ROW(OFFSET($AF$7,0,0,AuthorityCounter,1)))-1,0))","v":"Staffordshire"},null,{"$f":"IF(VLOOKUP(AK106,colAM,IF($H$75=\"OC\",8,5),FALSE)=1,MAX(AM$6:$AM105)+1,0)","v":100},"Staffordshire",false,{"$f":"IF($AP$5,SUM(SUMPRODUCT(--AO$7:$AO106)*AO106,(SUMPRODUCT(--(AO$7:$AO106=FALSE))+SUMPRODUCT(--colAP))*(1-AO106)),ROW()-6)","v":100},"Staffordshire","Staffordshire",null,null,null,null,null,null,null,null,null,null,null,null,null,null,null,null,null,null,null,null,null,null,null,null,null,null,null,null,null,null,null,null,null,null,null,null,null,null,null,null,null,null,null,null,null,null,null,null,null,null,null,null,null,null,null,null,null,null,null,null,null,null,null,null,null,null,null,null,null,null,null,null,null,null,null,null,null,null,null,null,null,null,null,null,null,null,null,null,null,null,null,null,null,null,null,null,null,null,null,null,null,null,null,null,null,null,null,null,null,null,null,null,null,null,null,null,null,null,null,null,null,null,null,null,null,null,null,null,null,null,null,null,null,null,null,null,null,null,null,null,null,null,null,null,null,null,null,null,null,null,null,null,null,null,null,null,null,null,null,null,null,null,null,null,null,null,null,null,null,null,null,null,null,null,null,null,null,null,null,null,null,null,null,null,null,null,null,null,null,null,null,null,null,null,null,null,null,null,null,null,null,null,null,null,null,null,null,null,null,"Page 26: Total Audio Visual Acquisitions","#,##0",{"$f":"AB7","v":0}]
["(P.08)[02]Adult Talking Book Acquisitions",405,20,38,"Page 38: Adult Talking Book Acquisitions",null,null,null,null,null,null,"Stockport","um",null,16,{"$f":"IF((ROW()-5=$G$36),1,IF((M107=Coding!$H$75)+(Coding!$H$75=\"ALL\")+(Coding!$H$75=\"U\")*OR(M107=\"W\",M107=\"su\",M107=\"L\",M107=\"MD\",M107=\"UA\")+(Coding!$H$75=\"na\")*AND(M107<>\"W\",M107<>\"su\",M107<>\"L\",M107<>\"MD\",M107<>\"UA\",M107<>\"SC\",M107<>\"SD\",M107<>\"p\"),1,0))","v":1},false,{"$f":"IF(OR(NOT(ISERROR(MATCH(L107,OFFSET($H$410,$G$36-2,0,1,18),FALSE))),$G$75=L107),1,0+(($G$36=1)*($H$75=\"OC\")))","v":0},1,16,null,{"$f":"IF((S107=1)*($J$6<22),INDEX($J$13:$J$33,SUM($S$7:S107),1),\"\")","v":""},{"$f":"COUNTIF($T$7:T107,T107)","v":9},null,8,{"$f":"INDEX(V:V,SUMPRODUCT((OFFSET($T$7,0,0,AuthorityCounter2,1)=Y107)*1,(OFFSET($W$7,0,0,AuthorityCounter2,1)=COUNTIF($Y$7:Y107,Y107))*1,ROW(OFFSET($W$7,0,0,AuthorityCounter2,1))))","v":""},18.650406504065042,{"$f":"IF((Y107=AB$2)*(Z107=AC$3)*(SUM($AB$6:AB106)=0),+Y107,0)","v":0},8,null,{"$f":"IF($AE$6=3,O107,SUM((CODE(MID(CONCATENATE(UPPER(M107),\"aaaaaaaaaa\"),{1;2},1))-30)*{1;0.01}))","v":55.47},{"$f":"COUNTIF($AE$7:$AE107,AE107)","v":20},null,55.55,55.55,{"$f":"COUNTIF($AI$7:$AI107,AI107)","v":20},{"$f":"IF($AE$6=1,L107,OFFSET($L$1,SUMPRODUCT(--(OFFSET($AE$7,0,0,AuthorityCounter,1)=AI107),--(OFFSET($AF$7,0,0,AuthorityCounter,1)=COUNTIF($AI$7:AI107,AI107)),ROW(OFFSET($AF$7,0,0,AuthorityCounter,1)))-1,0))","v":"Stockport"},null,{"$f":"IF(VLOOKUP(AK107,colAM,IF($H$75=\"OC\",8,5),FALSE)=1,MAX(AM$6:$AM106)+1,0)","v":101},"Stockport",false,{"$f":"IF($AP$5,SUM(SUMPRODUCT(--AO$7:$AO107)*AO107,(SUMPRODUCT(--(AO$7:$AO107=FALSE))+SUMPRODUCT(--colAP))*(1-AO107)),ROW()-6)","v":101},"Stockport","Stockport",null,null,null,null,null,null,null,null,null,null,null,null,null,null,null,null,null,null,null,null,null,null,null,null,null,null,null,null,null,null,null,null,null,null,null,null,null,null,null,null,null,null,null,null,null,null,null,null,null,null,null,null,null,null,null,null,null,null,null,null,null,null,null,null,null,null,null,null,null,null,null,null,null,null,null,null,null,null,null,null,null,null,null,null,null,null,null,null,null,null,null,null,null,null,null,null,null,null,null,null,null,null,null,null,null,null,null,null,null,null,null,null,null,null,null,null,null,null,null,null,null,null,null,null,null,null,null,null,null,null,null,null,null,null,null,null,null,null,null,null,null,null,null,null,null,null,null,null,null,null,null,null,null,null,null,null,null,null,null,null,null,null,null,null,null,null,null,null,null,null,null,null,null,null,null,null,null,null,null,null,null,null,null,null,null,null,null,null,null,null,null,null,null,null,null,null,null,null,null,null,null,null,null,null,null,null,null,null,null,"Page 26: Adult Talking Book Acquisitions","#,##0",{"$f":"AB7","v":0}]
["(P.08)[03]Children's Talking Book Acquisitions",405,21,38,"Page 38: Children's Talking Book Acquisitions",null,null,null,null,null,null,"Stoke-on-Trent","uu",null,6,{"$f":"IF((ROW()-5=$G$36),1,IF((M108=Coding!$H$75)+(Coding!$H$75=\"ALL\")+(Coding!$H$75=\"U\")*OR(M108=\"W\",M108=\"su\",M108=\"L\",M108=\"MD\",M108=\"UA\")+(Coding!$H$75=\"na\")*AND(M108<>\"W\",M108<>\"su\",M108<>\"L\",M108<>\"MD\",M108<>\"UA\",M108<>\"SC\",M108<>\"SD\",M108<>\"p\"),1,0))","v":1},false,{"$f":"IF(OR(NOT(ISERROR(MATCH(L108,OFFSET($H$410,$G$36-2,0,1,18),FALSE))),$G$75=L108),1,0+(($G$36=1)*($H$75=\"OC\")))","v":0},1,6,null,{"$f":"IF((S108=1)*($J$6<22),INDEX($J$13:$J$33,SUM($S$7:S108),1),\"\")","v":""},{"$f":"COUNTIF($T$7:T108,T108)","v":8},null,8,{"$f":"INDEX(V:V,SUMPRODUCT((OFFSET($T$7,0,0,AuthorityCounter2,1)=Y108)*1,(OFFSET($W$7,0,0,AuthorityCounter2,1)=COUNTIF($Y$7:Y108,Y108))*1,ROW(OFFSET($W$7,0,0,AuthorityCounter2,1))))","v":""},18.650406504065042,{"$f":"IF((Y108=AB$2)*(Z108=AC$3)*(SUM($AB$6:AB107)=0),+Y108,0)","v":0},8,null,{"$f":"IF($AE$6=3,O108,SUM((CODE(MID(CONCATENATE(UPPER(M108),\"aaaaaaaaaa\"),{1;2},1))-30)*{1;0.01}))","v":55.55},{"$f":"COUNTIF($AE$7:$AE108,AE108)","v":35},null,55.55,55.55,{"$f":"COUNTIF($AI$7:$AI108,AI108)","v":21},{"$f":"IF($AE$6=1,L108,OFFSET($L$1,SUMPRODUCT(--(OFFSET($AE$7,0,0,AuthorityCounter,1)=AI108),--(OFFSET($AF$7,0,0,AuthorityCounter,1)=COUNTIF($AI$7:AI108,AI108)),ROW(OFFSET($AF$7,0,0,AuthorityCounter,1)))-1,0))","v":"Stoke-on-Trent"},null,{"$f":"IF(VLOOKUP(AK108,colAM,IF($H$75=\"OC\",8,5),FALSE)=1,MAX(AM$6:$AM107)+1,0)","v":102},"Stoke-on-Trent",false,{"$f":"IF($AP$5,SUM(SUMPRODUCT(--AO$7:$AO108)*AO108,(SUMPRODUCT(--(AO$7:$AO108=FALSE))+SUMPRODUCT(--colAP))*(1-AO108)),ROW()-6)","v":102},"Stoke-on-Trent","Stoke-on-Trent",null,null,null,null,null,null,null,null,null,null,null,null,null,null,null,null,null,null,null,null,null,null,null,null,null,null,null,null,null,null,null,null,null,null,null,null,null,null,null,null,null,null,null,null,null,null,null,null,null,null,null,null,null,null,null,null,null,null,null,null,null,null,null,null,null,null,null,null,null,null,null,null,null,null,null,null,null,null,null,null,null,null,null,null,null,null,null,null,null,null,null,null,null,null,null,null,null,null,null,null,null,null,null,null,null,null,null,null,null,null,null,null,null,null,null,null,null,null,null,null,null,null,null,null,null,null,null,null,null,null,null,null,null,null,null,null,null,null,null,null,null,null,null,null,null,null,null,null,null,null,null,null,null,null,null,null,null,null,null,null,null,null,null,null,null,null,null,null,null,null,null,null,null,null,null,null,null,null,null,null,null,null,null,null,null,null,null,null,null,null,null,null,null,null,null,null,null,null,null,null,null,null,null,null,null,null,null,null,null,"Page 26: Children's Talking Book Acquisitions","#,##0.0",{"$f":"AB7","v":0}]
["(P.08)[04]Music, Videos and DVDs; Multi-media and Open Learning Packs; CD-ROMs and Software Acquisitions",405,22,38,"Page 38: Music, Videos and DVDs; Multi-media and Open Learning Packs; CD-ROMs and Software Acquisitions",null,null,null,null,null,null,"Suffolk","c",null,48,{"$f":"IF((ROW()-5=$G$36),1,IF((M109=Coding!$H$75)+(Coding!$H$75=\"ALL\")+(Coding!$H$75=\"U\")*OR(M109=\"W\",M109=\"su\",M109=\"L\",M109=\"MD\",M109=\"UA\")+(Coding!$H$75=\"na\")*AND(M109<>\"W\",M109<>\"su\",M109<>\"L\",M109<>\"MD\",M109<>\"UA\",M109<>\"SC\",M109<>\"SD\",M109<>\"p\"),1,0))","v":1},false,{"$f":"IF(OR(NOT(ISERROR(MATCH(L109,OFFSET($H$410,$G$36-2,0,1,18),FALSE))),$G$75=L109),1,0+(($G$36=1)*($H$75=\"OC\")))","v":0},1,48,null,{"$f":"IF((S109=1)*($J$6<22),INDEX($J$13:$J$33,SUM($S$7:S109),1),\"\")","v":""},{"$f":"COUNTIF($T$7:T109,T109)","v":2},null,7,{"$f":"INDEX(V:V,SUMPRODUCT((OFFSET($T$7,0,0,AuthorityCounter2,1)=Y109)*1,(OFFSET($W$7,0,0,AuthorityCounter2,1)=COUNTIF($Y$7:Y109,Y109))*1,ROW(OFFSET($W$7,0,0,AuthorityCounter2,1))))","v":""},18.650406504065042,{"$f":"IF((Y109=AB$2)*(Z109=AC$3)*(SUM($AB$6:AB108)=0),+Y109,0)","v":0},7,null,{"$f":"IF($AE$6=3,O109,SUM((CODE(MID(CONCATENATE(UPPER(M109),\"aaaaaaaaaa\"),{1;2},1))-30)*{1;0.01}))","v":37.67},{"$f":"COUNTIF($AE$7:$AE109,AE109)","v":23},null,55.55,55.55,{"$f":"COUNTIF($AI$7:$AI109,AI109)","v":22},{"$f":"IF($AE$6=1,L109,OFFSET($L$1,SUMPRODUCT(--(OFFSET($AE$7,0,0,AuthorityCounter,1)=AI109),--(OFFSET($AF$7,0,0,AuthorityCounter,1)=COUNTIF($AI$7:AI109,AI109)),ROW(OFFSET($AF$7,0,0,AuthorityCounter,1)))-1,0))","v":"Suffolk"},null,{"$f":"IF(VLOOKUP(AK109,colAM,IF($H$75=\"OC\",8,5),FALSE)=1,MAX(AM$6:$AM108)+1,0)","v":103},"Suffolk",false,{"$f":"IF($AP$5,SUM(SUMPRODUCT(--AO$7:$AO109)*AO109,(SUMPRODUCT(--(AO$7:$AO109=FALSE))+SUMPRODUCT(--colAP))*(1-AO109)),ROW()-6)","v":103},"Suffolk","Suffolk",null,null,null,null,null,null,null,null,null,null,null,null,null,null,null,null,null,null,null,null,null,null,null,null,null,null,null,null,null,null,null,null,null,null,null,null,null,null,null,null,null,null,null,null,null,null,null,null,null,null,null,null,null,null,null,null,null,null,null,null,null,null,null,null,null,null,null,null,null,null,null,null,null,null,null,null,null,null,null,null,null,null,null,null,null,null,null,null,null,null,null,null,null,null,null,null,null,null,null,null,null,null,null,null,null,null,null,null,null,null,null,null,null,null,null,null,null,null,null,null,null,null,null,null,null,null,null,null,null,null,null,null,null,null,null,null,null,null,null,null,null,null,null,null,null,null,null,null,null,null,null,null,null,null,null,null,null,null,null,null,null,null,null,null,null,null,null,null,null,null,null,null,null,null,null,null,null,null,null,null,null,null,null,null,null,null,null,null,null,null,null,null,null,null,null,null,null,null,null,null,null,null,null,null,null,null,null,null,null,"Page 26: Music, Videos and DVDs; Multi-media and Open Learning Packs; CD-ROMs and Software Acquisitions","#,##0",{"$f":"AB7","v":0}]
["(P.08)[05]Reference Acquisitions",405,23,38,"Page 38: Reference Acquisitions",null,null,null,null,null,null,"Surrey","c",null,53,{"$f":"IF((ROW()-5=$G$36),1,IF((M110=Coding!$H$75)+(Coding!$H$75=\"ALL\")+(Coding!$H$75=\"U\")*OR(M110=\"W\",M110=\"su\",M110=\"L\",M110=\"MD\",M110=\"UA\")+(Coding!$H$75=\"na\")*AND(M110<>\"W\",M110<>\"su\",M110<>\"L\",M110<>\"MD\",M110<>\"UA\",M110<>\"SC\",M110<>\"SD\",M110<>\"p\"),1,0))","v":1},false,{"$f":"IF(OR(NOT(ISERROR(MATCH(L110,OFFSET($H$410,$G$36-2,0,1,18),FALSE))),$G$75=L110),1,0+(($G$36=1)*($H$75=\"OC\")))","v":0},1,53,null,{"$f":"IF((S110=1)*($J$6<22),INDEX($J$13:$J$33,SUM($S$7:S110),1),\"\")","v":""},{"$f":"COUNTIF($T$7:T110,T110)","v":1},null,7,{"$f":"INDEX(V:V,SUMPRODUCT((OFFSET($T$7,0,0,AuthorityCounter2,1)=Y110)*1,(OFFSET($W$7,0,0,AuthorityCounter2,1)=COUNTIF($Y$7:Y110,Y110))*1,ROW(OFFSET($W$7,0,0,AuthorityCounter2,1))))","v":""},18.650406504065042,{"$f":"IF((Y110=AB$2)*(Z110=AC$3)*(SUM($AB$6:AB109)=0),+Y110,0)","v":0},7,null,{"$f":"IF($AE$6=3,O110,SUM((CODE(MID(CONCATENATE(UPPER(M110),\"aaaaaaaaaa\"),{1;2},1))-30)*{1;0.01}))","v":37.67},{"$f":"COUNTIF($AE$7:$AE110,AE110)","v":24},null,55.55,55.55,{"$f":"COUNTIF($AI$7:$AI110,AI110)","v":23},{"$f":"IF($AE$6=1,L110,OFFSET($L$1,SUMPRODUCT(--(OFFSET($AE$7,0,0,AuthorityCounter,1)=AI110),--(OFFSET($AF$7,0,0,AuthorityCounter,1)=COUNTIF($AI$7:AI110,AI110)),ROW(OFFSET($AF$7,0,0,AuthorityCounter,1)))-1,0))","v":"Surrey"},null,{"$f":"IF(VLOOKUP(AK110,colAM,IF($H$75=\"OC\",8,5),FALSE)=1,MAX(AM$6:$AM109)+1,0)","v":104},"Surrey",false,{"$f":"IF($AP$5,SUM(SUMPRODUCT(--AO$7:$AO110)*AO110,(SUMPRODUCT(--(AO$7:$AO110=FALSE))+SUMPRODUCT(--colAP))*(1-AO110)),ROW()-6)","v":104},"Surrey","Surrey",null,null,null,null,null,null,null,null,null,null,null,null,null,null,null,null,null,null,null,null,null,null,null,null,null,null,null,null,null,null,null,null,null,null,null,null,null,null,null,null,null,null,null,null,null,null,null,null,null,null,null,null,null,null,null,null,null,null,null,null,null,null,null,null,null,null,null,null,null,null,null,null,null,null,null,null,null,null,null,null,null,null,null,null,null,null,null,null,null,null,null,null,null,null,null,null,null,null,null,null,null,null,null,null,null,null,null,null,null,null,null,null,null,null,null,null,null,null,null,null,null,null,null,null,null,null,null,null,null,null,null,null,null,null,null,null,null,null,null,null,null,null,null,null,null,null,null,null,null,null,null,null,null,null,null,null,null,null,null,null,null,null,null,null,null,null,null,null,null,null,null,null,null,null,null,null,null,null,null,null,null,null,null,null,null,null,null,null,null,null,null,null,null,null,null,null,null,null,null,null,null,null,null,null,null,null,null,null,null,"Page 26: Reference Acquisitions","#,##0.000",{"$f":"AB7","v":0}]
["(P.10)[01]Lending Stock Replenishment Rate",405,24,40,"Page 40: Lending Stock Replenishment Rate",null,null,null,null,null,null,"Sutton","ul",null,8,{"$f":"IF((ROW()-5=$G$36),1,IF((M111=Coding!$H$75)+(Coding!$H$75=\"ALL\")+(Coding!$H$75=\"U\")*OR(M111=\"W\",M111=\"su\",M111=\"L\",M111=\"MD\",M111=\"UA\")+(Coding!$H$75=\"na\")*AND(M111<>\"W\",M111<>\"su\",M111<>\"L\",M111<>\"MD\",M111<>\"UA\",M111<>\"SC\",M111<>\"SD\",M111<>\"p\"),1,0))","v":1},false,{"$f":"IF(OR(NOT(ISERROR(MATCH(L111,OFFSET($H$410,$G$36-2,0,1,18),FALSE))),$G$75=L111),1,0+(($G$36=1)*($H$75=\"OC\")))","v":0},1,8,null,{"$f":"IF((S111=1)*($J$6<22),INDEX($J$13:$J$33,SUM($S$7:S111),1),\"\")","v":""},{"$f":"COUNTIF($T$7:T111,T111)","v":6},null,7,{"$f":"INDEX(V:V,SUMPRODUCT((OFFSET($T$7,0,0,AuthorityCounter2,1)=Y111)*1,(OFFSET($W$7,0,0,AuthorityCounter2,1)=COUNTIF($Y$7:Y111,Y111))*1,ROW(OFFSET($W$7,0,0,AuthorityCounter2,1))))","v":""},18.650406504065042,{"$f":"IF((Y111=AB$2)*(Z111=AC$3)*(SUM($AB$6:AB110)=0),+Y111,0)","v":0},7,null,{"$f":"IF($AE$6=3,O111,SUM((CODE(MID(CONCATENATE(UPPER(M111),\"aaaaaaaaaa\"),{1;2},1))-30)*{1;0.01}))","v":55.46},{"$f":"COUNTIF($AE$7:$AE111,AE111)","v":26},null,55.55,55.55,{"$f":"COUNTIF($AI$7:$AI111,AI111)","v":24},{"$f":"IF($AE$6=1,L111,OFFSET($L$1,SUMPRODUCT(--(OFFSET($AE$7,0,0,AuthorityCounter,1)=AI111),--(OFFSET($AF$7,0,0,AuthorityCounter,1)=COUNTIF($AI$7:AI111,AI111)),ROW(OFFSET($AF$7,0,0,AuthorityCounter,1)))-1,0))","v":"Sutton"},null,{"$f":"IF(VLOOKUP(AK111,colAM,IF($H$75=\"OC\",8,5),FALSE)=1,MAX(AM$6:$AM110)+1,0)","v":105},"Sutton",false,{"$f":"IF($AP$5,SUM(SUMPRODUCT(--AO$7:$AO111)*AO111,(SUMPRODUCT(--(AO$7:$AO111=FALSE))+SUMPRODUCT(--colAP))*(1-AO111)),ROW()-6)","v":105},"Sutton","Sutton",null,null,null,null,null,null,null,null,null,null,null,null,null,null,null,null,null,null,null,null,null,null,null,null,null,null,null,null,null,null,null,null,null,null,null,null,null,null,null,null,null,null,null,null,null,null,null,null,null,null,null,null,null,null,null,null,null,null,null,null,null,null,null,null,null,null,null,null,null,null,null,null,null,null,null,null,null,null,null,null,null,null,null,null,null,null,null,null,null,null,null,null,null,null,null,null,null,null,null,null,null,null,null,null,null,null,null,null,null,null,null,null,null,null,null,null,null,null,null,null,null,null,null,null,null,null,null,null,null,null,null,null,null,null,null,null,null,null,null,null,null,null,null,null,null,null,null,null,null,null,null,null,null,null,null,null,null,null,null,null,null,null,null,null,null,null,null,null,null,null,null,null,null,null,null,null,null,null,null,null,null,null,null,null,null,null,null,null,null,null,null,null,null,null,null,null,null,null,null,null,null,null,null,null,null,null,null,null,null,"Page 27: Lending Stock Replenishment Rate","#,##0",{"$f":"AB7","v":0}]
["(P.02)[01]Percentage supplied within 7 days",540,0,42,"Page 42: Percentage supplied within 7 days",null,null,null,null,null,null,"Swindon","uu",null,5,{"$f":"IF((ROW()-5=$G$36),1,IF((M112=Coding!$H$75)+(Coding!$H$75=\"ALL\")+(Coding!$H$75=\"U\")*OR(M112=\"W\",M112=\"su\",M112=\"L\",M112=\"MD\",M112=\"UA\")+(Coding!$H$75=\"na\")*AND(M112<>\"W\",M112<>\"su\",M112<>\"L\",M112<>\"MD\",M112<>\"UA\",M112<>\"SC\",M112<>\"SD\",M112<>\"p\"),1,0))","v":1},false,{"$f":"IF(OR(NOT(ISERROR(MATCH(L112,OFFSET($H$410,$G$36-2,0,1,18),FALSE))),$G$75=L112),1,0+(($G$36=1)*($H$75=\"OC\")))","v":0},1,5,null,{"$f":"IF((S112=1)*($J$6<22),INDEX($J$13:$J$33,SUM($S$7:S112),1),\"\")","v":""},{"$f":"COUNTIF($T$7:T112,T112)","v":3},null,7,{"$f":"INDEX(V:V,SUMPRODUCT((OFFSET($T$7,0,0,AuthorityCounter2,1)=Y112)*1,(OFFSET($W$7,0,0,AuthorityCounter2,1)=COUNTIF($Y$7:Y112,Y112))*1,ROW(OFFSET($W$7,0,0,AuthorityCounter2,1))))","v":""},18.650406504065042,{"$f":"IF((Y112=AB$2)*(Z112=AC$3)*(SUM($AB$6:AB111)=0),+Y112,0)","v":0},7,null,{"$f":"IF($AE$6=3,O112,SUM((CODE(MID(CONCATENATE(UPPER(M112),\"aaaaaaaaaa\"),{1;2},1))-30)*{1;0.01}))","v":55.55},{"$f":"COUNTIF($AE$7:$AE112,AE112)","v":36},null,55.55,55.55,{"$f":"COUNTIF($AI$7:$AI112,AI112)","v":25},{"$f":"IF($AE$6=1,L112,OFFSET($L$1,SUMPRODUCT(--(OFFSET($AE$7,0,0,AuthorityCounter,1)=AI112),--(OFFSET($AF$7,0,0,AuthorityCounter,1)=COUNTIF($AI$7:AI112,AI112)),ROW(OFFSET($AF$7,0,0,AuthorityCounter,1)))-1,0))","v":"Swindon"},null,{"$f":"IF(VLOOKUP(AK112,colAM,IF($H$75=\"OC\",8,5),FALSE)=1,MAX(AM$6:$AM111)+1,0)","v":106},"Swindon",false,{"$f":"IF($AP$5,SUM(SUMPRODUCT(--AO$7:$AO112)*AO112,(SUMPRODUCT(--(AO$7:$AO112=FALSE))+SUMPRODUCT(--colAP))*(1-AO112)),ROW()-6)","v":106},"Swindon","Swindon",null,null,null,null,null,null,null,null,null,null,null,null,null,null,null,null,null,null,null,null,null,null,null,null,null,null,null,null,null,null,null,null,null,null,null,null,null,null,null,null,null,null,null,null,null,null,null,null,null,null,null,null,null,null,null,null,null,null,null,null,null,null,null,null,null,null,null,null,null,null,null,null,null,null,null,null,null,null,null,null,null,null,null,null,null,null,null,null,null,null,null,null,null,null,null,null,null,null,null,null,null,null,null,null,null,null,null,null,null,null,null,null,null,null,null,null,null,null,null,null,null,null,null,null,null,null,null,null,null,null,null,null,null,null,null,null,null,null,null,null,null,null,null,null,null,null,null,null,null,null,null,null,null,null,null,null,null,null,null,null,null,null,null,null,null,null,null,null,null,null,null,null,null,null,null,null,null,null,null,null,null,null,null,null,null,null,null,null,null,null,null,null,null,null,null,null,null,null,null,null,null,null,null,null,null,null,null,null,null,"Page 28: Percentage supplied within 7 days","0%",{"$f":"AB7","v":0}]
["(P.02)[02]Percentage supplied within 15 days",540,1,42,"Page 42: Percentage supplied within 15 days",null,null,null,null,null,null,"Tameside","um",null,8,{"$f":"IF((ROW()-5=$G$36),1,IF((M113=Coding!$H$75)+(Coding!$H$75=\"ALL\")+(Coding!$H$75=\"U\")*OR(M113=\"W\",M113=\"su\",M113=\"L\",M113=\"MD\",M113=\"UA\")+(Coding!$H$75=\"na\")*AND(M113<>\"W\",M113<>\"su\",M113<>\"L\",M113<>\"MD\",M113<>\"UA\",M113<>\"SC\",M113<>\"SD\",M113<>\"p\"),1,0))","v":1},false,{"$f":"IF(OR(NOT(ISERROR(MATCH(L113,OFFSET($H$410,$G$36-2,0,1,18),FALSE))),$G$75=L113),1,0+(($G$36=1)*($H$75=\"OC\")))","v":0},1,8,null,{"$f":"IF((S113=1)*($J$6<22),INDEX($J$13:$J$33,SUM($S$7:S113),1),\"\")","v":""},{"$f":"COUNTIF($T$7:T113,T113)","v":7},null,6,{"$f":"INDEX(V:V,SUMPRODUCT((OFFSET($T$7,0,0,AuthorityCounter2,1)=Y113)*1,(OFFSET($W$7,0,0,AuthorityCounter2,1)=COUNTIF($Y$7:Y113,Y113))*1,ROW(OFFSET($W$7,0,0,AuthorityCounter2,1))))","v":""},18.650406504065042,{"$f":"IF((Y113=AB$2)*(Z113=AC$3)*(SUM($AB$6:AB112)=0),+Y113,0)","v":0},6,null,{"$f":"IF($AE$6=3,O113,SUM((CODE(MID(CONCATENATE(UPPER(M113),\"aaaaaaaaaa\"),{1;2},1))-30)*{1;0.01}))","v":55.47},{"$f":"COUNTIF($AE$7:$AE113,AE113)","v":21},null,55.55,55.55,{"$f":"COUNTIF($AI$7:$AI113,AI113)","v":26},{"$f":"IF($AE$6=1,L113,OFFSET($L$1,SUMPRODUCT(--(OFFSET($AE$7,0,0,AuthorityCounter,1)=AI113),--(OFFSET($AF$7,0,0,AuthorityCounter,1)=COUNTIF($AI$7:AI113,AI113)),ROW(OFFSET($AF$7,0,0,AuthorityCounter,1)))-1,0))","v":"Tameside"},null,{"$f":"IF(VLOOKUP(AK113,colAM,IF($H$75=\"OC\",8,5),FALSE)=1,MAX(AM$6:$AM112)+1,0)","v":107},"Tameside",false,{"$f":"IF($AP$5,SUM(SUMPRODUCT(--AO$7:$AO113)*AO113,(SUMPRODUCT(--(AO$7:$AO113=FALSE))+SUMPRODUCT(--colAP))*(1-AO113)),ROW()-6)","v":107},"Tameside","Tameside",null,null,null,null,null,null,null,null,null,null,null,null,null,null,null,null,null,null,null,null,null,null,null,null,null,null,null,null,null,null,null,null,null,null,null,null,null,null,null,null,null,null,null,null,null,null,null,null,null,null,null,null,null,null,null,null,null,null,null,null,null,null,null,null,null,null,null,null,null,null,null,null,null,null,null,null,null,null,null,null,null,null,null,null,null,null,null,null,null,null,null,null,null,null,null,null,null,null,null,null,null,null,null,null,null,null,null,null,null,null,null,null,null,null,null,null,null,null,null,null,null,null,null,null,null,null,null,null,null,null,null,null,null,null,null,null,null,null,null,null,null,null,null,null,null,null,null,null,null,null,null,null,null,null,null,null,null,null,null,null,null,null,null,null,null,null,null,null,null,null,null,null,null,null,null,null,null,null,null,null,null,null,null,null,null,null,null,null,null,null,null,null,null,null,null,null,null,null,null,null,null,null,null,null,null,null,null,null,null,"Page 28: Percentage supplied within 15 days","0%",{"$f":"AB7","v":0}]
["(P.02)[03]Percentage supplied within 30 days",540,2,42,"Page 42: Percentage supplied within 30 days",null,null,null,null,null,null,"Telford & Wrekin","uu",null,9,{"$f":"IF((ROW()-5=$G$36),1,IF((M114=Coding!$H$75)+(Coding!$H$75=\"ALL\")+(Coding!$H$75=\"U\")*OR(M114=\"W\",M114=\"su\",M114=\"L\",M114=\"MD\",M114=\"UA\")+(Coding!$H$75=\"na\")*AND(M114<>\"W\",M114<>\"su\",M114<>\"L\",M114<>\"MD\",M114<>\"UA\",M114<>\"SC\",M114<>\"SD\",M114<>\"p\"),1,0))","v":1},false,{"$f":"IF(OR(NOT(ISERROR(MATCH(L114,OFFSET($H$410,$G$36-2,0,1,18),FALSE))),$G$75=L114),1,0+(($G$36=1)*($H$75=\"OC\")))","v":0},1,9,null,{"$f":"IF((S114=1)*($J$6<22),INDEX($J$13:$J$33,SUM($S$7:S114),1),\"\")","v":""},{"$f":"COUNTIF($T$7:T114,T114)","v":3},null,6,{"$f":"INDEX(V:V,SUMPRODUCT((OFFSET($T$7,0,0,AuthorityCounter2,1)=Y114)*1,(OFFSET($W$7,0,0,AuthorityCounter2,1)=COUNTIF($Y$7:Y114,Y114))*1,ROW(OFFSET($W$7,0,0,AuthorityCounter2,1))))","v":""},18.650406504065042,{"$f":"IF((Y114=AB$2)*(Z114=AC$3)*(SUM($AB$6:AB113)=0),+Y114,0)","v":0},6,null,{"$f":"IF($AE$6=3,O114,SUM((CODE(MID(CONCATENATE(UPPER(M114),\"aaaaaaaaaa\"),{1;2},1))-30)*{1;0.01}))","v":55.55},{"$f":"COUNTIF($AE$7:$AE114,AE114)","v":37},null,55.55,55.55,{"$f":"COUNTIF($AI$7:$AI114,AI114)","v":27},{"$f":"IF($AE$6=1,L114,OFFSET($L$1,SUMPRODUCT(--(OFFSET($AE$7,0,0,AuthorityCounter,1)=AI114),--(OFFSET($AF$7,0,0,AuthorityCounter,1)=COUNTIF($AI$7:AI114,AI114)),ROW(OFFSET($AF$7,0,0,AuthorityCounter,1)))-1,0))","v":"Telford & Wrekin"},null,{"$f":"IF(VLOOKUP(AK114,colAM,IF($H$75=\"OC\",8,5),FALSE)=1,MAX(AM$6:$AM113)+1,0)","v":108},"Telford & Wrekin",false,{"$f":"IF($AP$5,SUM(SUMPRODUCT(--AO$7:$AO114)*AO114,(SUMPRODUCT(--(AO$7:$AO114=FALSE))+SUMPRODUCT(--colAP))*(1-AO114)),ROW()-6)","v":108},"Telford & Wrekin","Telford & Wrekin",null,null,null,null,null,null,null,null,null,null,null,null,null,null,null,null,null,null,null,null,null,null,null,null,null,null,null,null,null,null,null,null,null,null,null,null,null,null,null,null,null,null,null,null,null,null,null,null,null,null,null,null,null,null,null,null,null,null,null,null,null,null,null,null,null,null,null,null,null,null,null,null,null,null,null,null,null,null,null,null,null,null,null,null,null,null,null,null,null,null,null,null,null,null,null,null,null,null,null,null,null,null,null,null,null,null,null,null,null,null,null,null,null,null,null,null,null,null,null,null,null,null,null,null,null,null,null,null,null,null,null,null,null,null,null,null,null,null,null,null,null,null,null,null,null,null,null,null,null,null,null,null,null,null,null,null,null,null,null,null,null,null,null,null,null,null,null,null,null,null,null,null,null,null,null,null,null,null,null,null,null,null,null,null,null,null,null,null,null,null,null,null,null,null,null,null,null,null,null,null,null,null,null,null,null,null,null,null,null,"Page 28: Percentage supplied within 30 days","0%",{"$f":"AB7","v":0}]
["(P.01)[01]Percentage of Pupils who achieved a Standard 9-4 pass in English & Maths",675,0,47,"Page 47: Percentage of Pupils who achieved a Standard 9-4 pass in English & Maths",null,null,null,null,null,null,"Thurrock","uu",null,10,{"$f":"IF((ROW()-5=$G$36),1,IF((M115=Coding!$H$75)+(Coding!$H$75=\"ALL\")+(Coding!$H$75=\"U\")*OR(M115=\"W\",M115=\"su\",M115=\"L\",M115=\"MD\",M115=\"UA\")+(Coding!$H$75=\"na\")*AND(M115<>\"W\",M115<>\"su\",M115<>\"L\",M115<>\"MD\",M115<>\"UA\",M115<>\"SC\",M115<>\"SD\",M115<>\"p\"),1,0))","v":1},false,{"$f":"IF(OR(NOT(ISERROR(MATCH(L115,OFFSET($H$410,$G$36-2,0,1,18),FALSE))),$G$75=L115),1,0+(($G$36=1)*($H$75=\"OC\")))","v":0},1,10,null,{"$f":"IF((S115=1)*($J$6<22),INDEX($J$13:$J$33,SUM($S$7:S115),1),\"\")","v":""},{"$f":"COUNTIF($T$7:T115,T115)","v":6},null,6,{"$f":"INDEX(V:V,SUMPRODUCT((OFFSET($T$7,0,0,AuthorityCounter2,1)=Y115)*1,(OFFSET($W$7,0,0,AuthorityCounter2,1)=COUNTIF($Y$7:Y115,Y115))*1,ROW(OFFSET($W$7,0,0,AuthorityCounter2,1))))","v":""},18.650406504065042,{"$f":"IF((Y115=AB$2)*(Z115=AC$3)*(SUM($AB$6:AB114)=0),+Y115,0)","v":0},6,null,{"$f":"IF($AE$6=3,O115,SUM((CODE(MID(CONCATENATE(UPPER(M115),\"aaaaaaaaaa\"),{1;2},1))-30)*{1;0.01}))","v":55.55},{"$f":"COUNTIF($AE$7:$AE115,AE115)","v":38},null,55.55,55.55,{"$f":"COUNTIF($AI$7:$AI115,AI115)","v":28},{"$f":"IF($AE$6=1,L115,OFFSET($L$1,SUMPRODUCT(--(OFFSET($AE$7,0,0,AuthorityCounter,1)=AI115),--(OFFSET($AF$7,0,0,AuthorityCounter,1)=COUNTIF($AI$7:AI115,AI115)),ROW(OFFSET($AF$7,0,0,AuthorityCounter,1)))-1,0))","v":"Thurrock"},null,{"$f":"IF(VLOOKUP(AK115,colAM,IF($H$75=\"OC\",8,5),FALSE)=1,MAX(AM$6:$AM114)+1,0)","v":109},"Thurrock",false,{"$f":"IF($AP$5,SUM(SUMPRODUCT(--AO$7:$AO115)*AO115,(SUMPRODUCT(--(AO$7:$AO115=FALSE))+SUMPRODUCT(--colAP))*(1-AO115)),ROW()-6)","v":109},"Thurrock","Thurrock",null,null,null,null,null,null,null,null,null,null,null,null,null,null,null,null,null,null,null,null,null,null,null,null,null,null,null,null,null,null,null,null,null,null,null,null,null,null,null,null,null,null,null,null,null,null,null,null,null,null,null,null,null,null,null,null,null,null,null,null,null,null,null,null,null,null,null,null,null,null,null,null,null,null,null,null,null,null,null,null,null,null,null,null,null,null,null,null,null,null,null,null,null,null,null,null,null,null,null,null,null,null,null,null,null,null,null,null,null,null,null,null,null,null,null,null,null,null,null,null,null,null,null,null,null,null,null,null,null,null,null,null,null,null,null,null,null,null,null,null,null,null,null,null,null,null,null,null,null,null,null,null,null,null,null,null,null,null,null,null,null,null,null,null,null,null,null,null,null,null,null,null,null,null,null,null,null,null,null,null,null,null,null,null,null,null,null,null,null,null,null,null,null,null,null,null,null,null,null,null,null,null,null,null,null,null,null,null,null,"Page 29: Percentage of Pupils who achieved a Standard 9-4 pass in English & Maths","0%",{"$f":"AB7","v":0}]
["(P.01)[02]Indices of Deprivation",675,1,47,"Page 47: Indices of Deprivation",null,null,null,null,null,null,"Torbay","uu",null,4,{"$f":"IF((ROW()-5=$G$36),1,IF((M116=Coding!$H$75)+(Coding!$H$75=\"ALL\")+(Coding!$H$75=\"U\")*OR(M116=\"W\",M116=\"su\",M116=\"L\",M116=\"MD\",M116=\"UA\")+(Coding!$H$75=\"na\")*AND(M116<>\"W\",M116<>\"su\",M116<>\"L\",M116<>\"MD\",M116<>\"UA\",M116<>\"SC\",M116<>\"SD\",M116<>\"p\"),1,0))","v":1},false,{"$f":"IF(OR(NOT(ISERROR(MATCH(L116,OFFSET($H$410,$G$36-2,0,1,18),FALSE))),$G$75=L116),1,0+(($G$36=1)*($H$75=\"OC\")))","v":0},1,4,null,{"$f":"IF((S116=1)*($J$6<22),INDEX($J$13:$J$33,SUM($S$7:S116),1),\"\")","v":""},{"$f":"COUNTIF($T$7:T116,T116)","v":7},null,6,{"$f":"INDEX(V:V,SUMPRODUCT((OFFSET($T$7,0,0,AuthorityCounter2,1)=Y116)*1,(OFFSET($W$7,0,0,AuthorityCounter2,1)=COUNTIF($Y$7:Y116,Y116))*1,ROW(OFFSET($W$7,0,0,AuthorityCounter2,1))))","v":""},18.650406504065042,{"$f":"IF((Y116=AB$2)*(Z116=AC$3)*(SUM($AB$6:AB115)=0),+Y116,0)","v":0},6,null,{"$f":"IF($AE$6=3,O116,SUM((CODE(MID(CONCATENATE(UPPER(M116),\"aaaaaaaaaa\"),{1;2},1))-30)*{1;0.01}))","v":55.55},{"$f":"COUNTIF($AE$7:$AE116,AE116)","v":39},null,55.55,55.55,{"$f":"COUNTIF($AI$7:$AI116,AI116)","v":29},{"$f":"IF($AE$6=1,L116,OFFSET($L$1,SUMPRODUCT(--(OFFSET($AE$7,0,0,AuthorityCounter,1)=AI116),--(OFFSET($AF$7,0,0,AuthorityCounter,1)=COUNTIF($AI$7:AI116,AI116)),ROW(OFFSET($AF$7,0,0,AuthorityCounter,1)))-1,0))","v":"Torbay"},null,{"$f":"IF(VLOOKUP(AK116,colAM,IF($H$75=\"OC\",8,5),FALSE)=1,MAX(AM$6:$AM115)+1,0)","v":110},"Torbay",false,{"$f":"IF($AP$5,SUM(SUMPRODUCT(--AO$7:$AO116)*AO116,(SUMPRODUCT(--(AO$7:$AO116=FALSE))+SUMPRODUCT(--colAP))*(1-AO116)),ROW()-6)","v":110},"Torbay","Torbay",null,null,null,null,null,null,null,null,null,null,null,null,null,null,null,null,null,null,null,null,null,null,null,null,null,null,null,null,null,null,null,null,null,null,null,null,null,null,null,null,null,null,null,null,null,null,null,null,null,null,null,null,null,null,null,null,null,null,null,null,null,null,null,null,null,null,null,null,null,null,null,null,null,null,null,null,null,null,null,null,null,null,null,null,null,null,null,null,null,null,null,null,null,null,null,null,null,null,null,null,null,null,null,null,null,null,null,null,null,null,null,null,null,null,null,null,null,null,null,null,null,null,null,null,null,null,null,null,null,null,null,null,null,null,null,null,null,null,null,null,null,null,null,null,null,null,null,null,null,null,null,null,null,null,null,null,null,null,null,null,null,null,null,null,null,null,null,null,null,null,null,null,null,null,null,null,null,null,null,null,null,null,null,null,null,null,null,null,null,null,null,null,null,null,null,null,null,null,null,null,null,null,null,null,null,null,null,null,null,"Page 29: Indices of Deprivation","#,##0",{"$f":"AB7","v":0}]
["(P.02)[01]Population",675,2,48,"Page 48: Population",null,null,null,null,null,null,"Tower Hamlets","ul",null,8,{"$f":"IF((ROW()-5=$G$36),1,IF((M117=Coding!$H$75)+(Coding!$H$75=\"ALL\")+(Coding!$H$75=\"U\")*OR(M117=\"W\",M117=\"su\",M117=\"L\",M117=\"MD\",M117=\"UA\")+(Coding!$H$75=\"na\")*AND(M117<>\"W\",M117<>\"su\",M117<>\"L\",M117<>\"MD\",M117<>\"UA\",M117<>\"SC\",M117<>\"SD\",M117<>\"p\"),1,0))","v":1},false,{"$f":"IF(OR(NOT(ISERROR(MATCH(L117,OFFSET($H$410,$G$36-2,0,1,18),FALSE))),$G$75=L117),1,0+(($G$36=1)*($H$75=\"OC\")))","v":0},1,8,null,{"$f":"IF((S117=1)*($J$6<22),INDEX($J$13:$J$33,SUM($S$7:S117),1),\"\")","v":""},{"$f":"COUNTIF($T$7:T117,T117)","v":8},null,6,{"$f":"INDEX(V:V,SUMPRODUCT((OFFSET($T$7,0,0,AuthorityCounter2,1)=Y117)*1,(OFFSET($W$7,0,0,AuthorityCounter2,1)=COUNTIF($Y$7:Y117,Y117))*1,ROW(OFFSET($W$7,0,0,AuthorityCounter2,1))))","v":""},18.650406504065042,{"$f":"IF((Y117=AB$2)*(Z117=AC$3)*(SUM($AB$6:AB116)=0),+Y117,0)","v":0},6,null,{"$f":"IF($AE$6=3,O117,SUM((CODE(MID(CONCATENATE(UPPER(M117),\"aaaaaaaaaa\"),{1;2},1))-30)*{1;0.01}))","v":55.46},{"$f":"COUNTIF($AE$7:$AE117,AE117)","v":27},null,55.55,55.55,{"$f":"COUNTIF($AI$7:$AI117,AI117)","v":30},{"$f":"IF($AE$6=1,L117,OFFSET($L$1,SUMPRODUCT(--(OFFSET($AE$7,0,0,AuthorityCounter,1)=AI117),--(OFFSET($AF$7,0,0,AuthorityCounter,1)=COUNTIF($AI$7:AI117,AI117)),ROW(OFFSET($AF$7,0,0,AuthorityCounter,1)))-1,0))","v":"Tower Hamlets"},null,{"$f":"IF(VLOOKUP(AK117,colAM,IF($H$75=\"OC\",8,5),FALSE)=1,MAX(AM$6:$AM116)+1,0)","v":111},"Tower Hamlets",false,{"$f":"IF($AP$5,SUM(SUMPRODUCT(--AO$7:$AO117)*AO117,(SUMPRODUCT(--(AO$7:$AO117=FALSE))+SUMPRODUCT(--colAP))*(1-AO117)),ROW()-6)","v":111},"Tower Hamlets","Tower Hamlets",null,null,null,null,null,null,null,null,null,null,null,null,null,null,null,null,null,null,null,null,null,null,null,null,null,null,null,null,null,null,null,null,null,null,null,null,null,null,null,null,null,null,null,null,null,null,null,null,null,null,null,null,null,null,null,null,null,null,null,null,null,null,null,null,null,null,null,null,null,null,null,null,null,null,null,null,null,null,null,null,null,null,null,null,null,null,null,null,null,null,null,null,null,null,null,null,null,null,null,null,null,null,null,null,null,null,null,null,null,null,null,null,null,null,null,null,null,null,null,null,null,null,null,null,null,null,null,null,null,null,null,null,null,null,null,null,null,null,null,null,null,null,null,null,null,null,null,null,null,null,null,null,null,null,null,null,null,null,null,null,null,null,null,null,null,null,null,null,null,null,null,null,null,null,null,null,null,null,null,null,null,null,null,null,null,null,null,null,null,null,null,null,null,null,null,null,null,null,null,null,null,null,null,null,null,null,null,null,null,"Page 30: Population","#,##0",{"$f":"AB7","v":0}]
["(P.02)[02]Area (hectares)",675,3,48,"Page 48: Area (hectares)",null,null,null,null,null,null,"Trafford","um",null,11,{"$f":"IF((ROW()-5=$G$36),1,IF((M118=Coding!$H$75)+(Coding!$H$75=\"ALL\")+(Coding!$H$75=\"U\")*OR(M118=\"W\",M118=\"su\",M118=\"L\",M118=\"MD\",M118=\"UA\")+(Coding!$H$75=\"na\")*AND(M118<>\"W\",M118<>\"su\",M118<>\"L\",M118<>\"MD\",M118<>\"UA\",M118<>\"SC\",M118<>\"SD\",M118<>\"p\"),1,0))","v":1},false,{"$f":"IF(OR(NOT(ISERROR(MATCH(L118,OFFSET($H$410,$G$36-2,0,1,18),FALSE))),$G$75=L118),1,0+(($G$36=1)*($H$75=\"OC\")))","v":0},1,11,null,{"$f":"IF((S118=1)*($J$6<22),INDEX($J$13:$J$33,SUM($S$7:S118),1),\"\")","v":""},{"$f":"COUNTIF($T$7:T118,T118)","v":6},null,6,{"$f":"INDEX(V:V,SUMPRODUCT((OFFSET($T$7,0,0,AuthorityCounter2,1)=Y118)*1,(OFFSET($W$7,0,0,AuthorityCounter2,1)=COUNTIF($Y$7:Y118,Y118))*1,ROW(OFFSET($W$7,0,0,AuthorityCounter2,1))))","v":""},18.650406504065042,{"$f":"IF((Y118=AB$2)*(Z118=AC$3)*(SUM($AB$6:AB117)=0),+Y118,0)","v":0},6,null,{"$f":"IF($AE$6=3,O118,SUM((CODE(MID(CONCATENATE(UPPER(M118),\"aaaaaaaaaa\"),{1;2},1))-30)*{1;0.01}))","v":55.47},{"$f":"COUNTIF($AE$7:$AE118,AE118)","v":22},null,55.55,55.55,{"$f":"COUNTIF($AI$7:$AI118,AI118)","v":31},{"$f":"IF($AE$6=1,L118,OFFSET($L$1,SUMPRODUCT(--(OFFSET($AE$7,0,0,AuthorityCounter,1)=AI118),--(OFFSET($AF$7,0,0,AuthorityCounter,1)=COUNTIF($AI$7:AI118,AI118)),ROW(OFFSET($AF$7,0,0,AuthorityCounter,1)))-1,0))","v":"Trafford"},null,{"$f":"IF(VLOOKUP(AK118,colAM,IF($H$75=\"OC\",8,5),FALSE)=1,MAX(AM$6:$AM117)+1,0)","v":112},"Trafford",false,{"$f":"IF($AP$5,SUM(SUMPRODUCT(--AO$7:$AO118)*AO118,(SUMPRODUCT(--(AO$7:$AO118=FALSE))+SUMPRODUCT(--colAP))*(1-AO118)),ROW()-6)","v":112},"Trafford","Trafford",null,null,null,null,null,null,null,null,null,null,null,null,null,null,null,null,null,null,null,null,null,null,null,null,null,null,null,null,null,null,null,null,null,null,null,null,null,null,null,null,null,null,null,null,null,null,null,null,null,null,null,null,null,null,null,null,null,null,null,null,null,null,null,null,null,null,null,null,null,null,null,null,null,null,null,null,null,null,null,null,null,null,null,null,null,null,null,null,null,null,null,null,null,null,null,null,null,null,null,null,null,null,null,null,null,null,null,null,null,null,null,null,null,null,null,null,null,null,null,null,null,null,null,null,null,null,null,null,null,null,null,null,null,null,null,null,null,null,null,null,null,null,null,null,null,null,null,null,null,null,null,null,null,null,null,null,null,null,null,null,null,null,null,null,null,null,null,null,null,null,null,null,null,null,null,null,null,null,null,null,null,null,null,null,null,null,null,null,null,null,null,null,null,null,null,null,null,null,null,null,null,null,null,null,null,null,null,null,null,"Page 30: Area (hectares)","#,##0",{"$f":"AB7","v":0}]
["(P.02)[03]Population Density",675,4,48,"Page 48: Population Density",null,null,null,null,null,null,"Waltham Forest","ul",null,9,{"$f":"IF((ROW()-5=$G$36),1,IF((M119=Coding!$H$75)+(Coding!$H$75=\"ALL\")+(Coding!$H$75=\"U\")*OR(M119=\"W\",M119=\"su\",M119=\"L\",M119=\"MD\",M119=\"UA\")+(Coding!$H$75=\"na\")*AND(M119<>\"W\",M119<>\"su\",M119<>\"L\",M119<>\"MD\",M119<>\"UA\",M119<>\"SC\",M119<>\"SD\",M119<>\"p\"),1,0))","v":1},false,{"$f":"IF(OR(NOT(ISERROR(MATCH(L119,OFFSET($H$410,$G$36-2,0,1,18),FALSE))),$G$75=L119),1,0+(($G$36=1)*($H$75=\"OC\")))","v":0},1,9,null,{"$f":"IF((S119=1)*($J$6<22),INDEX($J$13:$J$33,SUM($S$7:S119),1),\"\")","v":""},{"$f":"COUNTIF($T$7:T119,T119)","v":4},null,6,{"$f":"INDEX(V:V,SUMPRODUCT((OFFSET($T$7,0,0,AuthorityCounter2,1)=Y119)*1,(OFFSET($W$7,0,0,AuthorityCounter2,1)=COUNTIF($Y$7:Y119,Y119))*1,ROW(OFFSET($W$7,0,0,AuthorityCounter2,1))))","v":""},18.650406504065042,{"$f":"IF((Y119=AB$2)*(Z119=AC$3)*(SUM($AB$6:AB118)=0),+Y119,0)","v":0},6,null,{"$f":"IF($AE$6=3,O119,SUM((CODE(MID(CONCATENATE(UPPER(M119),\"aaaaaaaaaa\"),{1;2},1))-30)*{1;0.01}))","v":55.46},{"$f":"COUNTIF($AE$7:$AE119,AE119)","v":28},null,55.55,55.55,{"$f":"COUNTIF($AI$7:$AI119,AI119)","v":32},{"$f":"IF($AE$6=1,L119,OFFSET($L$1,SUMPRODUCT(--(OFFSET($AE$7,0,0,AuthorityCounter,1)=AI119),--(OFFSET($AF$7,0,0,AuthorityCounter,1)=COUNTIF($AI$7:AI119,AI119)),ROW(OFFSET($AF$7,0,0,AuthorityCounter,1)))-1,0))","v":"Waltham Forest"},null,{"$f":"IF(VLOOKUP(AK119,colAM,IF($H$75=\"OC\",8,5),FALSE)=1,MAX(AM$6:$AM118)+1,0)","v":113},"Waltham Forest",false,{"$f":"IF($AP$5,SUM(SUMPRODUCT(--AO$7:$AO119)*AO119,(SUMPRODUCT(--(AO$7:$AO119=FALSE))+SUMPRODUCT(--colAP))*(1-AO119)),ROW()-6)","v":113},"Waltham Forest","Waltham Forest",null,null,null,null,null,null,null,null,null,null,null,null,null,null,null,null,null,null,null,null,null,null,null,null,null,null,null,null,null,null,null,null,null,null,null,null,null,null,null,null,null,null,null,null,null,null,null,null,null,null,null,null,null,null,null,null,null,null,null,null,null,null,null,null,null,null,null,null,null,null,null,null,null,null,null,null,null,null,null,null,null,null,null,null,null,null,null,null,null,null,null,null,null,null,null,null,null,null,null,null,null,null,null,null,null,null,null,null,null,null,null,null,null,null,null,null,null,null,null,null,null,null,null,null,null,null,null,null,null,null,null,null,null,null,null,null,null,null,null,null,null,null,null,null,null,null,null,null,null,null,null,null,null,null,null,null,null,null,null,null,null,null,null,null,null,null,null,null,null,null,null,null,null,null,null,null,null,null,null,null,null,null,null,null,null,null,null,null,null,null,null,null,null,null,null,null,null,null,null,null,null,null,null,null,null,null,null,null,null,"Page 30: Population Density","#,##0",{"$f":"AB7","v":0}]
[null,null," ",null,null,null,null,null,null,null,null,"Wandsworth","ul",null,11,{"$f":"IF((ROW()-5=$G$36),1,IF((M120=Coding!$H$75)+(Coding!$H$75=\"ALL\")+(Coding!$H$75=\"U\")*OR(M120=\"W\",M120=\"su\",M120=\"L\",M120=\"MD\",M120=\"UA\")+(Coding!$H$75=\"na\")*AND(M120<>\"W\",M120<>\"su\",M120<>\"L\",M120<>\"MD\",M120<>\"UA\",M120<>\"SC\",M120<>\"SD\",M120<>\"p\"),1,0))","v":1},false,{"$f":"IF(OR(NOT(ISERROR(MATCH(L120,OFFSET($H$410,$G$36-2,0,1,18),FALSE))),$G$75=L120),1,0+(($G$36=1)*($H$75=\"OC\")))","v":0},1,11,null,{"$f":"IF((S120=1)*($J$6<22),INDEX($J$13:$J$33,SUM($S$7:S120),1),\"\")","v":""},{"$f":"COUNTIF($T$7:T120,T120)","v":7},null,6,{"$f":"INDEX(V:V,SUMPRODUCT((OFFSET($T$7,0,0,AuthorityCounter2,1)=Y120)*1,(OFFSET($W$7,0,0,AuthorityCounter2,1)=COUNTIF($Y$7:Y120,Y120))*1,ROW(OFFSET($W$7,0,0,AuthorityCounter2,1))))","v":""},18.650406504065042,{"$f":"IF((Y120=AB$2)*(Z120=AC$3)*(SUM($AB$6:AB119)=0),+Y120,0)","v":0},6,null,{"$f":"IF($AE$6=3,O120,SUM((CODE(MID(CONCATENATE(UPPER(M120),\"aaaaaaaaaa\"),{1;2},1))-30)*{1;0.01}))","v":55.46},{"$f":"COUNTIF($AE$7:$AE120,AE120)","v":29},null,55.55,55.55,{"$f":"COUNTIF($AI$7:$AI120,AI120)","v":33},{"$f":"IF($AE$6=1,L120,OFFSET($L$1,SUMPRODUCT(--(OFFSET($AE$7,0,0,AuthorityCounter,1)=AI120),--(OFFSET($AF$7,0,0,AuthorityCounter,1)=COUNTIF($AI$7:AI120,AI120)),ROW(OFFSET($AF$7,0,0,AuthorityCounter,1)))-1,0))","v":"Wandsworth"},null,{"$f":"IF(VLOOKUP(AK120,colAM,IF($H$75=\"OC\",8,5),FALSE)=1,MAX(AM$6:$AM119)+1,0)","v":114},"Wandsworth",false,{"$f":"IF($AP$5,SUM(SUMPRODUCT(--AO$7:$AO120)*AO120,(SUMPRODUCT(--(AO$7:$AO120=FALSE))+SUMPRODUCT(--colAP))*(1-AO120)),ROW()-6)","v":114},"Wandsworth","Wandsworth"]
[null,null," ",null,null,null,null,null,null,null,null,"Warrington","uu",null,12,{"$f":"IF((ROW()-5=$G$36),1,IF((M121=Coding!$H$75)+(Coding!$H$75=\"ALL\")+(Coding!$H$75=\"U\")*OR(M121=\"W\",M121=\"su\",M121=\"L\",M121=\"MD\",M121=\"UA\")+(Coding!$H$75=\"na\")*AND(M121<>\"W\",M121<>\"su\",M121<>\"L\",M121<>\"MD\",M121<>\"UA\",M121<>\"SC\",M121<>\"SD\",M121<>\"p\"),1,0))","v":1},false,{"$f":"IF(OR(NOT(ISERROR(MATCH(L121,OFFSET($H$410,$G$36-2,0,1,18),FALSE))),$G$75=L121),1,0+(($G$36=1)*($H$75=\"OC\")))","v":0},1,12,null,{"$f":"IF((S121=1)*($J$6<22),INDEX($J$13:$J$33,SUM($S$7:S121),1),\"\")","v":""},{"$f":"COUNTIF($T$7:T121,T121)","v":9},null,5,{"$f":"INDEX(V:V,SUMPRODUCT((OFFSET($T$7,0,0,AuthorityCounter2,1)=Y121)*1,(OFFSET($W$7,0,0,AuthorityCounter2,1)=COUNTIF($Y$7:Y121,Y121))*1,ROW(OFFSET($W$7,0,0,AuthorityCounter2,1))))","v":""},18.650406504065042,{"$f":"IF((Y121=AB$2)*(Z121=AC$3)*(SUM($AB$6:AB120)=0),+Y121,0)","v":0},5,null,{"$f":"IF($AE$6=3,O121,SUM((CODE(MID(CONCATENATE(UPPER(M121),\"aaaaaaaaaa\"),{1;2},1))-30)*{1;0.01}))","v":55.55},{"$f":"COUNTIF($AE$7:$AE121,AE121)","v":40},null,55.55,55.55,{"$f":"COUNTIF($AI$7:$AI121,AI121)","v":34},{"$f":"IF($AE$6=1,L121,OFFSET($L$1,SUMPRODUCT(--(OFFSET($AE$7,0,0,AuthorityCounter,1)=AI121),--(OFFSET($AF$7,0,0,AuthorityCounter,1)=COUNTIF($AI$7:AI121,AI121)),ROW(OFFSET($AF$7,0,0,AuthorityCounter,1)))-1,0))","v":"Warrington"},null,{"$f":"IF(VLOOKUP(AK121,colAM,IF($H$75=\"OC\",8,5),FALSE)=1,MAX(AM$6:$AM120)+1,0)","v":115},"Warrington",false,{"$f":"IF($AP$5,SUM(SUMPRODUCT(--AO$7:$AO121)*AO121,(SUMPRODUCT(--(AO$7:$AO121=FALSE))+SUMPRODUCT(--colAP))*(1-AO121)),ROW()-6)","v":115},"Warrington","Warrington"]
[null,null," ",null,null,null,null,null,null,null,null,"Warwickshire","c",null,22,{"$f":"IF((ROW()-5=$G$36),1,IF((M122=Coding!$H$75)+(Coding!$H$75=\"ALL\")+(Coding!$H$75=\"U\")*OR(M122=\"W\",M122=\"su\",M122=\"L\",M122=\"MD\",M122=\"UA\")+(Coding!$H$75=\"na\")*AND(M122<>\"W\",M122<>\"su\",M122<>\"L\",M122<>\"MD\",M122<>\"UA\",M122<>\"SC\",M122<>\"SD\",M122<>\"p\"),1,0))","v":1},false,{"$f":"IF(OR(NOT(ISERROR(MATCH(L122,OFFSET($H$410,$G$36-2,0,1,18),FALSE))),$G$75=L122),1,0+(($G$36=1)*($H$75=\"OC\")))","v":0},1,22,null,{"$f":"IF((S122=1)*($J$6<22),INDEX($J$13:$J$33,SUM($S$7:S122),1),\"\")","v":""},{"$f":"COUNTIF($T$7:T122,T122)","v":4},null,5,{"$f":"INDEX(V:V,SUMPRODUCT((OFFSET($T$7,0,0,AuthorityCounter2,1)=Y122)*1,(OFFSET($W$7,0,0,AuthorityCounter2,1)=COUNTIF($Y$7:Y122,Y122))*1,ROW(OFFSET($W$7,0,0,AuthorityCounter2,1))))","v":""},18.650406504065042,{"$f":"IF((Y122=AB$2)*(Z122=AC$3)*(SUM($AB$6:AB121)=0),+Y122,0)","v":0},5,null,{"$f":"IF($AE$6=3,O122,SUM((CODE(MID(CONCATENATE(UPPER(M122),\"aaaaaaaaaa\"),{1;2},1))-30)*{1;0.01}))","v":37.67},{"$f":"COUNTIF($AE$7:$AE122,AE122)","v":25},null,55.55,55.55,{"$f":"COUNTIF($AI$7:$AI122,AI122)","v":35},{"$f":"IF($AE$6=1,L122,OFFSET($L$1,SUMPRODUCT(--(OFFSET($AE$7,0,0,AuthorityCounter,1)=AI122),--(OFFSET($AF$7,0,0,AuthorityCounter,1)=COUNTIF($AI$7:AI122,AI122)),ROW(OFFSET($AF$7,0,0,AuthorityCounter,1)))-1,0))","v":"Warwickshire"},null,{"$f":"IF(VLOOKUP(AK122,colAM,IF($H$75=\"OC\",8,5),FALSE)=1,MAX(AM$6:$AM121)+1,0)","v":116},"Warwickshire",false,{"$f":"IF($AP$5,SUM(SUMPRODUCT(--AO$7:$AO122)*AO122,(SUMPRODUCT(--(AO$7:$AO122=FALSE))+SUMPRODUCT(--colAP))*(1-AO122)),ROW()-6)","v":116},"Warwickshire","Warwickshire"]
[null,null," ",null,null,null,null,null,null,null,null,"West Berkshire","uu",null,9,{"$f":"IF((ROW()-5=$G$36),1,IF((M123=Coding!$H$75)+(Coding!$H$75=\"ALL\")+(Coding!$H$75=\"U\")*OR(M123=\"W\",M123=\"su\",M123=\"L\",M123=\"MD\",M123=\"UA\")+(Coding!$H$75=\"na\")*AND(M123<>\"W\",M123<>\"su\",M123<>\"L\",M123<>\"MD\",M123<>\"UA\",M123<>\"SC\",M123<>\"SD\",M123<>\"p\"),1,0))","v":1},false,{"$f":"IF(OR(NOT(ISERROR(MATCH(L123,OFFSET($H$410,$G$36-2,0,1,18),FALSE))),$G$75=L123),1,0+(($G$36=1)*($H$75=\"OC\")))","v":0},1,9,null,{"$f":"IF((S123=1)*($J$6<22),INDEX($J$13:$J$33,SUM($S$7:S123),1),\"\")","v":""},{"$f":"COUNTIF($T$7:T123,T123)","v":5},null,5,{"$f":"INDEX(V:V,SUMPRODUCT((OFFSET($T$7,0,0,AuthorityCounter2,1)=Y123)*1,(OFFSET($W$7,0,0,AuthorityCounter2,1)=COUNTIF($Y$7:Y123,Y123))*1,ROW(OFFSET($W$7,0,0,AuthorityCounter2,1))))","v":""},18.650406504065042,{"$f":"IF((Y123=AB$2)*(Z123=AC$3)*(SUM($AB$6:AB122)=0),+Y123,0)","v":0},5,null,{"$f":"IF($AE$6=3,O123,SUM((CODE(MID(CONCATENATE(UPPER(M123),\"aaaaaaaaaa\"),{1;2},1))-30)*{1;0.01}))","v":55.55},{"$f":"COUNTIF($AE$7:$AE123,AE123)","v":41},null,55.55,55.55,{"$f":"COUNTIF($AI$7:$AI123,AI123)","v":36},{"$f":"IF($AE$6=1,L123,OFFSET($L$1,SUMPRODUCT(--(OFFSET($AE$7,0,0,AuthorityCounter,1)=AI123),--(OFFSET($AF$7,0,0,AuthorityCounter,1)=COUNTIF($AI$7:AI123,AI123)),ROW(OFFSET($AF$7,0,0,AuthorityCounter,1)))-1,0))","v":"West Berkshire"},null,{"$f":"IF(VLOOKUP(AK123,colAM,IF($H$75=\"OC\",8,5),FALSE)=1,MAX(AM$6:$AM122)+1,0)","v":117},"West Berkshire",false,{"$f":"IF($AP$5,SUM(SUMPRODUCT(--AO$7:$AO123)*AO123,(SUMPRODUCT(--(AO$7:$AO123=FALSE))+SUMPRODUCT(--colAP))*(1-AO123)),ROW()-6)","v":117},"West Berkshire","West Berkshire"]
[null,null," ",null,null,null,null,null,null,null,null,"West Sussex","c",null,38,{"$f":"IF((ROW()-5=$G$36),1,IF((M124=Coding!$H$75)+(Coding!$H$75=\"ALL\")+(Coding!$H$75=\"U\")*OR(M124=\"W\",M124=\"su\",M124=\"L\",M124=\"MD\",M124=\"UA\")+(Coding!$H$75=\"na\")*AND(M124<>\"W\",M124<>\"su\",M124<>\"L\",M124<>\"MD\",M124<>\"UA\",M124<>\"SC\",M124<>\"SD\",M124<>\"p\"),1,0))","v":1},false,{"$f":"IF(OR(NOT(ISERROR(MATCH(L124,OFFSET($H$410,$G$36-2,0,1,18),FALSE))),$G$75=L124),1,0+(($G$36=1)*($H$75=\"OC\")))","v":0},1,38,null,{"$f":"IF((S124=1)*($J$6<22),INDEX($J$13:$J$33,SUM($S$7:S124),1),\"\")","v":""},{"$f":"COUNTIF($T$7:T124,T124)","v":1},null,4,{"$f":"INDEX(V:V,SUMPRODUCT((OFFSET($T$7,0,0,AuthorityCounter2,1)=Y124)*1,(OFFSET($W$7,0,0,AuthorityCounter2,1)=COUNTIF($Y$7:Y124,Y124))*1,ROW(OFFSET($W$7,0,0,AuthorityCounter2,1))))","v":""},18.650406504065042,{"$f":"IF((Y124=AB$2)*(Z124=AC$3)*(SUM($AB$6:AB123)=0),+Y124,0)","v":0},4,null,{"$f":"IF($AE$6=3,O124,SUM((CODE(MID(CONCATENATE(UPPER(M124),\"aaaaaaaaaa\"),{1;2},1))-30)*{1;0.01}))","v":37.67},{"$f":"COUNTIF($AE$7:$AE124,AE124)","v":26},null,55.55,55.55,{"$f":"COUNTIF($AI$7:$AI124,AI124)","v":37},{"$f":"IF($AE$6=1,L124,OFFSET($L$1,SUMPRODUCT(--(OFFSET($AE$7,0,0,AuthorityCounter,1)=AI124),--(OFFSET($AF$7,0,0,AuthorityCounter,1)=COUNTIF($AI$7:AI124,AI124)),ROW(OFFSET($AF$7,0,0,AuthorityCounter,1)))-1,0))","v":"West Sussex"},null,{"$f":"IF(VLOOKUP(AK124,colAM,IF($H$75=\"OC\",8,5),FALSE)=1,MAX(AM$6:$AM123)+1,0)","v":118},"West Sussex",false,{"$f":"IF($AP$5,SUM(SUMPRODUCT(--AO$7:$AO124)*AO124,(SUMPRODUCT(--(AO$7:$AO124=FALSE))+SUMPRODUCT(--colAP))*(1-AO124)),ROW()-6)","v":118},"West Sussex","West Sussex"]
[null,null," ",null,null,null,null,null,null,null,null,"Westminster","ul",null,11,{"$f":"IF((ROW()-5=$G$36),1,IF((M125=Coding!$H$75)+(Coding!$H$75=\"ALL\")+(Coding!$H$75=\"U\")*OR(M125=\"W\",M125=\"su\",M125=\"L\",M125=\"MD\",M125=\"UA\")+(Coding!$H$75=\"na\")*AND(M125<>\"W\",M125<>\"su\",M125<>\"L\",M125<>\"MD\",M125<>\"UA\",M125<>\"SC\",M125<>\"SD\",M125<>\"p\"),1,0))","v":1},false,{"$f":"IF(OR(NOT(ISERROR(MATCH(L125,OFFSET($H$410,$G$36-2,0,1,18),FALSE))),$G$75=L125),1,0+(($G$36=1)*($H$75=\"OC\")))","v":0},1,11,null,{"$f":"IF((S125=1)*($J$6<22),INDEX($J$13:$J$33,SUM($S$7:S125),1),\"\")","v":""},{"$f":"COUNTIF($T$7:T125,T125)","v":8},null,4,{"$f":"INDEX(V:V,SUMPRODUCT((OFFSET($T$7,0,0,AuthorityCounter2,1)=Y125)*1,(OFFSET($W$7,0,0,AuthorityCounter2,1)=COUNTIF($Y$7:Y125,Y125))*1,ROW(OFFSET($W$7,0,0,AuthorityCounter2,1))))","v":""},18.650406504065042,{"$f":"IF((Y125=AB$2)*(Z125=AC$3)*(SUM($AB$6:AB124)=0),+Y125,0)","v":0},4,null,{"$f":"IF($AE$6=3,O125,SUM((CODE(MID(CONCATENATE(UPPER(M125),\"aaaaaaaaaa\"),{1;2},1))-30)*{1;0.01}))","v":55.46},{"$f":"COUNTIF($AE$7:$AE125,AE125)","v":30},null,55.55,55.55,{"$f":"COUNTIF($AI$7:$AI125,AI125)","v":38},{"$f":"IF($AE$6=1,L125,OFFSET($L$1,SUMPRODUCT(--(OFFSET($AE$7,0,0,AuthorityCounter,1)=AI125),--(OFFSET($AF$7,0,0,AuthorityCounter,1)=COUNTIF($AI$7:AI125,AI125)),ROW(OFFSET($AF$7,0,0,AuthorityCounter,1)))-1,0))","v":"Westminster"},null,{"$f":"IF(VLOOKUP(AK125,colAM,IF($H$75=\"OC\",8,5),FALSE)=1,MAX(AM$6:$AM124)+1,0)","v":119},"Westminster",false,{"$f":"IF($AP$5,SUM(SUMPRODUCT(--AO$7:$AO125)*AO125,(SUMPRODUCT(--(AO$7:$AO125=FALSE))+SUMPRODUCT(--colAP))*(1-AO125)),ROW()-6)","v":119},"Westminster","Westminster"]
[null,null," ",null,null,null,null,null,null,null,null,"Wiltshire","uu",null,34,{"$f":"IF((ROW()-5=$G$36),1,IF((M126=Coding!$H$75)+(Coding!$H$75=\"ALL\")+(Coding!$H$75=\"U\")*OR(M126=\"W\",M126=\"su\",M126=\"L\",M126=\"MD\",M126=\"UA\")+(Coding!$H$75=\"na\")*AND(M126<>\"W\",M126<>\"su\",M126<>\"L\",M126<>\"MD\",M126<>\"UA\",M126<>\"SC\",M126<>\"SD\",M126<>\"p\"),1,0))","v":1},false,{"$f":"IF(OR(NOT(ISERROR(MATCH(L126,OFFSET($H$410,$G$36-2,0,1,18),FALSE))),$G$75=L126),1,0+(($G$36=1)*($H$75=\"OC\")))","v":0},1,34,null,{"$f":"IF((S126=1)*($J$6<22),INDEX($J$13:$J$33,SUM($S$7:S126),1),\"\")","v":""},{"$f":"COUNTIF($T$7:T126,T126)","v":1},null,4,{"$f":"INDEX(V:V,SUMPRODUCT((OFFSET($T$7,0,0,AuthorityCounter2,1)=Y126)*1,(OFFSET($W$7,0,0,AuthorityCounter2,1)=COUNTIF($Y$7:Y126,Y126))*1,ROW(OFFSET($W$7,0,0,AuthorityCounter2,1))))","v":""},18.650406504065042,{"$f":"IF((Y126=AB$2)*(Z126=AC$3)*(SUM($AB$6:AB125)=0),+Y126,0)","v":0},4,null,{"$f":"IF($AE$6=3,O126,SUM((CODE(MID(CONCATENATE(UPPER(M126),\"aaaaaaaaaa\"),{1;2},1))-30)*{1;0.01}))","v":55.55},{"$f":"COUNTIF($AE$7:$AE126,AE126)","v":42},null,55.55,55.55,{"$f":"COUNTIF($AI$7:$AI126,AI126)","v":39},{"$f":"IF($AE$6=1,L126,OFFSET($L$1,SUMPRODUCT(--(OFFSET($AE$7,0,0,AuthorityCounter,1)=AI126),--(OFFSET($AF$7,0,0,AuthorityCounter,1)=COUNTIF($AI$7:AI126,AI126)),ROW(OFFSET($AF$7,0,0,AuthorityCounter,1)))-1,0))","v":"Wiltshire"},null,{"$f":"IF(VLOOKUP(AK126,colAM,IF($H$75=\"OC\",8,5),FALSE)=1,MAX(AM$6:$AM125)+1,0)","v":120},"Wiltshire",false,{"$f":"IF($AP$5,SUM(SUMPRODUCT(--AO$7:$AO126)*AO126,(SUMPRODUCT(--(AO$7:$AO126=FALSE))+SUMPRODUCT(--colAP))*(1-AO126)),ROW()-6)","v":120},"Wiltshire","Wiltshire"]
[null,null," ",null,null,null,null,null,null,null,null,"Windsor & Maidenhead","uu",null,18,{"$f":"IF((ROW()-5=$G$36),1,IF((M127=Coding!$H$75)+(Coding!$H$75=\"ALL\")+(Coding!$H$75=\"U\")*OR(M127=\"W\",M127=\"su\",M127=\"L\",M127=\"MD\",M127=\"UA\")+(Coding!$H$75=\"na\")*AND(M127<>\"W\",M127<>\"su\",M127<>\"L\",M127<>\"MD\",M127<>\"UA\",M127<>\"SC\",M127<>\"SD\",M127<>\"p\"),1,0))","v":1},false,{"$f":"IF(OR(NOT(ISERROR(MATCH(L127,OFFSET($H$410,$G$36-2,0,1,18),FALSE))),$G$75=L127),1,0+(($G$36=1)*($H$75=\"OC\")))","v":0},1,18,null,{"$f":"IF((S127=1)*($J$6<22),INDEX($J$13:$J$33,SUM($S$7:S127),1),\"\")","v":""},{"$f":"COUNTIF($T$7:T127,T127)","v":1},null,4,{"$f":"INDEX(V:V,SUMPRODUCT((OFFSET($T$7,0,0,AuthorityCounter2,1)=Y127)*1,(OFFSET($W$7,0,0,AuthorityCounter2,1)=COUNTIF($Y$7:Y127,Y127))*1,ROW(OFFSET($W$7,0,0,AuthorityCounter2,1))))","v":""},18.650406504065042,{"$f":"IF((Y127=AB$2)*(Z127=AC$3)*(SUM($AB$6:AB126)=0),+Y127,0)","v":0},4,null,{"$f":"IF($AE$6=3,O127,SUM((CODE(MID(CONCATENATE(UPPER(M127),\"aaaaaaaaaa\"),{1;2},1))-30)*{1;0.01}))","v":55.55},{"$f":"COUNTIF($AE$7:$AE127,AE127)","v":43},null,55.55,55.55,{"$f":"COUNTIF($AI$7:$AI127,AI127)","v":40},{"$f":"IF($AE$6=1,L127,OFFSET($L$1,SUMPRODUCT(--(OFFSET($AE$7,0,0,AuthorityCounter,1)=AI127),--(OFFSET($AF$7,0,0,AuthorityCounter,1)=COUNTIF($AI$7:AI127,AI127)),ROW(OFFSET($AF$7,0,0,AuthorityCounter,1)))-1,0))","v":"Windsor & Maidenhead"},null,{"$f":"IF(VLOOKUP(AK127,colAM,IF($H$75=\"OC\",8,5),FALSE)=1,MAX(AM$6:$AM126)+1,0)","v":121},"Windsor & Maidenhead",false,{"$f":"IF($AP$5,SUM(SUMPRODUCT(--AO$7:$AO127)*AO127,(SUMPRODUCT(--(AO$7:$AO127=FALSE))+SUMPRODUCT(--colAP))*(1-AO127)),ROW()-6)","v":121},"Windsor & Maidenhead","Windsor & Maidenhead"]
[null,null," ",null,null,null,null,null,null,null,null,"Wirral","um",null,24,{"$f":"IF((ROW()-5=$G$36),1,IF((M128=Coding!$H$75)+(Coding!$H$75=\"ALL\")+(Coding!$H$75=\"U\")*OR(M128=\"W\",M128=\"su\",M128=\"L\",M128=\"MD\",M128=\"UA\")+(Coding!$H$75=\"na\")*AND(M128<>\"W\",M128<>\"su\",M128<>\"L\",M128<>\"MD\",M128<>\"UA\",M128<>\"SC\",M128<>\"SD\",M128<>\"p\"),1,0))","v":1},false,{"$f":"IF(OR(NOT(ISERROR(MATCH(L128,OFFSET($H$410,$G$36-2,0,1,18),FALSE))),$G$75=L128),1,0+(($G$36=1)*($H$75=\"OC\")))","v":0},1,24,null,{"$f":"IF((S128=1)*($J$6<22),INDEX($J$13:$J$33,SUM($S$7:S128),1),\"\")","v":""},{"$f":"COUNTIF($T$7:T128,T128)","v":2},null,4,{"$f":"INDEX(V:V,SUMPRODUCT((OFFSET($T$7,0,0,AuthorityCounter2,1)=Y128)*1,(OFFSET($W$7,0,0,AuthorityCounter2,1)=COUNTIF($Y$7:Y128,Y128))*1,ROW(OFFSET($W$7,0,0,AuthorityCounter2,1))))","v":""},18.650406504065042,{"$f":"IF((Y128=AB$2)*(Z128=AC$3)*(SUM($AB$6:AB127)=0),+Y128,0)","v":0},4,null,{"$f":"IF($AE$6=3,O128,SUM((CODE(MID(CONCATENATE(UPPER(M128),\"aaaaaaaaaa\"),{1;2},1))-30)*{1;0.01}))","v":55.47},{"$f":"COUNTIF($AE$7:$AE128,AE128)","v":23},null,55.55,55.55,{"$f":"COUNTIF($AI$7:$AI128,AI128)","v":41},{"$f":"IF($AE$6=1,L128,OFFSET($L$1,SUMPRODUCT(--(OFFSET($AE$7,0,0,AuthorityCounter,1)=AI128),--(OFFSET($AF$7,0,0,AuthorityCounter,1)=COUNTIF($AI$7:AI128,AI128)),ROW(OFFSET($AF$7,0,0,AuthorityCounter,1)))-1,0))","v":"Wirral"},null,{"$f":"IF(VLOOKUP(AK128,colAM,IF($H$75=\"OC\",8,5),FALSE)=1,MAX(AM$6:$AM127)+1,0)","v":122},"Wirral",false,{"$f":"IF($AP$5,SUM(SUMPRODUCT(--AO$7:$AO128)*AO128,(SUMPRODUCT(--(AO$7:$AO128=FALSE))+SUMPRODUCT(--colAP))*(1-AO128)),ROW()-6)","v":122},"Wirral","Wirral"]
[null,null," ",null,null,null,null,null,null,null,null,"Wolverhampton","um",null,16,{"$f":"IF((ROW()-5=$G$36),1,IF((M129=Coding!$H$75)+(Coding!$H$75=\"ALL\")+(Coding!$H$75=\"U\")*OR(M129=\"W\",M129=\"su\",M129=\"L\",M129=\"MD\",M129=\"UA\")+(Coding!$H$75=\"na\")*AND(M129<>\"W\",M129<>\"su\",M129<>\"L\",M129<>\"MD\",M129<>\"UA\",M129<>\"SC\",M129<>\"SD\",M129<>\"p\"),1,0))","v":1},false,{"$f":"IF(OR(NOT(ISERROR(MATCH(L129,OFFSET($H$410,$G$36-2,0,1,18),FALSE))),$G$75=L129),1,0+(($G$36=1)*($H$75=\"OC\")))","v":0},1,16,null,{"$f":"IF((S129=1)*($J$6<22),INDEX($J$13:$J$33,SUM($S$7:S129),1),\"\")","v":""},{"$f":"COUNTIF($T$7:T129,T129)","v":10},null,4,{"$f":"INDEX(V:V,SUMPRODUCT((OFFSET($T$7,0,0,AuthorityCounter2,1)=Y129)*1,(OFFSET($W$7,0,0,AuthorityCounter2,1)=COUNTIF($Y$7:Y129,Y129))*1,ROW(OFFSET($W$7,0,0,AuthorityCounter2,1))))","v":""},18.650406504065042,{"$f":"IF((Y129=AB$2)*(Z129=AC$3)*(SUM($AB$6:AB128)=0),+Y129,0)","v":0},4,null,{"$f":"IF($AE$6=3,O129,SUM((CODE(MID(CONCATENATE(UPPER(M129),\"aaaaaaaaaa\"),{1;2},1))-30)*{1;0.01}))","v":55.47},{"$f":"COUNTIF($AE$7:$AE129,AE129)","v":24},null,55.55,55.55,{"$f":"COUNTIF($AI$7:$AI129,AI129)","v":42},{"$f":"IF($AE$6=1,L129,OFFSET($L$1,SUMPRODUCT(--(OFFSET($AE$7,0,0,AuthorityCounter,1)=AI129),--(OFFSET($AF$7,0,0,AuthorityCounter,1)=COUNTIF($AI$7:AI129,AI129)),ROW(OFFSET($AF$7,0,0,AuthorityCounter,1)))-1,0))","v":"Wolverhampton"},null,{"$f":"IF(VLOOKUP(AK129,colAM,IF($H$75=\"OC\",8,5),FALSE)=1,MAX(AM$6:$AM128)+1,0)","v":123},"Wolverhampton",false,{"$f":"IF($AP$5,SUM(SUMPRODUCT(--AO$7:$AO129)*AO129,(SUMPRODUCT(--(AO$7:$AO129=FALSE))+SUMPRODUCT(--colAP))*(1-AO129)),ROW()-6)","v":123},"Wolverhampton","Wolverhampton"]
[null,null," ",null,null,null,null,null,null,null,null,"Worcestershire","c",null,24,{"$f":"IF((ROW()-5=$G$36),1,IF((M130=Coding!$H$75)+(Coding!$H$75=\"ALL\")+(Coding!$H$75=\"U\")*OR(M130=\"W\",M130=\"su\",M130=\"L\",M130=\"MD\",M130=\"UA\")+(Coding!$H$75=\"na\")*AND(M130<>\"W\",M130<>\"su\",M130<>\"L\",M130<>\"MD\",M130<>\"UA\",M130<>\"SC\",M130<>\"SD\",M130<>\"p\"),1,0))","v":1},false,{"$f":"IF(OR(NOT(ISERROR(MATCH(L130,OFFSET($H$410,$G$36-2,0,1,18),FALSE))),$G$75=L130),1,0+(($G$36=1)*($H$75=\"OC\")))","v":0},1,24,null,{"$f":"IF((S130=1)*($J$6<22),INDEX($J$13:$J$33,SUM($S$7:S130),1),\"\")","v":""},{"$f":"COUNTIF($T$7:T130,T130)","v":3},null,4,{"$f":"INDEX(V:V,SUMPRODUCT((OFFSET($T$7,0,0,AuthorityCounter2,1)=Y130)*1,(OFFSET($W$7,0,0,AuthorityCounter2,1)=COUNTIF($Y$7:Y130,Y130))*1,ROW(OFFSET($W$7,0,0,AuthorityCounter2,1))))","v":""},18.650406504065042,{"$f":"IF((Y130=AB$2)*(Z130=AC$3)*(SUM($AB$6:AB129)=0),+Y130,0)","v":0},4,null,{"$f":"IF($AE$6=3,O130,SUM((CODE(MID(CONCATENATE(UPPER(M130),\"aaaaaaaaaa\"),{1;2},1))-30)*{1;0.01}))","v":37.67},{"$f":"COUNTIF($AE$7:$AE130,AE130)","v":27},null,55.55,55.55,{"$f":"COUNTIF($AI$7:$AI130,AI130)","v":43},{"$f":"IF($AE$6=1,L130,OFFSET($L$1,SUMPRODUCT(--(OFFSET($AE$7,0,0,AuthorityCounter,1)=AI130),--(OFFSET($AF$7,0,0,AuthorityCounter,1)=COUNTIF($AI$7:AI130,AI130)),ROW(OFFSET($AF$7,0,0,AuthorityCounter,1)))-1,0))","v":"Worcestershire"},null,{"$f":"IF(VLOOKUP(AK130,colAM,IF($H$75=\"OC\",8,5),FALSE)=1,MAX(AM$6:$AM129)+1,0)","v":124},"Worcestershire",false,{"$f":"IF($AP$5,SUM(SUMPRODUCT(--AO$7:$AO130)*AO130,(SUMPRODUCT(--(AO$7:$AO130=FALSE))+SUMPRODUCT(--colAP))*(1-AO130)),ROW()-6)","v":124},"Worcestershire","Worcestershire"]
[null,null," ",null,null,null,null,null,null,null,null,"York","uu",null,17,{"$f":"IF((ROW()-5=$G$36),1,IF((M131=Coding!$H$75)+(Coding!$H$75=\"ALL\")+(Coding!$H$75=\"U\")*OR(M131=\"W\",M131=\"su\",M131=\"L\",M131=\"MD\",M131=\"UA\")+(Coding!$H$75=\"na\")*AND(M131<>\"W\",M131<>\"su\",M131<>\"L\",M131<>\"MD\",M131<>\"UA\",M131<>\"SC\",M131<>\"SD\",M131<>\"p\"),1,0))","v":1},false,{"$f":"IF(OR(NOT(ISERROR(MATCH(L131,OFFSET($H$410,$G$36-2,0,1,18),FALSE))),$G$75=L131),1,0+(($G$36=1)*($H$75=\"OC\")))","v":0},1,17,null,{"$f":"IF((S131=1)*($J$6<22),INDEX($J$13:$J$33,SUM($S$7:S131),1),\"\")","v":""},{"$f":"COUNTIF($T$7:T131,T131)","v":6},null,2,{"$f":"INDEX(V:V,SUMPRODUCT((OFFSET($T$7,0,0,AuthorityCounter2,1)=Y131)*1,(OFFSET($W$7,0,0,AuthorityCounter2,1)=COUNTIF($Y$7:Y131,Y131))*1,ROW(OFFSET($W$7,0,0,AuthorityCounter2,1))))","v":""},18.650406504065042,{"$f":"IF((Y131=AB$2)*(Z131=AC$3)*(SUM($AB$6:AB130)=0),+Y131,0)","v":0},2,null,{"$f":"IF($AE$6=3,O131,SUM((CODE(MID(CONCATENATE(UPPER(M131),\"aaaaaaaaaa\"),{1;2},1))-30)*{1;0.01}))","v":55.55},{"$f":"COUNTIF($AE$7:$AE131,AE131)","v":44},null,55.55,55.55,{"$f":"COUNTIF($AI$7:$AI131,AI131)","v":44},{"$f":"IF($AE$6=1,L131,OFFSET($L$1,SUMPRODUCT(--(OFFSET($AE$7,0,0,AuthorityCounter,1)=AI131),--(OFFSET($AF$7,0,0,AuthorityCounter,1)=COUNTIF($AI$7:AI131,AI131)),ROW(OFFSET($AF$7,0,0,AuthorityCounter,1)))-1,0))","v":"York"},null,{"$f":"IF(VLOOKUP(AK131,colAM,IF($H$75=\"OC\",8,5),FALSE)=1,MAX(AM$6:$AM130)+1,0)","v":125},"York",false,{"$f":"IF($AP$5,SUM(SUMPRODUCT(--AO$7:$AO131)*AO131,(SUMPRODUCT(--(AO$7:$AO131=FALSE))+SUMPRODUCT(--colAP))*(1-AO131)),ROW()-6)","v":125},"York","York"]
[null,null," "]
[null,null," "]
[null,null," "]
[null,null," "]
[null,null," "]
[null,null," "]
[null,null," "]
[null,null," "]
[null,null," "]
[null,null," "]
[null,null," "]
[null,null," "]
[null,null," "]
[null,null," "]
[null,null," "]
[null,null," "]
[null,null," "]
[null,null," "]
[null,null," "]
[null,null," "]
[null,null," "]
[null,null," "]
[null,null," "]
[null,null," "]
[null,null," "]
[null,null," "]
[null,null," "]
[null,null," "]
[null,null," "]
[null,null," "]
[null,null," "]
[null,null," "]
[null,null," "]
[null,null," "]
[null,null," "]
[null,null," "]
[null,null," "]
[null,null," "]
[null,null," "]
[null,null," "]
[null,null," "]
[null,null," "]
[null,null," "]
[null,null," "]
[null,null," "]
[null,null," "]
[null,null," "]
[null,null," "]
[null,null," "]
[null,null," "]
[null,null," "]
[null,null," "]
[null,null," "]
[null,null," "]
[null,null," "]
[null,null," "]
[null,null," "]
[null,null," "]
[null,null," "]
[null,null," "]
[null,null," "]
[null,null," "]
[null,null," "]
[null,null," "]
[null,null," "]
[null,null," "]
[null,null," "]
[null,null," "]
[null,null," "]
[null,null," "]
[]
[]
[]
[]
[]
[]
[]
[]
[]
[]
[]
[]
[]
[]
[]
[]
[]
[]
[]
[]
[]
[]
[]
[]
[]
[]
[]
[]
[]
[]
[]
[]
[]
[]
[]
[]
[]
[]
[]
[]
[]
[]
[]
[]
[]
[]
[]
[]
[]
[]
[]
[]
[]
[]
[]
[]
[]
[]
[]
[]
[]
[]
[]
[]
[]
[]
[]
[]
[]
[]
[]
[]
[]
[]
[]
[]
[]
[]
[]
[]
[]
[]
[]
[]
[]
[]
[]
[]
[]
[]
[]
[]
[]
[]
[]
[]
[]
[]
[]
[]
[]
[]
[]
[]
[]
[]
[]
[]
[]
[]
[]
[]
[]
[]
[]
[]
[]
[]
[]
[]
[]
[]
[]
[]
[]
[]
[]
[]
[]
[]
[]
[]
[]
[]
[]
[]
[]
[]
[]
[]
[]
[]
[]
[]
[]
[]
[]
[]
[]
[]
[]
[]
[]
[]
[]
[]
[]
[]
[]
[]
[]
[]
[]
[]
[]
[]
[]
[]
[]
[]
[]
[]
[]
[]
[]
[]
[]
[]
[]
[]
[]
[]
[]
[]
[]
[]
[]
[]
[]
[]
[]
[]
[]
[]
[]
[]
[]
[]
[]
[null,null,null,null,"Chart Data Template"]
[null,null,null,null,null,null,"CIPFA Public Libraries Profile",null,null,null,null,null,1,2,3,4,5,6,7,8,9,10,11,12,13,14,15,16,17,18,19,20,21,22,23,24,25,26,27,28,29,30,31,32,33,34,35,36,37,38,39,40,41,42,43,44,45,46,47,48,49,50,51,52,53,54,55,56,57,58,59,60,61,62,63,64,65,66,67,68,69,70,71,72,73,74,75,76,77,78,79,80,81,82,83,84,85,86,87,88,89,90,91,92,93,94,95,96,97,98,99,100,101,102,103,104,105,106,107,108,109,110,111,112,113,114,115,116,117,118,119,120,121,122,123,124,125,126,127,128,129,130,131,132,133,134,135,136,137,138,139,140,141,142,143,144,145,146,147,148,149,150,151,152,153,154,155,156,157,158,159,160,161,162,163,164,165,166,167]
[null,null,null,null,null,"Club Name (Full):",118,null,null,null,"Block:",6,22,43,20,25,3,5]
[null,null,null,null,null,"Number of Charts:",125,null,null,null,"ColNo:",0]
[null,null,null,null,null,"Number of Authorities:"]
[]
[null,null,null,"Comparators"]
[]
[null,null,null,"Authority","Longname","Tier","Tier2","Comp1","Comp2","Comp3","Comp4","Comp5","Comp6","Comp7","Comp8","Comp9","Comp10","Comp11","Comp12","Comp13","Comp14","Comp15","Comp16","Comp17","Comp18"]
[null,null,null,"Barking & Dagenham","London Borough of Barking & Dagenham","ul","u","Waltham Forest","Greenwich","Newham","Lewisham","Enfield","Haringey","Hounslow","Croydon","Hackney","Brent","Redbridge","Ealing","Southwark","Tower Hamlets","Lambeth"]
[null,null,null,"Barnet","London Borough of Barnet","ul","u","Harrow","Redbridge","Enfield","Ealing","Croydon","Kingston-upon-Thames","Bromley","Merton","Hillingdon","Hounslow","Sutton","Richmond-upon-Thames","Bexley","Wandsworth","Brent"]
[null,null,null,"Bedford","Bedford Council","uu","u","Swindon","Central Bedfordshire","Solihull","Stockport","Milton Keynes","Bath & North East Somerset","Warrington","Cheshire West & Chester","Peterborough","Calderdale","South Gloucestershire","Medway","Cheshire East ","York","Trafford"]
[null,null,null,"Bexley","London Borough of Bexley","ul","u","Havering","Sutton","Redbridge","Hillingdon","Kingston-upon-Thames","Merton","Croydon","Bromley","Enfield","Harrow","Hounslow","Barnet","Waltham Forest","Ealing","Richmond-upon-Thames"]
[null,null,null,"Blackburn with Darwen","Blackburn with Darwen Borough Council","uu","u","Oldham","Rochdale","Bolton","Sandwell","Stoke-on-Trent","Tameside","Derby","Bradford","Middlesbrough","Walsall","Wrekin","Salford","Medway","Halton","Bury"]
[null,null,null,"Blackpool","Blackpool Borough Council","uu","u","North East Lincolnshire","Sunderland","South Tyneside","Hartlepool","Plymouth","Redcar & Cleveland","Wirral","North Tyneside","Gateshead","Stoke-on-Trent","Middlesbrough","Sefton","Tameside","Salford","Darlington"]
[null,null,null,"Bolton","Bolton Metropolitan Borough Council","um","u","Rochdale","Oldham","Tameside","Medway","Bury","Derby","Salford","Kirklees","Wigan","Calderdale","Stoke-on-Trent","Wrekin","Walsall","Rotherham","Stockton-on-Tees"]
[null,null,null,"Bournemouth & Poole","Bournemouth & Poole Libraries","uu","u","Torbay","Southend-on-Sea","Sefton","Plymouth","York","North Tyneside","Brighton & Hove","Wirral","Bristol","Stockport","North Somerset","Northumberland","Isle of Wight","Southampton",0]
[null,null,null,"Bournemouth, Christchurch & Poole","Bournemouth, Christchurch & Poole Council","uu","u","Torbay","Southend-on-Sea","Sefton","Plymouth","York","North Tyneside","Brighton & Hove","Wirral","Bristol","Stockport","North Somerset","Northumberland","Isle of Wight","Southampton"]
[null,null,null,"Brent","London Borough of Brent","ul","u","Ealing","Haringey","Waltham Forest","Hounslow","Enfield","Lambeth","Lewisham","Southwark","Croydon","Redbridge","Greenwich","Newham","Merton","Hackney","Harrow",null,null,43871]
[null,null,null,"Brighton & Hove","Brighton & Hove City Council","uu","u","Portsmouth","Bristol","Southampton","Bournemouth & Poole","Southend-on-Sea","Plymouth","York","Sefton","Newcastle upon Tyne","North Tyneside","Sheffield","Stockport","Wirral","Medway","Swindon"]
[null,null,null,"Bristol","Bristol City Council","uu","u","Southampton","Plymouth","Portsmouth","Sheffield","Brighton & Hove","Newcastle upon Tyne","Coventry","Swindon","Leeds","North Tyneside","Southend-on-Sea","Derby","Sefton","Bolton","Medway"]
[null,null,null,"Bromley","London Borough of Bromley","ul","u","Havering","Hillingdon","Richmond-upon-Thames","Bexley","Barnet","Sutton","Kingston-upon-Thames","Harrow","Croydon","Redbridge","Enfield","Merton","Hounslow","Ealing","Wandsworth"]
[null,null,null,"Buckinghamshire","Buckinghamshire County Council","c","c","Oxfordshire","Warwickshire","Gloucestershire","Suffolk","Leicestershire","Worcestershire","Hampshire","Cambridgeshire","Somerset","Northamptonshire","West Sussex","Essex","Staffordshire","North Yorkshire","Hertfordshire"]
[null,null,null,"Bury","Bury Metropolitan Borough Council","um","u","Calderdale","Bolton","Medway","Tameside","Darlington","Wigan","Kirklees","Wrekin","Rochdale","St Helens","Stockton-on-Tees","Rotherham","Derby","Warrington","Oldham"]
[null,null,null,"Calderdale","Calderdale Metropolitan Borough Council","um","u","Bury","Darlington","Kirklees","Rotherham","Stockton-on-Tees","Bolton","Medway","St Helens","Wakefield","Wrekin","Barnsley","Dudley","Derby","Doncaster","Wigan"]
[null,null,null,"Cambridgeshire","Cambridgeshire County Council","c","c","Oxfordshire","Surrey","Buckinghamshire","Hampshire","Gloucestershire","Hertfordshire","Warwickshire","West Sussex","Leicestershire","Worcestershire","North Yorkshire","Somerset","Essex","Dorset","Suffolk"]
[null,null,null,"Camden","London Borough of Camden","ul","u","Hammersmith & Fulham","Westminster","Islington","Kensington & Chelsea","Wandsworth","Southwark","Lambeth","Brent","Haringey","Ealing","Merton","Hounslow","Lewisham","Harrow","Tower Hamlets"]
[null,null,null,"Central Bedfordshire","Central Bedfordshire Council","uu","u","Wiltshire","Cheshire East ","Bedford","Cheshire West & Chester","Bath & North East Somerset","Shropshire","West Berkshire","Herefordshire","South Gloucestershire","Stockport","Solihull","North Somerset","Warrington","Calderdale","Swindon"]
[null,null,null,"Cheshire East","Cheshire East Council","uu","u","Cheshire West & Chester","Wiltshire","Shropshire","Bath & North East Somerset","Herefordshire","Solihull","Central Bedfordshire","Stockport","North Somerset","East Riding of Yorkshire","York","Bedford","Bournemouth & Poole","Warrington","South Gloucestershire"]
[null,null,null,"Cheshire West & Chester","Cheshire West and Chester Council","uu","u","Cheshire East ","Shropshire","Warrington","York","Bath & North East Somerset","Solihull","Stockport","Herefordshire","Central Bedfordshire","Wiltshire","East Riding of Yorkshire","Calderdale","Northumberland","Bedford","North Lincolnshire"]
[null,null,null,"Coventry","Coventry City Council","um","u","Derby","Bolton","Sheffield","Wolverhampton","Medway","Walsall","Nottingham","Rochdale","Sandwell","Dudley","Salford","Oldham","Kirklees","Bradford","Newcastle upon Tyne"]
[null,null,null,"Croydon","London Borough of Croydon","ul","u","Enfield","Redbridge","Ealing","Hounslow","Waltham Forest","Hillingdon","Bexley","Barnet","Brent","Merton","Sutton","Greenwich","Lewisham","Haringey","Harrow"]
[null,null,null,"Cumbria","Cumbria County Council","c","c","Derbyshire","Lincolnshire","North Yorkshire","Staffordshire","Nottinghamshire","Norfolk","Worcestershire","Suffolk","Somerset","Warwickshire","Gloucestershire","Devon","Lancashire","Leicestershire","Dorset"]
[null,null,null,"Darlington","Darlington Borough Council","uu","u","Calderdale","St Helens","Stockton-on-Tees","Dudley","Bury","Derby","Rotherham","Bolton","Gateshead","Medway","Wakefield","Tameside","Barnsley","Wrekin","Doncaster"]
[null,null,null,"Derby","Derby City Council","uu","u","Coventry","Bolton","Dudley","Walsall","Medway","Rochdale","Darlington","Stockton-on-Tees","Oldham","Kirklees","Calderdale","Rotherham","Wolverhampton","Bury","Wrekin"]
[null,null,null,"Devon","Devon County Council","c","c","North Yorkshire","East Sussex","Dorset","Gloucestershire","Somerset","West Sussex","Warwickshire","Worcestershire","Cumbria","Suffolk","Lincolnshire","Norfolk","Leicestershire","Essex","Staffordshire"]
[null,null,null,"Dorset","Dorset County Council","c","c","Somerset","Devon","North Yorkshire","Gloucestershire","East Sussex","Suffolk","Worcestershire","Warwickshire","West Sussex","Norfolk","Leicestershire","Cumbria","Buckinghamshire","Hampshire","Oxfordshire"]
[null,null,null,"Dorset","Dorset County Council","c","c","Somerset","Devon","North Yorkshire","Gloucestershire","East Sussex","Suffolk","Worcestershire","Warwickshire","West Sussex","Norfolk","Leicestershire","Cumbria","Buckinghamshire","Hampshire","Oxfordshire"]
[null,null,null,"Dudley","Dudley Metropolitan Borough Council","um","u","Derby","Stockton-on-Tees","Darlington","St Helens","Rotherham","Walsall","Kirklees","Wakefield","Calderdale","Bolton","Barnsley","Medway","Wigan","Doncaster","Sheffield"]
[null,null,null,"Durham","Durham County Council","uu","u","Barnsley","Wakefield","Doncaster","Rotherham","Wigan","Kirklees","St Helens","Calderdale","Dudley","Northumberland","Tameside","Sheffield","Gateshead","Stockton-on-Tees","Stoke-on-Trent"]
[null,null,null,"Ealing","London Borough of Ealing","ul","u","Brent","Hounslow","Redbridge","Croydon","Enfield","Waltham Forest","Haringey","Merton","Harrow","Barnet","Lambeth","Lewisham","Wandsworth","Greenwich","Southwark"]
[null,null,null,"East Sussex","East Sussex County Council","c","c","West Sussex","Devon","Gloucestershire","Worcestershire","Kent","Warwickshire","Dorset","Somerset","Suffolk","Essex","North Yorkshire","Norfolk","Hampshire","Lincolnshire","Cumbria"]
[null,null,null,"Enfield","London Borough of Enfield","ul","u","Croydon","Hounslow","Redbridge","Ealing","Waltham Forest","Brent","Hillingdon","Barnet","Haringey","Harrow","Bexley","Merton","Greenwich","Sutton","Lewisham"]
[null,null,null,"Essex","Essex County Council","c","c","Kent","Hampshire","West Sussex","Warwickshire","Worcestershire","Gloucestershire","Staffordshire","Suffolk","Northamptonshire","Nottinghamshire","Hertfordshire","East Sussex","Derbyshire","Devon","Lancashire"]
[null,null,null,"Gateshead","Gateshead Metropolitan Borough Council","um","u","St Helens","Stoke-on-Trent","Salford","Wakefield","Rotherham","Halton","Tameside","Newcastle upon Tyne","Stockton-on-Tees","Darlington","Doncaster","Wigan","Bolton","Knowsley","Rochdale"]
[null,null,null,"Gloucestershire","Gloucestershire County Council","c","c","Warwickshire","Worcestershire","Suffolk","Somerset","North Yorkshire","Leicestershire","Staffordshire","West Sussex","Devon","Buckinghamshire","Oxfordshire","Essex","Nottinghamshire","East Sussex","Derbyshire"]
[null,null,null,"Greenwich","Royal Borough of Greenwich","ul","u","Lewisham","Lambeth","Waltham Forest","Southwark","Hounslow","Hackney","Croydon","Brent","Barking & Dagenham","Haringey","Tower Hamlets","Ealing","Enfield","Newham","Islington"]
[null,null,null,"Hackney","London Borough of Hackney","ul","u","Southwark","Tower Hamlets","Lambeth","Lewisham","Islington","Greenwich","Haringey","Newham","Brent","Waltham Forest","Hammersmith & Fulham","Barking & Dagenham","Camden","Hounslow","Ealing"]
[null,null,null,"Halton","Halton Borough Council","uu","u","Wrekin","Knowsley","St Helens","Tameside","Stoke-on-Trent","Rochdale","Gateshead","Rotherham","Wigan","Stockton-on-Tees","Salford","Bolton","Doncaster","Wakefield","Middlesbrough"]
[null,null,null,"Hammersmith & Fulham","London Borough of Hammersmith & Fulham","ul","u","Camden","Islington","Westminster","Wandsworth","Lambeth","Southwark","Kensington & Chelsea","Tower Hamlets","Haringey","Brent","Merton","Ealing","Hounslow","Hackney","Lewisham"]
[null,null,null,"Hampshire","Hampshire County Council","c","c","Essex","West Sussex","Kent","Warwickshire","Gloucestershire","Oxfordshire","Buckinghamshire","Worcestershire","Leicestershire","Hertfordshire","Staffordshire","Suffolk","Devon","Cambridgeshire","Northamptonshire"]
[null,null,null,"Haringey","London Borough of Haringey","ul","u","Brent","Waltham Forest","Ealing","Lambeth","Lewisham","Southwark","Hounslow","Newham","Enfield","Hackney","Greenwich","Croydon","Islington","Tower Hamlets","Redbridge"]
[null,null,null,"Harrow","London Borough of Harrow","ul","u","Barnet","Kingston-upon-Thames","Redbridge","Merton","Sutton","Ealing","Hounslow","Enfield","Bexley","Richmond-upon-Thames","Croydon","Hillingdon","Brent","Wandsworth","Bromley"]
[null,null,null,"Havering","London Borough of Havering","ul","u","Bexley","Sutton","Bromley","Hillingdon","Kingston-upon-Thames","Redbridge","Croydon","Merton","Enfield","Hounslow","Harrow","Barnet","Richmond-upon-Thames","Waltham Forest","Ealing"]
[null,null,null,"Herefordshire","Herefordshire Council","uu","u","Shropshire","Cheshire East ","Bath & North East Somerset","Wiltshire","Rutland","Cheshire West & Chester","North Somerset","Central Bedfordshire","East Riding of Yorkshire","Isle of Wight","Cornwall","Solihull","Northumberland","Bedford","York"]
[null,null,null,"Hertfordshire","Hertfordshire County Council","c","c","Oxfordshire","Hampshire","Essex","West Sussex","Kent","Surrey","Buckinghamshire","Northamptonshire","Warwickshire","Cambridgeshire","Gloucestershire","Worcestershire","Suffolk","Staffordshire","East Sussex"]
[null,null,null,"Hounslow","London Borough of Hounslow","ul","u","Ealing","Waltham Forest","Enfield","Merton","Hillingdon","Croydon","Brent","Redbridge","Greenwich","Haringey","Sutton","Harrow","Lewisham","Bexley","Barnet"]
[null,null,null,"Isle of Wight","Isle of Wight Council","uu","u","North Somerset","East Riding of Yorkshire","Torbay","Northumberland","Cornwall","Sefton","Shropshire","Herefordshire","Bournemouth & Poole","Bath & North East Somerset","Wirral","Cheshire West & Chester","Southend-on-Sea","Cheshire East "]
[null,null,null,"Islington","London Borough of Islington","ul","u","Hammersmith & Fulham","Lambeth","Southwark","Tower Hamlets","Hackney","Camden","Lewisham","Wandsworth","Haringey","Greenwich","Brent","Westminster","Hounslow","Ealing","Waltham Forest"]
[null,null,null,"Kensington & Chelsea","Royal Borough of Kensington & Chelsea","ul","u","Westminster","Camden","Hammersmith & Fulham","Wandsworth","Islington","Harrow","Kingston-upon-Thames","Merton","Barnet","Richmond-upon-Thames","Ealing","Lambeth","Brent","Southwark","Hounslow"]
[null,null,null,"Kent","Kent County Council","c","c","Essex","West Sussex","Hampshire","Gloucestershire","Northamptonshire","Worcestershire","Warwickshire","Suffolk","Lancashire","East Sussex","Staffordshire","Nottinghamshire","Hertfordshire","Derbyshire","Norfolk"]
[null,null,null,"Kingston-upon-Thames","Royal Borough of Kingston-upon-Thames","ul","u","Sutton","Merton","Harrow","Richmond-upon-Thames","Bexley","Redbridge","Barnet","Bromley","Havering","Hounslow","Hillingdon","Wandsworth","Ealing","Croydon","Enfield"]
[null,null,null,"Lancashire","Lancashire County Council","c","c","Nottinghamshire","Staffordshire","Derbyshire","Cumbria","Kent","Northamptonshire","Warwickshire","Worcestershire","Lincolnshire","Gloucestershire","Suffolk","Essex","Norfolk","North Yorkshire","Devon"]
[null,null,null,"Leicester","Leicester City Council","uu","u","Luton","Nottingham","Coventry","Sandwell","Bradford","Wolverhampton","Derby","Blackburn with Darwen","Oldham","Salford","Rochdale","Kingston-upon-Hull","Bolton","Walsall","Peterborough"]
[null,null,null,"Leicestershire","Leicestershire County Council","c","c","Warwickshire","Gloucestershire","Staffordshire","Worcestershire","North Yorkshire","Suffolk","Nottinghamshire","Somerset","Buckinghamshire","Derbyshire","Hampshire","Oxfordshire","Northamptonshire","Devon","Essex"]
[null,null,null,"Lewisham","London Borough of Lewisham","ul","u","Greenwich","Lambeth","Southwark","Waltham Forest","Hackney","Haringey","Brent","Ealing","Hounslow","Tower Hamlets","Islington","Croydon","Newham","Enfield","Barking & Dagenham"]
[null,null,null,"Lincolnshire","Lincolnshire County Council","c","c","Norfolk","Derbyshire","Suffolk","Nottinghamshire","Cumbria","Worcestershire","Staffordshire","Somerset","Warwickshire","Gloucestershire","Devon","Lancashire","North Yorkshire","Northamptonshire","Leicestershire"]
[null,null,null,"Luton","Luton Borough Council","uu","u","Leicester","Coventry","Peterborough","Blackburn with Darwen","Oldham","Bradford","Sandwell","Rochdale","Bolton","Derby","Nottingham","Medway","Salford","Wolverhampton","Walsall"]
[null,null,null,"Manchester","Manchester City Council","um","u","Liverpool","Nottingham","Newcastle upon Tyne","Leicester","Kingston-upon-Hull","Salford","Southampton","Bristol","Blackpool","Brighton & Hove","Wolverhampton","Sheffield","Sandwell","Birmingham","Leeds"]
[null,null,null,"Medway","Medway Council","uu","u","Bolton","Bury","Derby","Kirklees","Stockton-on-Tees","Calderdale","Wrekin","Swindon","Rochdale","Oldham","Darlington","Dudley","Tameside","Wigan","Coventry"]
[null,null,null,"Merton","London Borough of Merton","ul","u","Sutton","Kingston-upon-Thames","Redbridge","Harrow","Hounslow","Ealing","Bexley","Wandsworth","Croydon","Barnet","Waltham Forest","Hillingdon","Enfield","Brent","Havering"]
[null,null,null,"Newcastle upon Tyne","Newcastle City Council","um","u","Nottingham","Gateshead","Salford","Sheffield","Liverpool","Coventry","Derby","Bolton","Plymouth","Stockton-on-Tees","Southampton","Stoke-on-Trent","Bristol","Dudley","Kingston-upon-Hull"]
[null,null,null,"Newham","London Borough of Newham","ul","u","Waltham Forest","Haringey","Brent","Barking & Dagenham","Lewisham","Greenwich","Hackney","Tower Hamlets","Southwark","Lambeth","Ealing","Hounslow","Enfield","Croydon","Redbridge"]
[null,null,null,"Norfolk","Norfolk County Council","c","c","Suffolk","Lincolnshire","Somerset","Derbyshire","Worcestershire","Cumbria","Gloucestershire","Nottinghamshire","Warwickshire","Staffordshire","North Yorkshire","Devon","Leicestershire","Northamptonshire","Lancashire"]
[null,null,null,"North East Lincolnshire","North East Lincolnshire Council","uu","u","Redcar & Cleveland","Hartlepool","Sunderland","South Tyneside","Blackpool","North Tyneside","Stoke-on-Trent","Plymouth","Doncaster","St Helens","Gateshead","Rotherham","Darlington","Wirral","Stockton-on-Tees"]
[null,null,null,"North Lincolnshire","North Lincolnshire Council","uu","u","Wakefield","Stockton-on-Tees","Rotherham","Wrekin","Doncaster","Calderdale","Warrington","Barnsley","Darlington","Gateshead","St Helens","Dudley","Halton","Cheshire West & Chester","Derby"]
[null,null,null,"North Somerset","North Somerset Council","uu","u","Bournemouth & Poole","Isle of Wight","East Riding of Yorkshire","Bath & North East Somerset","Cheshire East ","Herefordshire","Shropshire","South Gloucestershire","Northumberland","Wiltshire","Cornwall","Cheshire West & Chester","Stockport","Solihull","Sefton"]
[null,null,null,"North Tyneside","North Tyneside MBC","um","u","Plymouth","Sefton","Wirral","Redcar & Cleveland","Sunderland","South Tyneside","Darlington","Dudley","St Helens","Northumberland","North East Lincolnshire","Southend-on-Sea","Gateshead","Rotherham","Calderdale"]
[null,null,null,"North Yorkshire","North Yorkshire County Council","c","c","Somerset","Gloucestershire","Devon","Dorset","Warwickshire","Cumbria","Worcestershire","Leicestershire","Suffolk","Norfolk","Staffordshire","Derbyshire","Lincolnshire","East Sussex","West Sussex"]
[null,null,null,"Northamptonshire","Northamptonshire County Council","c","c","Nottinghamshire","Warwickshire","Staffordshire","Worcestershire","Suffolk","Gloucestershire","Derbyshire","Essex","Kent","Lancashire","Leicestershire","Buckinghamshire","Oxfordshire","Lincolnshire","Norfolk"]
[null,null,null,"Nottingham","Nottingham City Council","uu","u","Newcastle upon Tyne","Liverpool","Salford","Coventry","Kingston-upon-Hull","Wolverhampton","Leicester","Sheffield","Sandwell","Derby","Stoke-on-Trent","Gateshead","Bolton","Rochdale","Southampton"]
[null,null,null,"Nottinghamshire","Nottinghamshire County Council","c","c","Staffordshire","Derbyshire","Worcestershire","Warwickshire","Northamptonshire","Lancashire","Suffolk","Lincolnshire","Cumbria","Gloucestershire","Leicestershire","Norfolk","Essex","Somerset","Kent"]
[null,null,null,"Oldham","Oldham Metropolitan Borough Council","um","u","Rochdale","Bolton","Blackburn with Darwen","Walsall","Tameside","Sandwell","Derby","Stoke-on-Trent","Medway","Bradford","Salford","Bury","Knowsley","Wigan","Rotherham"]
[null,null,null,"Oxfordshire","Oxfordshire County Council","c","c","Buckinghamshire","Cambridgeshire","Gloucestershire","Warwickshire","Hampshire","Hertfordshire","West Sussex","Leicestershire","Worcestershire","Surrey","Northamptonshire","Essex","Suffolk","Somerset","North Yorkshire"]
[null,null,null,"Peterborough","Peterborough City Council","uu","u","Milton Keynes","Thurrock","Swindon","Coventry","Derby","Bolton","Wrekin","Rochdale","Medway","Luton","Bedford","Oldham","Salford","Calderdale","Bury"]
[null,null,null,"Plymouth","Plymouth City Council","uu","u","North Tyneside","Wirral","Sefton","Sunderland","Southampton","Bristol","Gateshead","Redcar & Cleveland","North East Lincolnshire","South Tyneside","Darlington","Dudley","St Helens","Derby","Southend-on-Sea"]
[null,null,null,"Portsmouth","Portsmouth City Council","uu","u","Southampton","Bristol","Brighton & Hove","Plymouth","Southend-on-Sea","North Tyneside","Newcastle upon Tyne","Coventry","Nottingham","Salford","Derby","Medway","Sefton","Bolton","Wirral"]
[null,null,null,"Reading","Reading Borough Council","uu","u","Milton Keynes","Thurrock","Peterborough","Swindon","Trafford","Slough","Bristol","Southampton","Bedford","Bracknell Forest","Warrington","Coventry","Newcastle upon Tyne","Medway","Luton"]
[null,null,null,"Redbridge","London Borough of Redbridge","ul","u","Croydon","Merton","Harrow","Ealing","Enfield","Sutton","Bexley","Hounslow","Waltham Forest","Barnet","Kingston-upon-Thames","Brent","Hillingdon","Havering","Haringey"]
[null,null,null,"Redcar & Cleveland","Redcar & Cleveland Borough Council","uu","u","North East Lincolnshire","Hartlepool","North Tyneside","Sunderland","South Tyneside","Wirral","St Helens","Plymouth","Sefton","Stockton-on-Tees","Darlington","Rotherham","Dudley","Gateshead","Barnsley"]
[null,null,null,"Richmond-upon-Thames","London Borough of Richmond-upon-Thames","ul","u","Kingston-upon-Thames","Bromley","Barnet","Harrow","Sutton","Merton","Bexley","Hillingdon","Havering","Redbridge","Wandsworth","Hounslow","Enfield","Croydon","Camden"]
[null,null,null,"Rochdale","Rochdale Metropolitan Borough Council","um","u","Oldham","Bolton","Tameside","Walsall","Salford","Stoke-on-Trent","Derby","Blackburn with Darwen","Sandwell","Halton","Rotherham","Wrekin","Wigan","Knowsley","Bury"]
[null,null,null,"Rotherham","Rotherham Metropolitan Borough Council","um","u","Doncaster","Barnsley","St Helens","Wakefield","Wigan","Stockton-on-Tees","Calderdale","Tameside","Dudley","Stoke-on-Trent","Wrekin","Darlington","Gateshead","Rochdale","Kirklees"]
[null,null,null,"Rutland","Rutland County Council","uu","u","Herefordshire","Wiltshire","Shropshire","Central Bedfordshire","Bath & North East Somerset","Cheshire East ","North Somerset","Cheshire West & Chester","West Berkshire","East Riding of Yorkshire","Solihull","Bedford","Isle of Wight","Cornwall","Wokingham"]
[null,null,null,"Salford","Salford City Council","um","u","Bolton","Rochdale","Tameside","Gateshead","Stoke-on-Trent","Newcastle upon Tyne","Halton","Nottingham","Oldham","Derby","Wigan","Kingston-upon-Hull","Coventry","Middlesbrough","St Helens"]
[null,null,null,"Sandwell","Sandwell Metropolitan Borough Council","um","u","Wolverhampton","Walsall","Rochdale","Oldham","Kingston-upon-Hull","Stoke-on-Trent","Middlesbrough","Derby","Bolton","Coventry","Blackburn with Darwen","Salford","Knowsley","Bradford","Tameside"]
[null,null,null,"Sefton","Sefton Metropolitan Borough Council","um","u","Wirral","North Tyneside","Northumberland","Southend-on-Sea","Plymouth","Torbay","Darlington","Redcar & Cleveland","Bournemouth & Poole","East Riding of Yorkshire","Dudley","Stockport","Calderdale","South Tyneside","St Helens"]
[null,null,null,"Sheffield","Sheffield City Council","um","u","Leeds","Coventry","Newcastle upon Tyne","Dudley","Kirklees","Derby","Bolton","Nottingham","Salford","Medway","Gateshead","Wakefield","Liverpool","Bristol","Plymouth"]
[null,null,null,"Shropshire","Shropshire Council","uu","u","Herefordshire","Cheshire East ","Cheshire West & Chester","Wiltshire","East Riding of Yorkshire","Bath & North East Somerset","Northumberland","Cornwall","Central Bedfordshire","North Somerset","Stockport","York","Isle of Wight","Calderdale","Solihull"]
[null,null,null,"Slough","Slough Borough Council","uu","u","Reading","Luton","Peterborough","Milton Keynes","Thurrock","Leicester","Swindon","Bracknell Forest","Coventry","Southampton","Bedford","Bristol","Bradford","Bolton","Oldham"]
[null,null,null,"Solihull","Solihull Metropolitan Borough Council","um","u","Cheshire East ","Bath & North East Somerset","Stockport","Cheshire West & Chester","Bedford","Trafford","Bournemouth & Poole","York","Warrington","Swindon","South Gloucestershire","North Somerset","Central Bedfordshire","Wiltshire","Shropshire"]
[null,null,null,"Somerset","Somerset County Council","c","c","Suffolk","Gloucestershire","North Yorkshire","Norfolk","Worcestershire","Dorset","Warwickshire","Devon","Leicestershire","Cumbria","Derbyshire","Lincolnshire","Staffordshire","Buckinghamshire","East Sussex"]
[null,null,null,"South Gloucestershire","South Gloucestershire Council","uu","u","North Somerset","Stockport","Swindon","Solihull","Central Bedfordshire","Warrington","Cheshire West & Chester","York","Bedford","Bath & North East Somerset","Bournemouth & Poole","East Riding of Yorkshire","Trafford","Cheshire East ","Northumberland"]
[null,null,null,"South Tyneside","South Tyneside Metropolitan Borough Council","um","u","Sunderland","Redcar & Cleveland","North Tyneside","Hartlepool","North East Lincolnshire","Wirral","Plymouth","Blackpool","Knowsley","St Helens","Sefton","Gateshead","Stoke-on-Trent","Rotherham","Tameside"]
[null,null,null,"Southampton","Southampton City Council","uu","u","Bristol","Portsmouth","Plymouth","Newcastle upon Tyne","Coventry","Nottingham","Brighton & Hove","Salford","North Tyneside","Derby","Sheffield","Swindon","Bolton","Sunderland","Gateshead"]
[null,null,null,"Southend-on-Sea","Southend-on-Sea Borough Council","uu","u","Sefton","Bournemouth & Poole","Wirral","Torbay","North Tyneside","Plymouth","Stockport","Darlington","Bristol","Derby","Calderdale","North Somerset","Dudley","Northumberland",0]
[null,null,null,"Southwark","London Borough of Southwark","ul","u","Lambeth","Hackney","Islington","Lewisham","Tower Hamlets","Greenwich","Haringey","Brent","Hammersmith & Fulham","Camden","Waltham Forest","Ealing","Hounslow","Wandsworth","Newham"]
[null,null,null,"St Helens","St Helens Metropolitan Borough Council","um","u","Rotherham","Barnsley","Wigan","Darlington","Stockton-on-Tees","Tameside","Doncaster","Wakefield","Gateshead","Dudley","Halton","Stoke-on-Trent","Calderdale","Knowsley","Wrekin"]
[null,null,null,"Staffordshire","Staffordshire County Council","c","c","Nottinghamshire","Derbyshire","Worcestershire","Warwickshire","Suffolk","Gloucestershire","Northamptonshire","Leicestershire","Cumbria","Lancashire","Essex","Norfolk","Lincolnshire","Somerset","North Yorkshire"]
[null,null,null,"Stockport","Stockport Metropolitan Borough Council","um","u","Warrington","Calderdale","Bury","Swindon","Dudley","York","Solihull","Darlington","Cheshire West & Chester","Medway","Cheshire East ","Bath & North East Somerset","Kirklees","Bedford","Sefton"]
[null,null,null,"Stoke-on-Trent","Stoke-on-Trent City Council","uu","u","Tameside","Gateshead","Rochdale","Doncaster","Knowsley","Salford","St Helens","Rotherham","Wigan","Kingston-upon-Hull","Bolton","Halton","Middlesbrough","Oldham","Sandwell"]
[null,null,null,"Suffolk","Suffolk County Council","c","c","Worcestershire","Norfolk","Warwickshire","Gloucestershire","Somerset","Derbyshire","Staffordshire","Nottinghamshire","Lincolnshire","Northamptonshire","Leicestershire","Cumbria","North Yorkshire","Essex","Buckinghamshire"]
[null,null,null,"Surrey","Surrey County Council","c","c","Cambridgeshire","Oxfordshire","Hertfordshire","Hampshire","West Sussex","Buckinghamshire","Gloucestershire","Essex","Warwickshire","Kent","North Yorkshire","Leicestershire","Dorset","Worcestershire","East Sussex"]
[null,null,null,"Sutton","London Borough of Sutton","ul","u","Bexley","Merton","Kingston-upon-Thames","Redbridge","Havering","Harrow","Hounslow","Hillingdon","Croydon","Barnet","Enfield","Bromley","Richmond-upon-Thames","Ealing","Wandsworth"]
[null,null,null,"Swindon","Swindon Borough Council","uu","u","Warrington","Medway","Thurrock","Peterborough","Milton Keynes","Bedford","Stockport","Stockton-on-Tees","Wrekin","Derby","Bury","Trafford","Calderdale","Bolton","Dudley"]
[null,null,null,"Tameside","Tameside Metropolitan Borough Council","um","u","Wigan","Bolton","Rochdale","Stoke-on-Trent","St Helens","Salford","Bury","Rotherham","Oldham","Halton","Gateshead","Doncaster","Knowsley","Wakefield","Darlington"]
[null,null,null,"Telford & Wrekin","Telford & Wrekin Council","uu","u","Stockton-on-Tees","Halton","Rotherham","Bolton","Medway","Rochdale","Bury","Calderdale","Wakefield","St Helens","Warrington","Derby","Darlington","Kirklees","Doncaster"]
[null,null,null,"Thurrock","Thurrock Borough Council","uu","u","Milton Keynes","Peterborough","Swindon","Trafford","Warrington","Reading","Wrekin","Stockton-on-Tees","Medway","Bolton","Bedford","Derby","Rochdale","North Lincolnshire","Coventry"]
[null,null,null,"Torbay","Torbay Council","uu","u","Bournemouth & Poole","Sefton","Southend-on-Sea","Isle of Wight","Wirral","North Tyneside","Northumberland","North Somerset","Darlington","East Riding of Yorkshire","Redcar & Cleveland","Plymouth","Stockport","Blackpool",0]
[null,null,null,"Tower Hamlets","London Borough of Tower Hamlets","ul","u","Hackney","Southwark","Lambeth","Islington","Lewisham","Greenwich","Haringey","Hammersmith & Fulham","Newham","Brent","Waltham Forest","Wandsworth","Ealing","Camden","Hounslow"]
[null,null,null,"Trafford","Trafford Metropolitan Borough Council","um","u","Swindon","Solihull","Warrington","Thurrock","York","Stockport","Milton Keynes","Bedford","South Gloucestershire","Cheshire West & Chester","Reading","Bristol","Peterborough","Stockton-on-Tees","Bath & North East Somerset"]
[null,null,null,"Waltham Forest","London Borough of Waltham Forest","ul","u","Hounslow","Haringey","Brent","Enfield","Ealing","Croydon","Lewisham","Greenwich","Newham","Redbridge","Barking & Dagenham","Merton","Lambeth","Southwark","Hillingdon"]
[null,null,null,"Wandsworth","London Borough of Wandsworth","ul","u","Hammersmith & Fulham","Merton","Lambeth","Ealing","Camden","Hounslow","Islington","Southwark","Sutton","Kingston-upon-Thames","Barnet","Croydon","Harrow","Lewisham","Redbridge"]
[null,null,null,"Warrington","Warrington Borough Council","uu","u","Swindon","Wrekin","Stockton-on-Tees","Calderdale","Cheshire West & Chester","Bury","Medway","Stockport","York","North Lincolnshire","Darlington","Wakefield","Bolton","Trafford","Kirklees"]
[null,null,null,"Warwickshire","Warwickshire County Council","c","c","Gloucestershire","Worcestershire","Suffolk","Staffordshire","Leicestershire","Nottinghamshire","Northamptonshire","Somerset","Derbyshire","North Yorkshire","Buckinghamshire","Essex","Oxfordshire","West Sussex","Hampshire"]
[null,null,null,"West Berkshire","West Berkshire Council","uu","u","Bracknell Forest","Central Bedfordshire","Wokingham","Windsor & Maidenhead","Bedford","Bath & North East Somerset","Solihull","Wiltshire","Cheshire East ","South Gloucestershire","Cheshire West & Chester","Milton Keynes","North Somerset","Rutland","Herefordshire"]
[null,null,null,"West Sussex","West Sussex County Council","c","c","East Sussex","Hampshire","Essex","Gloucestershire","Devon","Warwickshire","Kent","Worcestershire","Oxfordshire","Suffolk","North Yorkshire","Hertfordshire","Dorset","Somerset","Buckinghamshire"]
[null,null,null,"Westminster","Westminster City Council","ul","u","Kensington & Chelsea","Camden","Hammersmith & Fulham","Wandsworth","Islington","Lambeth","Southwark","Harrow","Ealing","Barnet","Merton","Brent","Kingston-upon-Thames","Haringey","Hounslow"]
[null,null,null,"Wiltshire","Wiltshire Council","uu","u","Cheshire East ","Central Bedfordshire","Shropshire","Herefordshire","Cheshire West & Chester","Bath & North East Somerset","North Somerset","Bedford","Cornwall","East Riding of Yorkshire","Solihull","Rutland","Stockport","West Berkshire","South Gloucestershire"]
[null,null,null,"Windsor & Maidenhead","Royal Borough of Windsor & Maidenhead","uu","u","Wokingham","West Berkshire","Bracknell Forest","Solihull","Bath & North East Somerset","Central Bedfordshire","Bedford","Cheshire East ","Wiltshire","Rutland","North Somerset","Milton Keynes","Cheshire West & Chester","Herefordshire","Trafford"]
[null,null,null,"Wirral","Metropolitan Borough of Wirral","um","u","Sefton","North Tyneside","Plymouth","Northumberland","Southend-on-Sea","Dudley","Redcar & Cleveland","Darlington","South Tyneside","Sunderland","St Helens","Calderdale","North East Lincolnshire","Rotherham","Bury"]
[null,null,null,"Wolverhampton","Wolverhampton City Council","um","u","Sandwell","Walsall","Kingston-upon-Hull","Rochdale","Derby","Coventry","Middlesbrough","Stoke-on-Trent","Oldham","Salford","Nottingham","Bolton","Knowsley","Dudley","Doncaster"]
[null,null,null,"Worcestershire","Worcestershire County Council","c","c","Warwickshire","Gloucestershire","Suffolk","Staffordshire","Derbyshire","Nottinghamshire","Somerset","Norfolk","Northamptonshire","Leicestershire","Essex","North Yorkshire","Cumbria","Lincolnshire","West Sussex"]
[null,null,null,"York","City of York Council","uu","u","Cheshire West & Chester","Warrington","Stockport","Bath & North East Somerset","Swindon","Solihull","Cheshire East ","Trafford","Calderdale","South Gloucestershire","Shropshire","Darlington","Bedford","Bournemouth & Poole","North Lincolnshire"]
[]
[null,null,null,"ChartData"]
[null,null,null,"(P.02)[01]Total Service Points","(P.02)[02]Total Service Points per 100,000 population","(P.02)[03]Issues per annum","(P.02)[04]Visits per annum","(P.03)[01]Percentage of total scheduled opening hours per week staffed","(P.03)[02]Percentage of total scheduled opening hours per week unstaffed","(P.03)[03]Libraries Permanently closed ","(P.03)[04]Libraries Opened","(P.03)[05]Net Openings/Closures","(P.04)[01]Mobile libraries per 100,000 population","(P.05)[01]Total Opening Hours at the\nBusiest Service (Issues)","(P.05)[02]Total Opening Hours at the\nBusiest Service (Visits)","(P.06)[01]Number of Active Borrowers","(P.06)[02]Number of Housebound Readers","(P.06)[03]Physical Visits for Library Purposes","(P.07)[01]Percentage of Service Points with Electronic Counters","(P.07)[02]Visits to Website per 1,000 population","(P.08)[01]Number of Devices per 100,000 population","(P.08)[02]Number of Hours Available per 1,000 population","(P.08)[03]Number of Hours Recorded per 1,000 population","(P.08)[04]Percentage of Service Points with Public Wi-Fi Access","(P.08)[05]Number of hours recorded usage of public access Wi-Fi per 1,000 population"]
[null,null,null,"SectionA","SectionA","SectionA","SectionA","SectionA","SectionA","SectionA","SectionA","SectionA","SectionA","SectionA","SectionA","SectionA","SectionA","SectionA","SectionA","SectionA","SectionA","SectionA","SectionA","SectionA","SectionA"]
[null,null,null,"#,##0","#,##0","#,##0","#,##0","0%","0.0%","#,##0.00","#,##0.00","#,##0.00","#,##0.00","#,##0","#,##0","#,##0","#,##0","#,##0","0%","#,##0","#,##0","#,##0","#,##0","0%","#,##0"]
[null,null,null,6,2.8301886792452833,103426,609724,1,0,0,0,0,0,72,72,64.669811320754718,0.65566037735849059,5198.1603773584902,1,241.04245283018867,58.490566037735846,1556.3242924528302,417.89504716981133,1,"na"]
[null,null,null,15,3.8255547054322872,119201,359950,0.39670738183749338,0.60329261816250668,0,0,0,0.2550369803621525,92,92,137.94950267788829,1.4027033919918388,2217.8015812292783,0.82352941176470584,938.06171894924762,42.336138740117313,1214.305024228513,99.737311910226978,0.93333333333333335,"na"]
[null,null,null,7,4.0792540792540795,269256,283487,0.66088009689140093,0.33911990310859913,0,0,0,1.1655011655011656,60,60,95.110722610722618,0.96153846153846156,2819.2191142191141,0.7142857142857143,30511.783216783217,43.706293706293707,1042.4242424242425,260.90909090909093,0.7142857142857143,50.833333333333336]
[null,null,null,6,2.4262029923170241,183022,279571,1,0,0,0,0,0,52,52,140.59037606146381,0.84108370400323484,3713.788920339668,0.5,1232.013748483623,52.972098665588355,1176.4496562879094,453.61099878689851,1,"na"]
[null,null,null,5,3.3579583613163195,169362,214050,1,0,0,0,0,0,41,41,67.333781061114834,1.1282740094022834,1958.8650100738751,0.2,3649.8925453324377,71.188717259905971,1168.9053055742108,207.33378106111485,1,"na"]
[null,null,null,8,5.7430007178750895,96634,151334,0.90468227424749159,9.5317725752508367E-2,0,0,0,0,46,46,109.28930366116295,0.64608758076094752,4010.3876525484561,0.875,1086.6044508255563,82.55563531945441,1594.5585068198131,550.44508255563528,1,"na"]
[null,null,null,10,3.5038542396636307,154384,412422,1,0,0,0,0,0,65,65,80.749824807288022,0.78836720392431681,3305.2382620882972,1,214.95795374912404,70.777855641205335,1342.9397337070779,379.89838822704979,1,389.53749124036443]
[null,null,null,22,6.362058993637941,136455,221469,1,0,0,0,0,0,53,52,149.85251590514747,1.9809138230190861,4326.7004048582994,1,1892.3944476576055,66.512434933487569,1127.0661654135338,363.68542510121455,1,"na"]
[null,null,null,"..","na","..","..","..","..","..","..","na",0,"na","na","na","na","na","na","na","na","na","na","na","na"]
[null,null,null,6,1.8137847642079805,171882,1606077,0.97333333333333338,2.6666666666666668E-2,0,0,0,0,69,74,107.59371221281741,0.52902055622732769,7574.0689238210398,1,1709.6644498186215,56.529625151148736,1406.4359129383313,555.73001813784765,1,"na"]
[null,null,null,14,4.8209366391184574,316680,922146,0.51665981077745793,0.48334018922254218,0,0,0,0,54,54,114.32162534435263,0.32713498622589532,4949.4352617079894,1,5686.969696969697,76.446280991735534,1736.4841597796144,386.68044077134988,1,"na"]
[null,null,null,27,5.8264997842037118,349019,400596,0.86570743405275774,0.1342925659472422,0,0,0,0,45,45,145.88476478204575,0.70565386275356068,2966.5084160552442,0.96296296296296291,725.65602071644366,50.927924039706518,834.19939577039281,304.51877427708246,1,"na"]
[null,null,null,14,4.2283298097251585,331702,384646,0.93539823008849554,6.4601769911504431E-2,0,0,0,0,52,52,125.19178495922681,0.61310782241014794,4017.1790999697973,1,1318.8734521292661,48.021745696164295,1105.330715795832,421.04500151011774,1,"na"]
[null,null,null,29,5.3693760414738012,133660,174551,1,0,4,0,-4,0,46,43,92.079244584336223,0.640622107017219,2094.1122014441771,0.93103448275862066,1455.2860581373818,31.29050175893353,548.305869283466,189.39085354563969,1,"na"]
[null,null,null,4,2.1041557075223567,92993,122600,1,0,0,0,0,0,29.5,29.5,96.84902682798527,0.86796422935297213,1699.6317727511837,0.5,1033.3824302998423,49.447659126775385,688.3640189374014,238.8374539715939,1,817.32451341399269]
[null,null,null,22,10.471204188481675,140316,221250,1,0,0,0,0,0,45.3,45.3,98.938600666349359,1.7372679676344598,2565.6830080913851,9.0909090909090912E-2,1282.370299857211,100.90433127082341,1600.0904331270824,332.49405045216565,1,"na"]
[null,null,null,35,5.3722179585571759,363088,457790,0.99187021245844775,8.1297875415522469E-3,0,1,1,0.46047582501918649,55.5,55.5,108.07214121258635,2.1565617805065234,2930.1013046815042,0.57446808510638303,686.34996162701464,44.359171143514963,841.53798925556407,184.7014581734459,0.91428571428571426,"na"]
[null,null,null,9,3.4324942791762014,72720,256317,1,0,0,0,0,0,54,54,61.117467581998476,0.4996186117467582,4468.3028222730745,0.88888888888888884,254.43554538520215,71.700991609458427,1615.58352402746,771.57513348588861,1,1179.4012204424105]
[null,null,null,12,4.2313117066290546,153658,138971,0.90503875968992253,9.4961240310077522E-2,1,1,0,0,43,43,83.367418899858947,1.2588152327221438,2914.0197461212974,0.92307692307692313,18461.995768688292,51.128349788434413,897.09449929478126,136.75952045133991,1,73.56488011283497]
[null,null,null,17,4.4642857142857144,296565,210252,1,0,0,0,0,0.26260504201680668,50,50,155.09453781512605,0.48319327731092437,3789.6875,0.83333333333333337,738.16964285714289,42.279411764705884,676.81722689075627,183.20378151260505,0.88235294117647056,"na"]
[null,null,null,23,6.7547723935389135,212943,821579,0.95936507936507931,4.0634920634920635E-2,0,0,0,0.29368575624082233,103.5,103.5,147.19236417033773,0.23494860499265785,5435.3039647577089,0,758.41703377386193,39.060205580029368,893.95888399412627,210.31130690161527,0.95652173913043481,"na"]
[null,null,null,16,4.3620501635768809,221054,356583,1,0,0,0,0,0,61.5,61.5,70.826063249727369,0.49073064340239914,3347.339149400218,0.94117647058823528,151.84569247546347,55.888767720828788,1171.7339149400218,425.49618320610688,1,350.12813522355503]
[null,null,null,13,3.3739942901635089,183544,910704,1,0,0,0,0,0,53.5,53.5,80.846093952764079,0.57098364910459376,4503.9138333765895,1,394.91305476252268,52.686218531014795,952.63431092655071,433.29872826369063,1,"na"]
[null,null,null,37,7.4163158949689318,249492,"na",0.93588560885608851,6.4114391143911445E-2,3,0,-3,0,55.5,"na",139.82561635598316,0.70354780517137705,2494.2132691922229,"na",418.99378632992585,53.317298055722596,1046.8742633794348,247.38622970535181,1,"na"]
[null,null,null,2,1.876172607879925,204652,186769,1,0,0,0,0,0,49,49,90.225140712945603,0.56285178236397748,2169.0337711069419,0.5,417.38273921200755,47.842401500938088,1076.5196998123829,196.05065666041276,1,"na"]
[null,null,null,12,4.6656298600311041,68960,126059,0.86827921651110818,0.1317207834888918,1,1,0,0,26,46.5,105.55598755832038,0.68429237947122867,1491.8506998444791,0.8,322.02566096423021,48.211508553654745,609.94945567651632,414.88724727838257,1,"na"]
[null,null,null,54,6.789890607317993,370907,560688,0.9366780154306581,6.3321984569341877E-2,0,0,0,0.50295485980133292,58,58,113.41632088520056,1.1354205960015089,3241.2800201181944,0.85185185185185186,1185.5614233622532,52.055827989437951,985.28857035081103,226.09329812649315,0.90740740740740744,421.62831635860687]
[null,null,null,26,6.0961313012895664,161886,210124,0.96580417189102929,3.4195828108970705E-2,0,0,0,0.23446658851113714,45,45,143.68581477139509,2.9237983587338805,3562.3259085580303,0.73529411764705888,292.26025791324736,46.658851113716295,700.8769050410317,185.04806565064479,0.96153846153846156,"na"]
[null,null,null,"..","na","..","..","..","..","..","..","na",0,"na","na","na","na","na","na","na","na","na","na","na","na"]
[null,null,null,16,4.9906425452276979,220643,230240,0.84348496530454897,0.15651503469545103,0,0,0,0,50,50,113.49344978165938,1.7747972551466,2838.5651902682466,0.75,162.79787897691827,55.520898315658144,1118.3686837180287,419.31378665003115,1,"na"]
[null,null,null,42,7.9696394686907022,151048,365268,1,0,0,0,0,0.37950664136622392,55.5,55.5,106.57495256166983,0.63946869070208734,2567.7874762808351,0,317.79886148007591,50.284629981024665,798.39468690702085,326.72296015180268,0.9285714285714286,"na"]
[null,null,null,14,4.0935672514619883,62127,161515,1,0,0,0,0,0,57,57,83.131578947368425,2.9122807017543861,3161.5701754385964,0.9285714285714286,152.89473684210526,59.941520467836263,1226.7017543859649,370.55555555555554,0.9285714285714286,"na"]
[null,null,null,17,3.0652722683014786,149825,227182,0.99396378269617702,6.0362173038229373E-3,9,0,-9,0,39,39,91.541651640822209,0.28308690948431303,1925.5625676162999,1,1355.3678326721961,49.044356292823657,670.86909484313014,233.96501983411466,1,66.945546339704293]
[null,null,null,17,5.0913447139862242,161674,461400,1,0,0,0,0,0.29949086552860138,62.5,56.5,76.211440551063191,0.61695118298891893,4144.4174902665472,0.88888888888888884,491.13207547169816,76.669661575321953,1785.8460616951184,478.79305181191978,0.88235294117647056,"na"]
[null,null,null,77,5.210447963188523,317724,579550,1,0,0,2,2,0.13533631073216945,59,48,155.39450534578427,0.60292326431181487,3250.5988631749901,0.94805194805194803,2890.09608878062,46.082013804303692,836.31172689132495,230.71690350521047,0.94805194805194803,"na"]
[null,null,null,8,3.9506172839506171,235856,"na",1,0,0,0,0,0,52,52,154.49382716049382,1.5456790123456789,4522.5827160493827,0,684.36049382716044,66.666666666666657,1547.204938271605,359.66913580246916,1,"na"]
[null,null,null,32,5.0505050505050502,158361,313186,0.96344969199178643,3.6550308008213551E-2,1,0,-1,0.15782828282828282,54,54,104.47127525252525,1.1963383838383839,3160.8585858585857,0.77500000000000002,418.78787878787875,37.878787878787875,724.58806818181813,254.23295454545453,1,"na"]
[null,null,null,12,4.1928721174004195,211471,1226105,1,0,0,0,0,0,57.5,57.5,112.08595387840671,0.95737246680642907,8880.6079664570243,1,424.30468204053113,83.857442348008391,2611.8798043326346,842.28511530398328,1,988.91334730957374]
[null,null,null,8,2.8602073650339652,122081,510747,1,0,0,0,0,0,61,61,127.96925277082589,3.0175187701108332,5849.7819091884166,1,2319.3528780836614,85.448695030389715,1994.8838040757955,1636.3639613872006,1,"na"]
[null,null,null,4,3.1152647975077881,135718,196769,1,0,0,0,0,0,45.5,45.5,191.81464174454828,0.78660436137071643,3494.1433021806852,0.5,1387.9984423676012,63.862928348909655,968.02959501557632,237.71806853582552,1,"na"]
[null,null,null,4,2.1574973031283711,111749,"na",1,0,0,0,0,0,60,"na",160.11326860841424,1.0302049622437972,5460.3344120819847,1,859.6925566343042,62.567421790722754,1790.8144552319309,570.96548004314991,1,"na"]
[null,null,null,52,3.7782460219428904,239533,595855,1,0,0,0,0,0,62,62,122.17467121993752,0.5892610622684008,3397.0573276175255,0.98113207547169812,1233.2006103320498,24.921892029354069,548.01351449538618,200.40252851849161,1,61.683644554239628]
[null,null,null,9,3.325942350332594,128949,555834,1,0,0,0,0,0,64,64,94.386548410938644,0.69105691056910568,5182.9120473022904,1,532.7198817442719,65.040650406504056,1972.6829268292681,545.24759793052476,1,"na"]
[null,null,null,6,2.3990403838464616,113627,196750,1,0,0,0,0,0,62,62,85.393842463014792,1.5393842463014795,2823.8184726109557,1,188.54858056777289,23.590563774490207,425.24590163934425,264.17033186725308,1,135.20191923230709]
[null,null,null,10,3.8789759503491075,104053,287105,1,0,0,0,0,0,50,50,83.052754072924742,0.23661753297129556,4351.6291698991463,1,2559.7439875872769,50.426687354538402,862.14895267649342,330.74100077579516,1,330.8468968192397]
[null,null,null,11,5.7261842790213429,147900,145136,1,0,0,0,0,0,38,38,86.184279021343059,0.7600208224882874,2392.9672045809475,0.90909090909090906,796.99115044247787,34.357105674128057,588.39146277980217,127.24622592399793,0.90909090909090906,"na"]
[null,null,null,48,4.0526849037487329,180787,268415,0.97815464213854553,2.1845357861454442E-2,0,0,0,0,52,52.5,122.14539007092198,0.43904086457277941,2984.3431273218507,0.97916666666666663,1858.2480580884835,43.144208037825052,790.62901046943591,181.43532590341098,1,"na"]
[null,null,null,11,4.0620384047267351,173985,168634,1,0,0,0,0,0,57.5,56,103.00960118168389,1.8242245199409157,2582.5812407680946,0,118.39364844903987,40.989660265878875,1058.8921713441655,388.66691285081237,1,"na"]
[null,null,null,8,5.6537102473498235,117190,214275,1,0,0,0,0,1.4134275618374559,50,42,93.505300353356887,0.79151943462897523,4283.2791519434631,0.46153846153846156,978.14840989399295,74.911660777385151,773.33568904593642,183.85865724381625,0.75,"na"]
[null,null,null,10,4.1823504809703049,179742,253429,1,0,0,0,0,0,58,58,117.17691342534505,0.92848180677540781,4457.1267252195739,1,931.51819322459221,54.370556252613966,1164.1321622751987,515.73818485989125,1,"na"]
[null,null,null,6,3.8412291933418699,218276,296383,1,0,0,0,0,0,54,54,186.15236875800258,1.4084507042253522,5129.8335467349552,1,517.03585147247122,88.988476312419991,1865.6658130601793,532.33674775928296,1,"na"]
[null,null,null,104,6.6301160270304731,144931,250897,0.95993879538183335,4.0061204618166646E-2,0,0,0,0.31875557822261891,55,55,94.127884737982924,1.4171873007777638,2990.3665689149561,0.60576923076923073,593.95766925921203,41.501976284584984,924.78810404182082,271.0800586510266,0.95192307692307687,"na"]
[null,null,null,7,3.9886039886039883,122549,124015,0.99351701782820101,6.4829821717990272E-3,0,0,0,0,43.5,43.5,111.89173789173789,0.96866096866096862,3135.2991452991455,1,941.16239316239319,53.561253561253565,1062.2217473884141,266.36324786324792,1,"na"]
[null,null,null,68,5.6193702999752091,169331,298862,1,0,0,4,4,0.49582679117428313,55,55,126.76307743161723,0.89083546814312875,2999.6116023469135,0.8529411764705882,1309.4372365920174,67.92827039087679,1350.2093793901331,372.76316282400899,0.91176470588235292,"na"]
[null,null,null,16,4.5045045045045047,111947,292524,1,0,0,0,0,0.56306306306306309,52.5,52.5,183.24887387387389,0.19707207207207209,5119.7832207207211,0.84210526315789469,296.99887387387389,47.86036036036036,466.59065315315314,481.05292792792795,1,279.55518018018017]
[null,null,null,23,3.2937133037376491,153786,194300,0.63237021376556257,0.36762978623443743,0,0,0,0.42961477874838899,65,38,88.258628096806532,0.25633681798653873,1828.9732206787914,0.29629629629629628,261.05971645424603,42.818272948589438,935.52198195617939,134.46429423838848,1,"na"]
[null,null,null,13,4.2833607907743003,133637,357181,1,0,0,0,0,0,84,80,75.598023064250413,1.0115321252059308,6631.6606260296539,0.92307692307692313,2517.1861614497529,42.833607907743001,1262.9555189456344,517.81219110378913,0.92307692307692313,"na"]
[null,null,null,22,2.9108229690394287,203487,225145,1,0,0,0,0,0.92617094469436367,48,48,72.062715003969302,1.0492193702037578,2031.676369409897,0.26315789473684209,637.1235776660493,27.520508070918233,613.36332363059012,169.35300344006353,0.68181818181818177,"na"]
[null,null,null,6,2.8024287716020551,187624,289568,1,0,0,0,0,0,59.5,59.5,73.409621672115833,0.9434843531060253,2474.9089210649231,1,960.77533862680991,50.443717888836993,1321.2517515179823,341.55067725361982,0.83333333333333337,"na"]
[null,null,null,16,2.9218407596785974,192086,1891135,0.83204845814977979,0.16795154185022027,0,0,0,0,65,65,133.40211833455075,0.90029218407596778,5899.6475529583631,0.72727272727272729,15695.98612125639,104.82103725346967,2332.0854638422206,718.66532748965176,1,934.30788897005107]
[null,null,null,17,6.1173083843109035,155230,169074,1,0,0,0,0,0.71968333933069462,35,35,113.0478589420655,0.7196833393306945,3824.3181000359846,0.88235294117647056,600.71608492263408,52.896725440806044,1149.2011514933431,333.05865419215547,0.88235294117647056,152.41093918675784]
[null,null,null,7,3.3947623666343358,154796,354471,1,0,0,0,0,0,55,55,347.46847720659554,1.4742967992240543,5453.9912706110572,1,1137.1774975751698,75.169738118331722,1714.8482056256064,680.7178467507274,1,1714.8496605237635]
[null,null,null,13,4.3304463690872756,180484,649652,1,0,0,0,0,0,45,45,65.516322451698869,0.52631578947368418,2420.3897401732179,5.5555555555555552E-2,1949.6302465023318,97.268487674883417,1644.4636908727516,312.68487674883414,1,1549.1205862758161]
[null,null,null,10,2.8409090909090908,155772,428604,1,0,0,0,0,0,70.5,70.5,102.01420454545455,3.4090909090909088E-2,4898.6875,1,617.42613636363637,51.136363636363633,1376.6448863636363,743.3267045454545,1,735.7357954545455]
[null,null,null,55,6.086090516764413,950384,873441,0.55321694948172329,0.44678305051827671,0,0,0,0.88524952971118731,"na","na",130.48578067942901,0.67168308066836335,3481.3677105234037,0.8545454545454545,13559.625982073696,40.610822175500715,1747.8542879274094,419.84580059754342,0.8545454545454545,"na"]
[null,null,null,4,2.5031289111389237,75701,97535,1,0,0,0,0,0,40,40,46.188986232790988,0.86983729662077591,1594.6433041301625,0.44444444444444442,224.88735919899872,23.779724655819773,476.96495619524404,132.62828535669587,1,"na"]
[null,null,null,16,9.3023255813953494,81465,106488,0.9527744982290437,4.7225501770956316E-2,0,0,0,0.58139534883720934,47,47,64.674418604651166,0.51744186046511631,1852.203488372093,0.1875,73.610465116279073,41.279069767441861,895.79069767441865,126.13953488372093,0.9375,"na"]
[null,null,null,12,5.6100981767180924,115340,223858,0.6377506538796861,0.36224934612031384,1,0,-1,0.46750818139317435,34.5,54.5,140.56568489948575,1.0612435717625057,3191.505376344086,1,694.82935951379147,42.543244506778862,1351.810752688172,312.5509116409537,1,"na"]
[null,null,null,16,7.7669902912621351,106531,468103,1,0,0,0,0,0.97087378640776689,46.5,46.5,147,0.46116504854368934,5180.6310679611652,0.875,106.16990291262135,91.262135922330103,1299.1978155339805,504.13592233009706,0.875,"na"]
[null,null,null,44,7.1602929210740438,274471,230311,1,0,0,0,0,0.16273393002441008,55,55,107.82750203417413,2.6606997558991048,3437.6908055329536,1,699.25305126118792,59.560618388934095,1195.1781936533766,307.82912937347436,0.97727272727272729,"na"]
[null,null,null,36,4.815409309791332,95897,230218,1,0,0,0,0,0,53,53,66.50080256821829,0.54708400214018194,2595.9991974317818,0.86111111111111116,724.19475655430711,21.535580524344571,476.45666131621186,92.623060460139115,1,"na"]
[null,null,null,15,4.530353367562669,161813,354025,1,0,0,1,1,0,59.5,59.5,153.22863183328298,0.70673512533977645,3041.6158260344305,0,1690.9211718514043,64.935064935064929,1322.842041679251,657.5143461189972,1,1152.9175475687102]
[null,null,null,63,7.6539910095978616,281684,238069,1,0,0,0,0,0.36447576236180296,55,55,149.09245535171911,0.53091969384035964,3092.13582796744,0.8571428571428571,1211.2744502490584,59.895516948122953,1018.5542461426315,261.67294374924069,0.92063492063492058,197.73053091969385]
[null,null,null,12,5.0933786078098473,181855,540529,1,0,0,0,0,0,66,66,89.248726655348051,0.11035653650254669,5414.0874363327675,0.66666666666666663,166.01018675721562,113.7521222410866,2471.3794567062819,708.446519524618,1,72.784380305602724]
[null,null,null,43,6.254545454545454,422482,562769,0.80407763423743339,0.19592236576256658,0,0,0,0,61,61,120.28945454545455,1.4618181818181819,3581.570909090909,0.53488372093023251,5449.2858181818183,50.18181818181818,1197.9680000000001,263.77309090909091,1,"na"]
[null,null,null,11,5.4726368159203984,96710,141706,0.31426489342321007,0.68573510657678993,0,0,0,0.49751243781094528,55.8,55.8,129.55721393034827,1.691542288557214,1735.0796019900497,0.90909090909090906,699.53731343283584,58.706467661691541,1407.7363184079602,364.44462686567164,0.90909090909090906,"na"]
[null,null,null,12,4.5610034207525647,148169,269388,1,0,0,0,0,0,57.5,57.5,106.76168757126567,0.28886354998099578,2906.1687571265675,0,5980.5359179019379,51.691372101862413,1345.9179019384264,453.70201444317746,0.91666666666666663,"na"]
[null,null,null,10,4.6490004649000465,80710,275572,1,0,0,0,0,0.46490004649000466,53,53,86.503951650395166,0.27429102742910277,4471.3435611343566,0.8,565.17898651789869,71.594607159460722,1446.3505346350535,382.45002324500234,1,"na"]
[null,null,null,8,4.9019607843137258,196546,246243,1,0,0,0,0,0.61274509803921573,37,37,93.615196078431381,2.5857843137254903,2812.4754901960787,0.875,106.60539215686275,39.828431372549019,680.47794117647061,261.69730392156862,0.875,285.64338235294122]
[null,null,null,13,4.2777229351760457,247606,651295,1,0,0,0,0,0.32905561039815728,59.5,59.5,123.46166502138863,4.1822968081605794,5710,0.76923076923076927,780.56597564988488,64.494899638038845,1630.2698256005267,599.64132938466605,0.76923076923076927,780.56597564988488]
[null,null,null,14,10.241404535479152,49994,156739,1,0,0,0,0,0.73152889539136801,47,47,77.315288953913679,0.29261155815654721,3392.3847841989759,0.9285714285714286,3.1089978054133143,94.367227505486468,1550.9729334308706,345.01097293343088,0.9285714285714286,"na"]
[null,null,null,13,6.6023362112747588,161755,246540,1,0,0,0,0,0,54.5,54.5,170.07618080243779,0.79735906551549007,6978.9436262061954,0.92307692307692313,1447.1254443880141,68.562722194007108,1458.5119349923818,429.50736414423562,0.92307692307692313,"na"]
[null,null,null,17,7.7272727272727266,64664,307114,1,0,0,0,0,0,52,52,135.15909090909091,0.9363636363636364,2946.0181818181818,0.82352941176470584,466.54545454545456,117.72727272727272,1125.6500000000001,388.6,0.94117647058823528,388.6]
[null,null,null,16,6.0445787684170762,79403,176996,1,0,0,0,0,0.37778617302606726,55,55,78.024178315073669,1.2504722327162827,2328.6248583301854,"na",169.83377408386855,57.045712126936152,1214.6467699282207,366.36569701548927,0.9375,"na"]
[null,null,null,5,12.594458438287154,103254,58861,1,0,0,0,0,2.5188916876574305,44,44,131.46095717884131,0.15113350125944583,2376.5239294710327,0.6,728.58942065491181,80.604534005037777,887.15365239294704,435.56675062972289,0.8,"na"]
[null,null,null,16,6.2893081761006293,115812,"na",0.97435897435897434,2.564102564102564E-2,0,0,0,0,25,"na",79.752358490566039,1.941823899371069,2087.8577044025155,"na",455.5503144654088,81.76100628930817,1976.1713836477986,650.94339622641508,1,"na"]
[null,null,null,20,6.1087354917532073,97081,155964,1,0,3,1,-2,0.30543677458766039,49.5,49.5,86.401954795357369,1.8478924862553452,3885.8399511301163,0.79166666666666663,459.87171655467324,109.34636530238242,1308.9859499083691,493.48808796579112,0.95,220.1588271227856]
[null,null,null,6,2.1786492374727668,211889,234862,1,0,0,0,0,0,42,42,116.85548293391432,0.47930283224400877,3304.0595497458244,1,608.11909949164851,44.299201161946264,725.85330428467694,432.50544662309369,1,114.37908496732027]
[null,null,null,12,2.0600858369098711,235886,385424,1,0,0,0,0,0,45,45,72.255793991416311,1.0472103004291846,1763.9330472103004,0.42857142857142855,150.24034334763948,28.841201716738198,497.60343347639486,213.96909871244634,1,"na"]
[null,null,null,24,7.4929753356228534,142853,174645,0.98463751518791109,1.536248481208888E-2,0,0,0,0.93662191695285668,46,45,88.954105526069313,0.25913206369029035,2884.8329690914766,0.79166666666666663,544.07430533874492,37.777083983765216,642.02310334061815,180.59631595379332,0.83333333333333337,"na"]
[null,null,null,4,2.6827632461435278,167494,348520,1,0,0,0,0,0,59,59,124.48692152917505,0.1341381623071764,3916.8544600938967,1,417.3038229376258,56.338028169014088,1244.2186452045607,514.67525150905431,1,"na"]
[null,null,null,14,6.5146579804560263,151422,158014,1,0,0,0,0,0.46533271288971617,56,56,94.574220567705908,0.981852024197301,2661.26570497906,0.5714285714285714,486.9892973476035,74.918566775244301,1103.5086086551885,308.79478827361561,0.9285714285714286,506.24476500698]
[null,null,null,33,5.8991776903825528,328226,296622,1,0,2,0,-2,0.17876296031462283,49.5,49.5,127.23453700393279,1.3925634608509116,3091.5248480514838,0.66666666666666663,1015.427243475152,38.434036467643907,685.65784769395782,214.77297104040045,0.96969696969696972,293.62531283518058]
[null,null,null,13,4.6001415428167016,165869,112152,0.40224032586558045,0.59775967413441955,0,0,0,0,86.2,86.2,136.76220806794055,2.1054493984430289,2613.113941967445,0.92307692307692313,563.2059447983014,62.986553432413295,2314.1932059447981,374.81068648266097,1,"na"]
[null,null,null,4,2.6613439787092479,162627,"na",1,0,0,0,0,0,60,60,161.23752495009978,1.5968063872255487,4807.1922821024618,"na",153.39986693280105,67.86427145708582,1093.0805056553559,454.65069860279436,1,580.99800399201592]
[null,null,null,11,4.3512658227848098,146513,244436,1,0,0,0,0,0,44.5,48,99.410601265822777,0.35205696202531644,3155.118670886076,0.63636363636363635,1292.8164556962024,55.775316455696199,647.72151898734171,452.42088607594934,1,"na"]
[null,null,null,7,3.8356164383561646,"na",660298,1,0,0,0,0,0.54794520547945202,69,69,345.74794520547943,0.28493150684931506,5269.2,"na",584.34520547945203,55.342465753424655,901.1232876712329,207.18356164383562,0.8571428571428571,"na"]
[null,null,null,11,3.4667507091080996,264775,435617,0.98661567877629064,1.338432122370937E-2,0,0,0,0,74,74,147.68988339111252,0.68389536716041599,6270.0724866057353,1,5623.356445004727,54.207374724235734,1508.5880869839268,792.99716356760166,1,2505.5121336274819]
[null,null,null,12,6.666666666666667,54988,55553,1,0,0,0,0,0,34,34,133.51666666666668,0.75,2490.1888888888889,1,762.52777777777783,71.666666666666671,1187.2222222222222,267.16666666666669,1,"na"]
[null,null,null,46,5.2559414990859228,144859,276156,1,0,0,0,0,0.34277879341864714,51,51,81.189442413162695,0.25708409506398539,3123.070155393053,0.95652173913043481,729.02079524680073,48.903107861060327,1073.9271023765996,259.22760511882996,0.91304347826086951,180.73601462522851]
[null,null,null,16,5.4832076764907471,97721,121028,0.97140587768069897,2.8594122319301033E-2,0,0,0,0,51,51,103.53666895133652,1.13776559287183,2641.525017135024,0.875,662.57368060315287,60.657984921178887,1105,364.36943111720353,1,163.25565455791639]
[null,null,null,6,2.3455824863174355,139344,152514,1,0,0,0,0,0,48,48,79.52306489444878,0.6919468334636435,1812.8694292415948,1,1192.9476153244723,65.67630961688819,1361.9663799843627,505.69976544175137,1,"na"]
[null,null,null,48,6.3274452939625618,152960,352056,1,0,0,0,0,0.39546533087266011,29.5,61,100.83179541260216,0.79356709728447139,3809.1642499340892,0.41666666666666669,892.63907197469018,49.696809912997622,1227.3055628789875,566.74927498022669,0.91666666666666663,421.97469021882415]
[null,null,null,53,4.4541558114127238,256203,279247,1,0,1,0,-1,0,50.5,50.5,121.84469283133035,0.21010168921758129,2560.6361879149508,1,1281.095050004202,31.767375409698289,649.24195310530297,202.99689049499958,1,193.21707706529958]
[null,null,null,8,3.9119804400977993,181836,292657,0.89938398357289528,0.10061601642710473,0,0,0,0,63.5,63.5,108.21026894865525,0.53789731051344747,4798.7139364303175,1,731.06601466992663,59.168704156479215,1636.880195599022,450.14180929095352,1,"na"]
[null,null,null,5,2.2522522522522523,229186,256050,0.57942708333333337,0.42057291666666669,0,0,0,0,80,80,130.22522522522522,1.572072072072072,2341.9909909909911,0.33333333333333331,469.7117117117117,48.198198198198199,2029.1711711711712,347.44594594594594,1,"na"]
[null,null,null,8,3.5523978685612794,107739,160571,0.35434782608695653,0.64565217391304353,0,0,0,0,51,51,74.706927175843703,1.3143872113676733,1877.1003552397869,1,886.23001776198942,47.957371225577269,528.65008880994674,238.0550621669627,1,"na"]
[null,null,null,9,5.0618672665916753,89208,201865,0.75251798561151084,0.24748201438848921,0,0,0,0,37,52,101.7941507311586,0.39932508436445441,2106.4791901012372,0,1994.988751406074,46.11923509561305,790.82114735658035,568.92013498312713,1,"na"]
[null,null,null,10,5.7971014492753623,103450,378045,0.91984732824427484,8.0152671755725186E-2,0,0,0,0,48,48,145.09565217391304,0.89855072463768115,3825.0318840579712,1,399.37971014492751,88.695652173913047,1492.7768115942029,357.96521739130435,0.9,"na"]
[null,null,null,4,2.9455081001472752,90463,198386,1,0,0,0,0,0,42,42,94.432989690721641,1.17820324005891,3592.562592047128,1,1171.5390279823268,66.273932253313689,1302.6509572901325,258.24933726067746,1,272.70502550564555]
[null,null,null,8,2.518098835379289,140994,526830,1,0,0,0,0,0,71,71,100.23292414227259,0.16052880075542966,5894.1863393138183,0.875,6706.8555240793203,60.434372049102926,1816.0812086874409,692.83600881334598,1,"na"]
[null,null,null,11,4.6531302876480538,103457,185404,0.90573770491803274,9.4262295081967207E-2,0,0,0,0,50,50,102.81302876480541,0.53299492385786795,3677.7495769881557,0.75,573.16412859560069,40.186125211505917,729.39509306260572,238.997461928934,1,91.895093062605753]
[null,null,null,9,3.2526201662450309,139827,600393,1,0,0,0,0,0,65,65,77.77737621973256,0.15901698590531263,4334.6259486808822,0.88888888888888884,373.58149620527649,80.954101915431878,2212.3021322732202,654.19949403686303,1,"na"]
[null,null,null,11,3.3690658499234303,235406,228646,1,0,0,0,0,0,49,49,138.01225114854518,0.78101071975497705,4116.5880551301689,1,121.79785604900459,77.488514548238896,1724.6799387442572,515.15467075038282,1,169.68147013782541]
[null,null,null,12,5.7279236276849641,102235,117802,0.92059095106186517,7.9409048938134816E-2,0,0,0,0,29.5,100,128.18615751789977,0.6348448687350835,2833.0310262529833,0.92307692307692313,383.92840095465391,68.735083532219562,1346.1575178997614,202.65393794749403,1,"na"]
[null,null,null,22,3.8528896672504378,258431,242695,1,0,0,0,0,0.52539404553415059,54,54,63.849387040280213,7.4255691768826617,2482.3817863397549,0.52941176470588236,21005.669001751314,35.026269702276707,773.5288966725044,213.39929947460595,0.81818181818181823,154.46584938704029]
[null,null,null,9,5.6782334384858046,174603,167311,1,0,0,0,0,0.63091482649842268,47,47,101.18611987381703,0.67507886435331232,2204.1955835962144,0.88888888888888884,646.6813880126183,37.854889589905362,628.52365930599365,162.17665615141956,0.88888888888888884,"na"]
[null,null,null,38,4.4242635929677494,319675,317032,0.96620468355294598,3.3795316447054004E-2,0,0,0,0.23285597857724996,58,58,123.76411689370124,0.95005239259517993,3403.2541623006173,0.94736842105263153,4911.0059378274536,39.352660379555246,801.55082081732451,285.70497147514266,0.94736842105263153,1302.2697869367796]
[null,null,null,11,4.3086564825695257,158691,289556,1,0,0,0,0,0,57.5,63.5,266.73717195456322,1.7038777908343126,7330.0587544065802,1,1259.1382687034861,93.615354484919706,2651.0693301997649,820.03916960438698,1,"na"]
[null,null,null,34,6.8259385665529013,237012,360679,0.8392706002631336,0.16072939973686637,0,0,0,0.60228869704878529,53,53,121.72455330254968,1.1945392491467577,3256.111222646055,0.52941176470588236,12.593856655290102,34.932744428829551,762.42820718731173,209.56249749046376,0.91176470588235292,"na"]
[null,null,null,18,11.928429423459244,208894,303397,1,0,0,0,0,0.6626905235255135,60,60,138.16434724983432,0.1126573889993373,4784.6587143803845,1,1292.882703777336,81.510934393638166,1578.2239893969515,364.00927766732934,1,"na"]
[null,null,null,24,7.4257425742574252,138701,164768,0.91900121802679657,8.0998781973203413E-2,0,0,0,0,48,51,137.62685643564356,1.1014851485148516,3252.7660891089108,0.95833333333333337,331.99876237623761,59.405940594059402,1109.2914603960396,445.02784653465346,0.95833333333333337,"na"]
[null,null,null,16,6.1068702290076331,137776,336575,0.97949886104783601,2.0501138952164009E-2,0,0,0,0,47,47,75.492366412213741,0.98854961832061072,2586.0229007633588,6.25E-2,423.20229007633588,58.778625954198475,945.45419847328242,395.5419847328244,1,1055.6335877862596]
[null,null,null,24,4.0533693632832293,768556,710800,1,0,0,0,0,0.16889039013680121,94.5,94.5,127.6980239824354,0.50160445870629955,4658.2266509035635,0.875,555.2508022293531,78.196250633338963,2750.2002134696836,595.25894508651322,1,"na"]
[null,null,null,17,8.0990948070509763,263082,409646,0.95528068506184582,4.4719314938154141E-2,1,0,-1,0.47641734159123394,66,66,188.1086231538828,0.32872796569795137,4981.5007146260123,0.88235294117647056,2035.4263935207241,63.363506431634107,834.10195331110049,277.92758456407813,1,"na"]
[]
[]
[]
[]
[]
[]
[]
[null,null,null,"(P.02)[01]Net Expenditure (Actuals)","(P.02)[02]Total Revenue Expenditure (Actuals)","(P.02)[03]Total Revenue Income (Actuals)","(P.03)[01]Employees","(P.03)[02]Premises","(P.03)[03]Total Materials","(P.03)[04]Computing Costs","(P.03)[05]Other Supplies & Services","(P.03)[06]Transport","(P.03)[07]Third Party Payments","(P.03)[08]Support Service Costs","(P.04)[01]Overdue Charges","(P.04)[02]Hire of Audio & Visual Materials","(P.04)[03]Specific Grants","(P.04)[04]Receipts from the Public","(P.04)[05]Corporate Income","(P.04)[06]Other Income","(P.05)[01]Reservation Fees","(P.05)[02]Electronic Revenue","(P.05)[03]Lettings","(P.05)[04]Provision to other LAs","(P.06)[01]Average Cost per Acquisition (Books)","(P.06)[02]Cost per Visitor","(P.06)[03]Employee Expenditure as a % of Revenue Expenditure","(P.06)[04]Material Expenditure as a % of Revenue Expenditure","(P.06)[05]Support Service Costs as a % of Revenue Expenditure","(P.06)[06]Cost per Available Hour","(P.07)[01]Net Expenditure (Estimates)","(P.07)[02]Total Revenue Expenditure (Estimates)","(P.07)[03]Total Revenue Income (Estimates)","(P.07)[04]Employee Expenditure as a % of Revenue Expenditure (Estimates)","(P.07)[05]Material Expenditure as a % of Revenue Expenditure (Estimates)","(P.08)[01]Total Staff per 100,000 population","(P.08)[02]Professional Staff per 100,000 population","(P.08)[03]Other Paid Staff per 100,000 population","(P.09)[01]Employee Costs per Employee","(P.09)[02]Employees per 1,000 population","(P.09)[03]Employee Costs per 1,000 population","(P.10)[01]Number of Volunteers","(P.10)[01]Volunteer hours as a % of volunteer hours plus employee hours","(P.10)[02]Number of Volunteer Hours","(P.10)[02]Number of volunteers as a % of volunteer headcount plus employee headcount","(P.10)[03]Number of Hours per Volunteer"]
[null,null,null,"SectionB","SectionB","SectionB","SectionB","SectionB","SectionB","SectionB","SectionB","SectionB","SectionB","SectionB","SectionB","SectionB","SectionB","SectionB","SectionB","SectionB","SectionB","SectionB","SectionB","SectionB","SectionB","SectionB","SectionB","SectionB","SectionB","SectionB","SectionB","SectionB","SectionB","SectionB","SectionB","SectionB","SectionB","SectionB","SectionB","SectionB","SectionB","SectionB","SectionB","SectionB","SectionB","SectionB"]
[null,null,null,"£#,##0","£#,##0","£#,##0","£#,##0","£#,##0","£#,##0","£#,##0","£#,##0","£#,##0","£#,##0","£#,##0","£#,##0","£#,##0","£#,##0","£#,##0","£#,##0","£#,##0","£#,##0","$#,##0.00","£#,##0","£#,##0","£#,##0","£#,##0","0%","0%","0%","$#,##0","£#,##0","£#,##0","£#,##0","0%","0%","#,##0","#,##0","#,##0","£#,##0","0.00","£#,##0","#,##0","0.0%","#,##0","0%","#,##0"]
[null,null,null,4872.6415094339627,"..",1613.2075471698113,2009.4478676657611,2327.0562859467482,275.77366075020535,148.19847569238016,567.48705035971852,54.583222980238894,0,1103.3024932087214,5.7075893669463849,0.42552985922674491,88.639693494988549,12.826056853913405,1361.9708428172951,143.63783477744136,38.41646689290836,0,105.221367884533,0,"na","na","na","na","na","na",8783.0188679245275,13689.08149702505,4906.0626291005219,0.376713544645851,7.2828018152383531E-2,23.099056603773587,3.7735849056603774,19.325471698113205,8699.2637930394394,0.23099056603773588,2009.4478676657611,95,7.4401481864893232E-2,6396.5,0.65985969299159553,67.331578947368428]
[null,null,null,8929.7950267788819,9597.8006375924506,668.00561081356796,6016.2739097169087,1234.852843662331,1136.3325172149962,31.486865595511347,991.78780923233865,44.080209130323894,0,142.98648304004081,136.75847997959704,19.239989798520785,51.563376689619993,329.76791634787043,41.509818923743943,89.166029074215757,0,2.4968120377454728,86.669217036470286,0,6.1220247248605455,4.32761916973321,0.62683880785692736,0.11839509488915975,1.4897838415188012E-2,7.9039454223540266,10622.290232083651,11021.77154294586,399.48131086221019,0.50387057367390786,0.10403466078392024,24.228513134404487,5.1007396072430504,19.127773527161438,24831.378947368423,0.24228513134404486,6016.2739097169087,99,1.7281209398197332E-2,2714.7,0.51030927835051543,27.421212121212118]
[null,null,null,11726.907692307694,12438.498426573427,711.59073426573434,5655.151515151515,1278.5955710955711,1444.1336247086247,119.98834498834499,686.57925407925416,79.434731934731943,0,3174.6153846153848,249.15582750582752,36.900582750582757,0,280.0399766899767,17.995337995337994,127.49900932400934,48.270046620046621,22.101923076923079,57.127039627039629,0,5.5474627625127209,4.4120367813335877,0.45464905177540815,0.11610192606716889,0.25522496974660402,11.932280467352415,11385.524475524477,11964.195804195804,578.67132867132864,0.43125759842887873,6.2102543720190785E-2,15.61771561771562,2.5058275058275061,13.111888111888112,36209.850746268654,0.15617715617715619,5655.151515151515,103,6.9861814143226328E-2,3271,0.79352850539291209,31.757281553398059]
[null,null,null,15659.846340477152,16776.651839870603,1116.8054993934493,8991.0311362717348,1537.0562070359886,1350.58633238981,640.36393044884755,744.59765467044076,84.662353416902548,80.873433077234125,3347.4807925596442,214.31459765467042,32.349373230893647,117.26647796198948,405.1192883137889,0,347.75576223210675,16.174686615446824,0,331.58107561665992,0,7.5498579399582368,4.5173950915703065,0.5359252383663391,8.0503925651009209E-2,0.19953211311235408,14.260407787279677,15996.287909421755,17113.093408815203,1116.8054993934493,0.53064270233843125,7.2777658582045476E-2,26.849979781641732,5.2163364334816009,21.633643348160128,33486.174698795177,0.26849979781641731,8991.0311362717348,338,9.5884051947703705E-2,11443.1,0.83580613254203762,33.855325443786981]
[null,null,null,8432.1051712558765,9511.0574882471446,1078.9523169912693,5035.5603760913355,1743.933579583613,670.10617864338474,359.12693082605773,410.2283411685695,55.762256548018804,0,1236.3398253861651,61.914036265950301,0,147.19274680993956,78.388179986568161,419.01276024177298,372.44459368703826,1.4976494291470785,62.028206850235051,308.91873740765612,0,6.8380159124813522,4.8553919945144424,0.529442744123227,7.0455486098305875E-2,0.12998973320410645,8.1367219764435497,8909.1940899932833,9955.7689724647407,1046.5748824714574,0.54436817245384894,5.9699921884170004E-2,17.998656816655473,3.3579583613163195,14.640698455339155,27977.423134328354,0.17998656816655473,5035.5603760913355,104,0.24077334774498352,13811,0.7951070336391437,132.79807692307693]
[null,null,null,10702.979181622397,11283.251974156496,580.27279253409904,5709.4903086862878,2442.5987078248381,697.10696338837033,336.76238334529791,570.10768126346011,62.002871500358935,0,1465.1830581478821,32.268485283560658,0,0,140.8040201005025,134.22110552763817,272.97918162239768,15.549174443646804,0,257.43000717875088,0,"na",2.8135065613884978,0.50601460658358766,6.1782451104082883E-2,0.1298546785540004,7.0760978201168729,11030.308686288585,11417.243359655418,386.93467336683415,0.53127534704625567,5.3570687528215789E-2,20.674802584350321,0.71787508973438618,19.956927494615936,27615.694444444445,0.20674802584350321,5709.4903086862878,32,3.6491842091718567E-2,1772.5,0.52631578947368418,55.390625]
[null,null,null,11575.098107918711,12054.222144358795,479.12403644008413,7197.8486334968475,1984.2186405045552,827.47021723896296,229.69516468114929,349.01541695865455,24.001401541695866,81.720392431674853,1360.252277505256,52.7365101611773,5.0210231254379822,77.347582340574633,312.86965662228454,0,31.149264190609674,0,0,31.149264190609674,0,7.4219561083414716,3.6470055071741676,0.59712261374454079,6.8645675127715092E-2,0.11284446737542785,8.975996347270236,11241.338472319552,11834.152067274003,592.81359495444997,0.65023610889462435,8.4596533437632404E-2,23.370707778556415,3.9593552908199028,19.411352487736512,30798.590704647679,0.23370707778556415,7197.8486334968475,97,2.76749871044428E-2,3085,0.59254734270006115,31.804123711340207]
[null,null,null,16158.56853672643,22072.666281087331,5914.0977443609017,7485.7142857142853,4477.5506072874496,1372.2845575477154,294.9652978600347,1002.4840948525159,26.463273568536724,4697.3481781376513,2715.8559861191438,146.92886061307112,91.133603238866399,52.429149797570851,348.32562174667436,4691.4401388085598,583.84037015615957,37.43782533256217,0,546.4025448235974,0,7.6334336183015106,5.1015009627897303,0.33913955796669293,6.2171218468678568E-2,0.12304159142052488,19.584179667915603,"na","na","na","na","na",24.285714285714285,1.9144013880855986,22.371312897628687,30823.529411764706,0.24285714285714285,7485.7142857142853,354,8.2053367261725185E-2,12198.55,0.80825608475272837,34.459180790960453]
[null,null,null,"na","..","na","na","na","na","na","na","na","na","na","na","na","na","na","na","na","na","na","na","na","na","na","na","na","na","na",12188.226376958059,12962.10207175341,773.87569479535114,0.53504600031186655,4.547403711211602E-2,"na","na","na","na","na","na","..","na","..","na","na"]
[null,null,null,10795.312968561064,11554.721765417169,759.40879685610639,6999.7742140266018,2211.7052902055621,1197.7465235792019,440.48125755743655,586.55226723095518,109.39328899637243,9.0689238210399026,0,0,0,159.89344014510277,256.74821644498184,0,342.76714026602173,0,0,342.76714026602173,0,6.7568523032534085,1.5255633242360211,0.60579340257042391,0.10365862094265312,0,8.2156048911443111,10293.485489721887,11200.740628778718,907.25513905683192,0.6200032116981381,0.11335405193504812,19.105199516324063,3.022974607013301,16.082224909310764,36638.058702531642,0.19105199516324065,6999.7742140266018,73,3.5282182310062374E-2,3756,0.53597650513950079,51.452054794520549]
[null,null,null,8449.3443910468322,15233.958543939396,6784.6141528925627,6994.0420798898067,2309.2500039944903,1315.2483471074383,407.99390495867772,2417.6997245179064,176.37988980716253,44.662534435261712,1568.6820592286504,286.10396005509648,107.70402892561984,5273.2438016528931,421.07806473829203,0,696.48429752066124,50.718078512396701,158.75619834710744,487.01002066115711,0,5.9747349783598462,3.0779185378580634,0.45910864597122608,8.6336610626440907E-2,0.10297271419664768,8.7728750407218286,8702.8971418732799,15533.8027892562,6830.9056473829205,0.44626440090940656,8.5962446515905205E-2,20.557851239669422,6.163911845730027,14.393939393939394,34021.270016750415,0.20557851239669422,6994.0420798898067,217,0.10962990156712481,11945,0.78424286230574636,55.046082949308754]
[null,null,null,8421.6486836426411,9101.5861027190331,679.93741907639196,7159.8791540785505,292.8485110056107,912.86577470867508,0,600.97539922313342,8.8562796719896415,0.73370738023306004,125.42727665084161,148.00172637030644,79.402244281398367,0,144.31808372895986,0,308.21536469572726,6.473888649115235E-2,0,308.15062580923609,0,5.8985852327893111,3.0681140338115047,0.78666279407493478,0.10029743875476418,1.3780815259592074E-2,10.910564247428653,9594.3029779887784,10192.058696590419,597.75571860164007,0.78340038111369892,9.1043828075375824E-2,23.953388001726374,4.747518342684506,19.205869659041866,29890.882882882881,0.23953388001726375,7159.8791540785505,260,3.3883053652631744E-2,6326,0.70080862533692723,24.330769230769231]
[null,null,null,13172.879613409847,14411.154605859256,1238.274992449411,9215.4212322561143,1113.0379643612234,1453.488402295379,867.7590758079125,1276.5775294472969,7.0696164300815472,0,477.80078526125044,113.61938991241315,49.075113258834186,0,663.47777106614308,0,412.10271821202053,26.142434309876169,0,385.96028390214434,0,5.8783302331617424,3.5873816544469239,0.63946446237620191,0.10085856699534837,3.3154927438429342E-2,13.037866766855659,12445.569125789498,13512.264988066754,1066.6958622772574,0.66444675543262521,0.10058313772480662,25.620658411356086,4.176985804892781,21.443672606463302,35968.713544736529,0.25620658411356084,9215.4212322561143,99,1.2330752186630699E-2,1721,0.53854104335527397,17.383838383838384]
[null,null,null,7039.3482688391032,7899.1205332345862,859.77226439548224,5311.5571190520268,244.32697648583596,782.3810405480466,604.5084243658581,638.05036104425108,267.55785965561932,0,50.738752082947599,162.09961118311423,100.98500277726346,3.703017959637104,327.74115904462133,0,265.24347343084611,20.699870394371413,82.836511757082022,161.7070912793927,0,4.2437393445728357,3.7720617490252244,0.67242385993533049,9.904660110657558E-2,6.4233419238851324E-3,14.406412507597759,6928.3466024810214,7789.2982780966486,860.95167561562675,0.66555740432612309,0.10030900879486571,15.713756711720054,2.2273653027217182,13.486391408998333,33801.955932602796,0.15713756711720053,5311.5571190520268,678,8.4248689009257846E-2,12688,0.88874906602697712,18.713864306784661]
[null,null,null,7691.032088374538,8174.3408732246171,483.30878485007889,4069.2951078379801,1478.2482903734876,513.07311941083469,189.40031562335614,544.11888479747506,39.857969489742246,89.426617569700156,1250.920568122041,43.487638085218308,4.0820620725933718,18.221988427143611,165.54971067859023,155.37611783271961,96.591267753813781,0,0,96.591267753813781,0,7.7691932319764199,4.8094775611265854,0.49781323912819936,6.2766298514835173E-2,0.15303014487926259,11.875026364456126,7189.374013677012,7752.2356654392424,562.86165176223039,0.5484155526905069,6.6906426002578553E-2,12.993161493950552,4.1031036296685954,8.8900578642819568,31318.744939271255,0.12993161493950553,4069.2951078379801,12,2.6674749924219459E-2,1100,0.32697547683923706,91.666666666666671]
[null,null,null,14499.274488338888,15067.310756782486,568.03626844359826,6434.293193717278,2197.3393622084723,1128.6053783912423,184.81199428843408,281.67539267015707,27.8296049500238,0,4812.7558305568782,138.73393622084723,90.456925273679204,0,174.62160875773441,0,164.22379819133747,35.211803902903384,4.4379819133745837,124.5740123750595,0,5.4777070762479427,5.872631462758557,0.42703660245547853,7.4904234512001774E-2,0.31941704184938485,9.4165369936849128,13979.057591623037,15143.636334443243,1164.5787428202054,0.43719446238164927,7.9398034250255406E-2,22.874821513564971,3.7172774869109948,19.157544026653976,28128.277153558054,0.22874821513564972,6434.293193717278,33,9.3361324817495105E-3,736,0.40710584752035528,22.303030303030305]
[null,null,null,7551.9789255564074,"..",1287.1461703760551,4695.1020721412124,2709.6423637759017,847.68073676132008,64.940905602455871,374.35917114351497,107.31696085955487,40.082885648503456,0,214.99421335379895,6.7970222563315428,61.396776669224863,324.839539524175,234.99384497313889,444.124773599386,3.6374366845740598,31.172755180353029,191.12971603990789,218.18486569455104,6.6650509522537309,"na","na","na","na","na",7538.4144282425177,9088.291634689178,1549.8772064466616,0.57937734397879281,0.1129730644473201,17.191097467382964,0.92095165003837298,16.270145817344588,27311.241071428565,0.17191097467382963,4695.1020721412124,942,0.32865358155936802,89097,0.89373814041745736,94.582802547770697]
[null,null,null,25685.341380625476,26041.11941266209,355.7780320366133,8609.931350114417,121.99847444698703,718.91811594202898,74.565217391304344,1625.6261632341725,95.953470633104502,0,14794.126620900077,45.137299771167051,7.360793287566743,0,192.75362318840581,45.766590389016024,64.759725400457668,6.1403508771929829,0,58.619374523264689,0,6.1837500936961254,5.8279665565313428,0.3306283118508328,2.7607035801712355E-2,0.56810640074507179,16.118708209987581,25229.834782608697,25549.285583524026,319.4508009153318,0.33876653183684996,5.0371078904900807E-2,24.931350114416478,0,24.931350114416478,34534.557136301053,0.24931350114416478,8609.931350114417,44,3.7101412491473605E-2,4093,0.4023041053305294,93.022727272727266]
[null,null,null,10269.678173483779,10777.730007052185,508.05183356840615,5775.4809590973191,1557.3023272214384,1103.0858251057825,169.02834978843441,127.93353314527502,4.9516925246826506,1228.3286318758815,811.61868829337084,177.67302538787021,28.830324400564173,2.1156558533145273,126.72542313117066,56.329337094499287,116.37806770098729,33.977362482369529,0,82.400705218617759,0,5.2069767006643586,3.6985782342065012,0.53587174250220149,0.10234862298313291,7.5305160526595569E-2,12.014040901515628,10543.515303244005,10908.889069111423,365.37376586741885,0.63103776854846461,8.9602915472841937E-2,23.014809590973204,1.7630465444287726,21.251763046544429,25094.628466370454,0.23014809590973204,5775.4809590973191,130,3.4063406586551222E-2,3740.3,0.66574486608285954,28.771538461538462]
[null,null,null,13365.240021008403,14286.257510504201,921.01748949579837,7466.442358193277,2346.135136554622,1027.0904411764704,1.6544117647058822,419.4014443277311,37.363445378151262,845.42838760504196,2142.7418855042015,175.61948529411762,106.64346113445379,91.417436974789922,184.22408088235292,13.181302521008401,349.93172268907563,84.060005252100837,95.445063025210089,170.4266544117647,0,6.1260937371409767,3.7697719166828931,0.52263109164198218,7.1893597075461196E-2,0.14998622864866576,21.107999239520122,13838.25194327731,14770.28975840336,932.03781512605042,0.54710900331564638,7.3819549398714338E-2,24.474789915966383,6.4600840336134464,18.014705882352938,30506.665772532193,0.24474789915966383,7466.442358193277,226,3.2966611967078091E-2,5163,0.70802005012531333,22.845132743362832]
[null,null,null,9960.4874302496337,10720.406372980911,759.91894273127741,6628.4579441997066,1516.3515124816447,1204.0685168869309,0,381.07782672540384,61.877885462555064,0,928.57268722466961,119.77999999999999,79.135859030836997,1.1659324522760646,193.71110132158591,225.02710719530103,141.09894273127753,75.820792951541847,13.501233480176211,51.776916299559474,0,6.8984337975472867,1.9723655645556519,0.61830286218493424,0.11231556668612816,8.6617303012411009E-2,11.992057537459798,13071.624082232012,13703.218795888399,631.59471365638763,0.48742462943205944,0.13640342172841263,23.4654919236417,4.4933920704845818,18.972099853157122,28247.683729662083,0.23465491923641701,6628.4579441997066,307,6.1844049524373813E-2,8559,0.79348668906694242,27.879478827361563]
[null,null,null,10707.84078516903,11120.139040348964,412.29825517993453,6210.6270447110137,2385.0681570338056,1278.1297709923663,294.1657579062159,68.691384950926931,48.369683751363141,8.7050163576881125,826.38222464558339,83.710468920392586,18.786804798255179,4.566521264994547,208.51962922573608,0,96.71483097055615,5.9187568157033805,2.3991275899672844,88.396946564885496,0,6.975586590972866,3.3220831663685737,0.55850264301336616,0.11493829046154237,7.4314019064607884E-2,9.4903278795324244,10706.744820065431,11119.043075245365,412.29825517993453,0.56201634683637103,9.522234468114843E-2,20.992366412213741,2.6444929116684839,18.347873500545255,29585.16883116883,0.20992366412213742,6210.6270447110137,185,6.843511990291623E-2,9192,0.70610687022900764,49.686486486486487]
[null,null,null,7956.3349597716069,8261.0300025953802,304.69504282377369,5923.5089540617701,715.08694523747727,625.17430573579043,949.2784842979496,29.193355826628601,18.787957435764341,0,0,77.196989358941082,17.799981146979441,0,195.59218080474648,0,14.10589151310667,0,0,14.10589151310667,0,6.4955228660489341,1.8341891759510143,0.71704242112675687,7.5677525143883817E-2,0,8.6717745811197382,8647.8069037113928,8777.5759148715279,129.76901116013497,0.62596096984033123,8.870490833826139E-2,17.879574357643392,2.0763041785621592,15.803270179081236,33130.033386558287,0.17879574357643391,5923.5089540617701,233,6.9852704434653842E-2,8407,0.77180429957931695,36.081545064377686]
[null,null,null,9815.3116857085588,10388.759270394869,573.44758468630994,5895.1874123070756,2215.2836239727403,1016.9553016636601,35.015033072760076,237.88334335538184,75.810783724193229,0,912.62377229905792,63.808378432551613,71.038284225295655,0,317.16977350170379,0,121.43114852675889,45.804770495089201,29.779514932852276,45.846863098817401,0,6.7247444475926859,4.1651447367046428,0.56745827474381394,9.7889966953195795E-2,8.7847234548959749E-2,9.9235979274709809,10288.863499699339,10756.550410903988,467.68691120465024,0.55901665218469676,0.11255127465250261,22.513529765484066,2.9705351773902589,19.542994588093805,26185.087250712251,0.22513529765484067,5895.1874123070756,132,1.6442471557420669E-2,3051.25,0.54027504911591362,23.115530303030305]
[null,null,null,9954.3468105065676,10299.14981238274,344.80300187617263,5001.0694183864916,1678.1441838649157,1394.0010318949344,433.85553470919325,838.47054409005636,13.271388367729832,0,940.33771106941845,87.870544090056285,90.575170106516779,0,166.35728767959955,0,0,0,0,0,0,8.9291752707126673,4.7482662324462961,0.48558080127872988,0.1353510782238469,9.1302459736904082E-2,9.5670797424122274,7339.3808630393996,7737.1294559099442,397.74859287054409,0.5930129077157732,0.13694957915948289,17.26078799249531,2.8142589118198877,14.446529080675424,28973.58695652174,0.17260787992495311,5001.0694183864916,3,6.4134516332701964E-3,193,0.14018691588785048,64.333333333333329]
[null,null,null,11525.019972289616,"..",215.97670632437911,6394.8794712286162,1123.8374805598755,1113.0884360012419,0,1027.5233281493001,4.9144634525660971,554.40902021772945,1522.3444790046658,63.66251944012442,0.94090202177293936,28.441714100428872,74.813374805598755,0,48.118195956454123,13.351477449455677,0,34.766718506998444,0,6.681531509622892,"na","na","na","na","na",10404.626749611198,10573.312597200622,168.68584758942458,0.51052306049445195,0.10119597448901545,17.301710730948681,3.3437013996889577,13.958009331259721,36960.966292134828,0.1730171073094868,6394.8794712286162,3879,9.1843557660160995E-3,670.3,0.98865808589269788,"na"]
[null,null,null,7834.559197786999,9319.4044637243805,1484.8452659373822,6462.5927323022761,1187.6801207091664,473.24141833270392,0,185.17725386646549,193.31070036464229,0,817.40223814912622,310.25022004275115,257.92309503238573,345.66545957500313,178.96952410504673,0,392.03696718219544,0,0,392.03696718219544,0,7.5580519957179746,2.8752234937679173,0.69345554830867207,5.0780221008197242E-2,8.7709707345662496E-2,9.4585533052577837,8621.9036841443485,8621.9036841443485,0,0.59441571871768351,5.7911065149948295E-2,19.489500817301646,0.17603420093046721,19.31346661637118,33159.354838709682,0.19489500817301647,6462.5927323022761,372,9.1340360902472661E-2,25319,0.70588235294117652,68.061827956989248]
[null,null,null,13035.934349355217,14118.84876905041,1082.9144196951934,8359.5146541617814,2391.322391559203,201.4021101992966,2096.4056271981244,212.947245017585,82.030480656506441,19.821805392731537,755.40445486518172,313.66471277842908,117.1746776084408,0,175.04103165298946,217.40679953106681,259.6271981242673,0,0,102.90035169988276,156.72684642438452,"na",3.9633793009032918,0.59208188931710026,1.4264768572405516E-2,5.3503261294297999E-2,20.14454844709692,"na","na","na","na","na",25.627198124267291,2.0633059788980073,23.563892145369287,32619.698078682522,0.25627198124267292,8359.5146541617814,414,3.2015892134047645E-2,5874.5,0.79113319319701902,14.189613526570048]
[null,null,null,"na","..","na","na","na","na","na","na","na","na","na","na","na","na","na","na","na","na","na","na","na","na","na","na","na","na","na",11618.916334661355,12314.077025232404,695.16069057104914,0.66218387705581017,9.4753302777028842E-2,"na","na","na","na","na","na","..","na","..","na","na"]
[null,null,null,9055.1844978165936,9852.8576107298813,797.67311291328758,6059.6480037429819,1014.1453524641297,1192.0679975046787,405.25888958203365,599.61946350592632,77.510917030567683,0,504.60698689956331,42.476606363069244,31.325639426076105,167.26138490330629,332.86650031191516,0,223.74298190892074,1.2850904553961322,0,29.070492825951341,193.38739862757328,7.6531667858911572,3.4710696955312055,0.61501426724607811,0.12098703184409183,5.1214277810128932E-2,8.8100263841204409,9690.4242046163436,10504.054897067997,813.63069245165309,0.69069960802945707,0.12471789998812211,22.395508421709291,3.587024329382408,18.808484092326886,27057.425487465185,0.2239550842170929,6059.6480037429819,106,2.6728167492011748E-2,3204.15,0.59617547806524185,30.227830188679246]
[null,null,null,8534.4971537001893,9154.7153700189756,620.21821631878561,5679.4326375711571,2231.6907020872864,638.5066413662239,0,537.41745730550281,67.667931688804558,0,0,122.43643263757116,6.3662239089184061,11.155597722960152,350.53130929791274,47.235294117647058,82.493358633776097,0,0,82.493358633776097,0,7.5147586611001245,3.5652153671528142,0.62038331155230497,6.9746203520131986E-2,0,11.46640317144935,8904.1328273244781,9656.3833017077795,752.25047438330171,0.61859622701425099,6.469985541119383E-2,18.937381404174573,0.94876660341555974,17.988614800759013,29990.591182364726,0.18937381404174572,5679.4326375711571,120,2.7995876436953837E-2,4671,0.54595086442220198,38.924999999999997]
[null,null,null,9724.9451169590629,10114.69423976608,389.74912280701756,6673.1812865497077,1548.5181578947368,576.72298245614036,1052.5990643274854,5.3479532163742691,23.210526315789473,102.3391812865497,132.77508771929826,140.80801169590643,34.960701754385966,24.578947368421051,127.31134502923977,0,62.090116959064325,9.9415204678362574,0,52.148596491228069,0,6.7968238274732746,3.1992629226909046,0.65975116284919322,5.7018330834830856E-2,1.3126950214401033E-2,8.2454387984706763,12666.666666666666,12959.064327485381,292.39766081871346,0.48655685920577613,0.26018524368231044,21.052631578947366,2.0467836257309941,19.005847953216374,31697.611111111117,0.21052631578947367,6673.1812865497077,964,4.5910462366468251E-2,5630,0.93050193050193053,5.8402489626556013]
[null,null,null,6701.9415827623516,8055.9066025964667,1353.9650198341146,4991.3786693112161,1620.0342589253517,1089.4161410025245,90.384060584204832,144.25351604760186,75.434547421565085,8.4385142445005403,36.566895059502343,60.748287053732419,84.024522178146412,161.61918499819689,134.23187883159034,668.4853948791922,244.85575189325641,41.561485755499454,97.10061305445366,106.19365308330327,0,6.7253657558955169,4.1836639006589467,0.61959242026247729,0.13523197260645986,4.5391408892099883E-3,12.008164729186378,6584.6123332131265,7743.1049404976557,1158.4926072845294,0.6305529668683747,0.11880793400407887,15.117201586729173,2.3945185719437432,12.72268301478543,33017.874642175579,0.15117201586729173,4991.3786693112161,444,7.2839344440796025E-2,10703.25,0.84116398908760226,24.106418918918919]
[null,null,null,8625.8370769691537,9257.0110811620252,631.17400419287219,5489.433962264151,1973.390236597784,1063.8035339922133,23.258460616951183,229.52680443246481,182.1203953279425,0,295.47768793051813,75.968763416131338,3.6613794532213766,0,382.00824316450786,0,169.53561815901159,4.5401105219945075,0,164.99550763701708,0,"na",2.2336096937392913,0.59300285093480376,0.11491868429941156,3.191934041559201E-2,5.1835436881806629,7863.1326744534299,8812.5187181790952,949.38604372566647,0.64887340696686491,0.11527612574341548,15.962863132674453,0,15.962863132674453,34388.780487804877,0.15962863132674454,5489.433962264151,157,0.1033856282900015,9987,0.74655254398478366,63.611464968152866]
[null,null,null,15019.573352280422,15827.285491947496,807.71213966707273,5108.9960752469888,1915.0145892542971,1240.0691230207062,3372.9407226958992,335.65537285153971,176.64198809040465,7.4049262417106521E-2,3677.8935715252396,121.71390580593086,53.782487481393638,8.3912166734334832,292.24709026931248,0,331.57743943700217,6.5397550412775756,126.22783191230332,113.94523616186223,84.864616321559069,6.3819445752793502,4.8690368015721113,0.32279673465461345,7.8350082435274235E-2,0.23237677575200463,18.925102904845652,14338.22516578698,15425.906881851399,1087.6817160644202,0.36813354605932946,8.050460301543709E-2,15.347137637028016,0,15.347137637028016,33289.569664902992,0.15347137637028016,5108.9960752469888,1172,0.10272141636355668,42192,0.83786102373462967,36]
[null,null,null,14190.987654320988,15372.691358024691,1181.7037037037037,6953.4765432098766,2633.5456790123458,1172.9185185185186,0,606.15308641975309,11.348148148148148,89.876543209876544,3905.372839506173,61.106172839506172,77.037037037037038,230.47901234567902,269.7925925925926,462.60740740740738,80.681481481481484,16.893827160493828,63.787654320987656,0,0,7.8519746452370809,3.399095676784706,0.45232655631117552,7.6298840014519906E-2,0.25404613600516551,9.9357822469191746,11705.851851851852,12867.802469135802,1161.9506172839506,0.52943551327267213,9.1151423977158044E-2,27.358024691358025,4.6913580246913584,22.666666666666664,25416.58844765343,0.27358024691358024,6953.4765432098766,240,3.2769272092398605E-2,3050,0.8124576844955993,12.708333333333334]
[null,null,null,7574.8080965909094,8133.450773358586,558.64267676767679,5082.1575126262624,308.77367424242425,725.99180871212127,73.680555555555557,271.76136363636363,40.65498737373737,126.26262626262626,1504.1682449494949,123.98200757575758,30.183080808080806,0,341.57512626262627,0,62.902462121212118,0,0,31.336805555555554,31.565656565656564,13.844765077220362,2.5731776833506435,0.62484640950592019,8.925999910027535E-2,0.18493604828548943,11.224930592312335,7169.767992424242,7612.2032828282827,442.43529040404042,0.61775392217274716,8.7703075122763569E-2,16.098484848484848,1.2784090909090908,14.820075757575758,31569.166666666668,0.16098484848484848,5082.1575126262624,536,8.4646076955999502E-2,15327.5,0.84012539184952983,28.59608208955224]
[null,null,null,12350.981551362684,13035.98853948288,685.00698812019573,8913.5080363382258,1170.9348008385743,1180.1607267645004,657.22690426275358,497.71331236897282,63.488434661076184,0,552.95632424877704,135.30398322851153,61.624737945492662,0,393.81201956673658,0,94.266247379454938,1.5548567435359888,0,92.711390635918946,0,6.6189253386403033,1.4679162269881925,0.68376157353478406,9.05309730205789E-2,4.2417674929216533E-2,4.9910369220890409,12515.793151642209,13220.027952480783,704.23480083857442,0.66086412522346616,0.10307719794945094,25.856044723969251,7.8266946191474496,18.029350104821802,34473.5945945946,0.25856044723969251,8913.5080363382258,150,3.9153016380343596E-2,4900,0.6696428571428571,32.666666666666664]
[null,null,null,21133.904183053273,21687.161244190203,553.25706113693241,10057.790489810512,4918.977475867001,1247.5008938148017,405.85984983911334,1462.8923846978907,39.095459420808012,0,3555.0446907400787,97.751161959242054,39.746156596353238,0,261.3407222023597,4.3939935645334289,150.02502681444406,11.898462638541295,0,138.12656417590276,0,6.9945203626031658,3.7073452619020841,0.46376703601560132,5.7522553540703535E-2,0.16392392949503445,10.871390704501504,19916.367536646409,20453.775473721846,537.40793707543799,0.516671004546296,5.8731802099696882E-2,28.780836610654276,6.077940650697176,22.702895959957097,34946.136645962732,0.28780836610654276,10057.790489810512,91,2.2368288299060946E-2,2993,0.53061224489795922,32.890109890109891]
[null,null,null,13290.568535825545,13658.193146417445,367.62461059190031,7360.202492211838,1382.5155763239875,1217.5467289719625,115.6853582554517,165.91121495327101,75.926791277258559,468.75389408099687,2871.6510903426788,42.352024922118375,6.2538940809968846,61.355140186915882,151.84579439252335,13.823987538940809,91.993769470404985,2.9127725856697819,0,89.0809968847352,0,"na",3.9088817959736808,0.53888551826069508,8.9144055580391762E-2,0.21025117008950156,14.109272295748019,13801.752336448597,14058.76168224299,257.00934579439252,0.55165651512759362,9.9714981344988907E-2,23.831775700934578,5.9968847352024923,17.834890965732086,30883.986928104576,0.23831775700934579,7360.202492211838,0,0,0,0,"na"]
[null,null,null,10652.642934196332,12087.918015102481,1435.2750809061488,7221.6828478964399,2001.6181229773463,935.81445523193088,108.41423948220064,264.29341963322543,35.59870550161812,1461.7044228694713,58.791801510248114,156.41855447680689,28.047464940668824,0,358.14455231930958,109.49298813376483,783.17152103559874,0,53.937432578209275,252.42718446601941,476.80690399137001,4.0011207621182407,2.2137688102684261,0.59742983356387491,7.7417339699254822E-2,4.8636830128062115E-3,6.7499555745639537,10824.703344120819,12332.254584681768,1507.5512405609493,0.59731455563331004,7.7589223233030094E-2,27.346278317152105,2.9665587918015102,24.379719525350595,26408.284023668635,0.27346278317152106,7221.6828478964399,179,4.4089920232052202E-2,3800,0.77927731824118407,21.229050279329609]
[null,null,null,9915.0243406234113,12049.941873138125,2134.9175325147135,5827.422800261571,2223.1918913027685,1260.9823439657052,19.739882293104703,1512.3839279226913,122.50236140376371,0.60015984887015916,1083.1185061396498,144.1807745404345,36.245731308580979,4.3311777955387631,544.69156433917021,1101.222117270944,304.24616726004507,61.655162391920371,0,242.59100486812468,0,7.6866685730938897,3.5471705982628112,0.48360588470987831,0.10464634246715349,8.9885786798204442E-2,21.98840275724546,9779.1179248710305,11809.925161665335,2030.8072367943037,0.55604774209425378,9.905254091300604E-2,21.854973479619272,3.1032478384073241,18.751725641211944,26664.057980650949,0.21854973479619272,5827.422800261571,1266,9.8673259355821677E-2,53509.88,0.80802149618008801,42.266887835703002]
[null,null,null,18261.193643754617,19368.130081300813,1106.9364375461935,9509.0687361419059,2617.9859571322982,1190.6097560975609,1739.4684443668295,220.74648928307462,23.732446415373243,0,4066.5182518637689,149.7819660014782,67.014042867701406,0,242.03991130820398,261.60384331116035,386.49667405764961,11.515151515151514,0,374.98152254249811,0,6.8538056930693063,3.7369204618052394,0.49096472897621374,6.1472622865490198E-2,0.20995925960812481,9.8181668315199477,16778.628972653361,18334.800443458978,1556.171470805617,0.51745445889534747,6.788410602900756E-2,24.981522542498148,5.9497413155949737,19.031781226903178,38064.408284023673,0.24981522542498147,9509.0687361419059,32,1.5407505669137487E-2,1719,0.32128514056224899,53.71875]
[null,null,null,9115.779648140744,10043.438624550181,927.65897640943626,5374.6461415433823,2391.5873650539784,290.84766093562575,1226.40543782487,210.71171531387446,40.003998400639745,0,509.23630547780891,107.47904838064775,19.704118352658938,0,758.42463014794089,0,42.051179528188726,8.4366253498600567,0,33.614554178328667,0,8.5615545122587378,3.5566870611423647,0.53514003942888622,2.8958972301048144E-2,5.0703382030237304E-2,23.617955130977681,9174.3222710915634,9854.0503798480604,679.72810875649736,0.63077795153414618,2.0374940454404914E-2,17.792882846861254,1.1995201919232308,16.593362654938026,30206.719101123599,0.17792882846861255,5374.6461415433823,571,2.6651411649897372E-2,1980,0.92770105605199027,3.4676007005253942]
[null,null,null,8007.2375872769571,8961.2256012412709,953.98801396431338,5392.4752909231956,1795.3915826221878,900.23972071373157,96.198603568657873,76.826144297905344,76.04344453064391,527.07641582622182,96.974398758727688,47.3067106283941,15.673933281613653,0,413.68813033359191,0,477.31923972071371,0,0,477.25950349107836,5.973622963537626E-2,6.4162260153031188,2.059280616838258,0.60175644837869646,0.10045944168496709,1.0821555340074823E-2,10.394057283746207,10802.948021722264,11459.509979005359,656.56195728309444,7.1332207547144505E-2,0.69946400087977967,15.768037238169121,2.7540729247478661,13.013964313421255,34198.773185731858,0.15768037238169122,5392.4752909231956,439,0.13734561351385766,10517,0.91525070363806948,23.956719817767652]
[null,null,null,9434.9089016137423,10073.024466423738,638.11556480999479,4912.3581467985423,1665.3149401353462,1012.4882873503384,467.40760020822489,347.81884435190005,122.44143675169182,2.0770432066631965,1543.1181676210308,48.172826652785012,44.716293597084857,0,274.61738677771996,191.94690265486727,78.662155127537744,1.0411244143675169,0,77.621030713170228,0,6.5498753117206974,4.2094285484316574,0.48767459695673654,0.10051482459168549,0.1531931320890447,17.119596567283022,9046.5018219677258,9654.2581988547627,607.75637688703807,0.5531248803639417,0.10584589635513753,16.324830817282667,3.7480478917230609,12.576782925559604,30091.326530612241,0.16324830817282668,4912.3581467985423,66,5.1977527253785766E-2,2794,0.67789646672144621,42.333333333333336]
[null,null,null,12737.408156028356,13501.853486997621,764.44533096926659,7024.5190222897563,2153.4591269841239,1399.1495271867609,561.16614319486553,267.3147331982434,89.709076325565619,0,2006.5358578183038,204.27087495815684,85.316139327363217,37.244385342789599,172.74486659912191,10.978993583248903,253.89007115858618,42.562690206205247,148.07684059439376,63.250540357987163,0,6.126320279899919,4.5242295912247137,0.52026331266699177,0.10362647828567771,0.14861188204646214,17.077356520197629,12784.832983045975,13624.402419047328,839.56943600135082,0.54091583104226548,0.10344290171541191,26.528199932455248,0,26.528199932455248,26479.44089751747,0.26528199932455249,7024.5190222897563,1770,0.1095890410958904,62840,0.84924671336723934,35.502824858757059]
[null,null,null,16312.27104874446,17280.033234859675,967.76218611521415,8398.4453471196448,1488.6078286558345,742.1713441654357,388.07976366322009,0,114.95937961595273,4966.761447562777,1181.0081240768095,103.02301756353167,22.359019486118232,7.1068971946973489,384.86786036507129,0,450.40539150579554,0,0,3.7845152643155187,446.62087624148,7.1314630899969291,6.6909930894256631,0.48602020800383289,4.2949647959485686E-2,6.8345246101397333E-2,16.31897345404327,16980.616691285082,17948.378877400293,967.76218611521415,0.4679222231983608,5.6145959372655173E-2,20.125553914327917,1.4771048744460855,18.648449039881832,41730.256880733941,0.20125553914327918,8398.4453471196448,207,1.3604873919629333E-2,1221.5,0.79158699808795407,5.9009661835748792]
[null,null,null,7583.7809187279154,8617.2438162544167,1033.4628975265018,4899.1378091872793,1316.5017667844522,896.85512367491162,407.79505300353355,239.61130742049471,84.261484098939931,0,773.08127208480562,47.187279151943464,76.487632508833926,0,465.01060070671377,383.03886925795052,61.738515901060069,31.455830388692579,0,30.28268551236749,0,6.5903056498919428,2.0118333432329512,0.56852723604572974,0.10407679564354487,8.9713287516197282E-2,11.142953749988576,8140.3604240282684,9231.2720848056542,1090.9116607773851,0.56862408849930135,8.9571092269708497E-2,14.699646643109537,1.6961130742049468,13.003533568904594,33328.269230769241,0.14699646643109537,4899.1378091872793,27,0.10499139414802068,3965,0.56485355648535573,146.85185185185185]
[null,null,null,15371.283981597659,16142.312839815977,771.02885821831876,13072.806357172731,69.979088247595143,1702.1413634462569,581.69803429527394,395.21957340025097,9.9916352990380588,0,310.47678795483063,147.48884888603925,98.866583019657043,8.4776244249268089,153.79757423672103,170.46424090338772,191.93398674758689,6.8147897588792112,0,185.11919698870767,0,6.5937315931425742,3.6216858606417004,0.80984716916945598,0.10544594076059682,1.923372388057188E-2,13.866391946655938,14922.379757423672,15528.820577164366,606.44081974069434,0.84990631415904538,7.9559572856126734E-2,30.744458385612717,5.3115851108322873,25.432873274780427,42520.854305536661,0.30744458385612716,13072.806357172731,0,0,0,0,"na"]
[null,null,null,20189.500640204868,22635.083226632523,2445.5825864276571,13147.247119078105,103.71318822023048,1929.5774647887326,709.34699103713194,1620.998719590269,57.618437900128043,2000.0000000000002,3066.5813060179262,217.02944942381563,41.613316261203586,0,196.54289372599234,322.66325224071704,1667.7336747759284,0,0,310.49935979513447,1357.2343149807939,4.8540328474172076,4.4124400958466454,0.58083493607874193,8.5247199909492033E-2,0.13547912659803146,12.132442513648826,20426.37644046095,22994.238156209987,2567.8617157490398,0.58317788233983914,8.0880919898655243E-2,42.592829705505764,7.6824583866837397,34.910371318822023,30867.277919735454,0.42592829705505764,13147.247119078105,177,4.1433090169948374E-2,4673,0.72680983862357817,26.401129943502823]
[null,null,null,11077.393854392452,"..",910.36593140379966,5398.1663403893454,1856.8684686030931,1020.0601830493711,367.45469187792946,522.00598939679242,154.13892390136809,13.36047471918743,2655.7047138591652,143.61025445052815,105.08235415081202,26.748839171509275,256.24543398123183,216.62319887842366,162.05585077129462,10.629143986573423,0,80.340851828540067,71.085854956181109,9.1268378190226276,"na","na","na","na","na",12968.889455565473,13632.422980295441,663.53352472996812,0.45551662043120655,7.4322285491799298E-2,23.709039908198392,3.283182455692975,20.425857452505419,22768.388603212497,0.23709039908198393,5398.1663403893454,1250,7.0280752252040904E-2,45684,0.77070102965657572,36.547199999999997]
[null,null,null,13705.430199430199,14256.330484330485,550.90028490028487,7517.9943019943021,2027.065527065527,1001.3162393162393,0,383.95441595441594,20.148148148148149,35.76638176638177,3270.0854700854702,131.13390313390315,67.384615384615387,0,307.6866096866097,0,44.695156695156697,29.128205128205128,15.566951566951566,0,0,6.6157859680284199,4.5470399549291676,0.52734427770579051,7.0236604041749223E-2,0.22937778228974903,13.421237627059698,13733.207977207978,14516.11396011396,782.90598290598291,0.52018034384030631,8.4447267169052334E-2,22.905982905982906,5.1282051282051277,17.777777777777779,32821.094527363188,0.22905982905982905,7517.9943019943021,76,1.584144991073648E-2,1051.5,0.65404475043029253,13.835526315789474]
[null,null,null,9774.7293612098183,10175.291298239816,400.56193702999752,5287.0481778365429,2032.2824559953724,1123.3914552516321,200.58507561358567,425.68630691678379,104.29055449962814,100.67680356995291,901.33046855631778,89.244690521444511,16.465581356912654,0,138.8141475911082,5.2888191058590203E-2,155.98462936947359,45.434261631270147,77.346500289232296,33.20386744897116,0,7.4774854550680052,3.3922029406335836,0.51959673908806214,0.11040386189690346,8.8580311082812488E-2,7.5360839981987269,9419.2265102057681,9881.3767457234953,462.15023551772583,0.5763021124731067,0.12752664572240879,20.246260639616562,2.8741426328402615,17.372118006776301,26113.702040816326,0.20246260639616562,5287.0481778365429,562,6.2271088154172642E-2,26438,0.69640644361833948,47.042704626334519]
[null,null,null,7682.3039414414416,8116.1355855855854,433.83164414414415,5251.157094594595,1565.0563063063064,993.78198198198197,100.21677927927928,94.000563063063069,19.313063063063062,0,92.609797297297305,51.25,34.580518018018019,185.97972972972974,161.25,0,0.77139639639639646,0.77139639639639646,0,0,0,4.7898180596011652,1.5852498505675134,0.64700214026990288,0.12244521687722394,1.1410577893963983E-2,17.39455244278448,7560.5292792792798,8193.9752252252256,633.44594594594594,0.65280879573956363,0.13245146881979042,22.240990990990991,2.8153153153153152,19.425675675675677,23610.265822784815,0.22240990990990991,5251.157094594595,253,0,0,0.76204819277108438,"na"]
[null,null,null,8239.4228841472159,8988.665330087355,749.24244594014044,3730.0243448374626,942.36001718459124,991.01102677932124,623.74910496921098,235.9530287841902,6.1105542030645861,0.56422740942288419,2458.893025920092,110.47400830588573,33.283047796088404,0,63.940208683934515,0,541.54518115423173,19.029070600028643,0.65874266074752974,369.28827151654019,152.56909637691538,5.329729875089078,4.9145964678210916,0.41496976557266185,0.11025118751080371,0.27355485332060925,9.6081818529715655,7166.6604611198627,7815.7783187741661,649.11785765430341,0.41414130124494347,0.11698998013469999,12.791780037233282,0.73535729629099245,12.05642274094229,29159.54100195914,0.12791780037233283,3730.0243448374626,348,5.8730026206168705E-2,9056.75,0.79574687017664214,26.025143678160919]
[null,null,null,11325.598023064251,11636.869851729818,311.27182866556836,7328.6490939044479,1323.1861614497529,1073.1729818780889,592.09884678747937,464.61943986820427,54.836902800658976,0,800.30642504118612,52.767710049423393,5.2553542009884682,0,167.28500823723229,0,85.963756177924211,0,0,85.963756177924211,0,"na",1.7547444762258229,0.62977838433202427,9.2221791216352045E-2,6.8773341563343235E-2,9.2139981790053387,11626.75453047776,11906.820428336079,280.0658978583196,0.67900114009939894,9.1263296547601916E-2,24.711696869851728,5.2718286655683695,19.439868204283361,29656.600000000002,0.24711696869851729,7328.6490939044479,1756,0.12157097346153295,16867,0.9590387766247952,9.6053530751708429]
[null,null,null,6312.0547763958721,6588.9349034136021,276.88012701772959,3544.7803651759727,554.91532151362799,660.56496427626359,0,563.77216194760524,169.36094204816089,70.124371526858965,1025.4167769251126,41.049219370203758,42.097115639057954,0,120.38634559407251,35.415453823762903,37.931992590632447,10.370468377877746,0,27.561524212754698,0,5.5524103654919923,3.243102593808957,0.53798989019294896,0.10025367892677729,0.15562709177683082,10.742303378057725,6365.8110611272823,6643.6623445355917,277.85128340830909,0.5683359621451104,9.6190612752126953E-2,11.854988092087854,2.8578989150568939,8.9970891770309613,29901.171875,0.11854988092087854,3544.7803651759727,133,2.4625525871539967E-2,3676,0.59748427672955973,27.639097744360903]
[null,null,null,10752.199439514245,11042.349369453526,290.14992993928075,5833.2590378327886,730.31293787949562,978.9851938346568,279.81415226529657,303.23624474544607,17.29430172816441,279.85852405418029,2619.5889771134985,60.559458197104163,6.4050910789350768,3.3212517515179827,61.284026156001872,0,158.58010275572164,2.0224194301728164E-2,158.55987856141991,0,0,6.5208261075200999,4.4617194901467885,0.52826249583891494,8.865732835286172E-2,0.23723112622754655,8.3574908088235293,10231.321812237273,10551.569360112097,320.24754787482487,0.55552742231277974,7.4808850108295771E-2,18.215787015413358,0.70060719290051376,17.515179822512845,32023.09641025641,0.18215787015413359,5833.2590378327886,38,1.7852991770886607E-2,1152,0.4935064935064935,30.315789473684209]
[null,null,null,17410.284879474068,18564.249452154858,1153.9645726807889,10198.898831263696,4060.3707085463839,1165.8035062089116,182.63148283418553,942.67531044558064,48.444119795471146,2.2005113221329435,1963.2249817384952,90.210007304601902,42.878013148283415,424.40467494521545,510.79072315558801,0.60445580715850988,85.076698319941556,0,0,18.674214755295836,66.402483564645721,7.9149536029836156,3.1466709300025664,0.54938384972411858,6.2798310764650395E-2,0.10575299512098575,7.9603641204338125,17653.867786705625,18807.832359386412,1153.9645726807889,0.54923819581948807,6.7966648571355606E-2,32.779401022644265,0,32.779401022644265,31113.74373259053,0.32779401022644267,10198.898831263696,421,7.4518860857450436E-2,23486.400000000001,0.70108243130724401,55.787173396674589]
[null,null,null,12883.640086362002,13461.693342929113,578.05325656711057,7339.7553076646282,2005.3220582943507,978.27844548398696,271.01475350845629,581.62288593019082,70.784454839870463,143.57682619647358,2071.3386110111551,66.1029147175243,24.516012954300109,61.687657430730482,188.62180640518173,6.1173083843109035,231.00755667506297,4.8938467074487226,106.62828355523571,119.48542641237856,0,7.1113357416822751,3.5200244830058582,0.54523269255126117,7.2671276975555033E-2,0.1538690979095246,11.713957408967225,13158.747750989565,13729.665347247212,570.91759625764666,0.58022935027207634,8.1248096566769956E-2,25.296869377473914,2.8787333573227785,22.418136020151135,29014.48079658606,0.25296869377473913,7339.7553076646282,131,4.5686742156858653E-2,5469,0.65076999503229005,41.748091603053432]
[null,null,null,11709.31619786615,14027.235693501456,2317.9194956353058,5198.0698351115425,3240.8098933074689,619.81571290009708,451.11542192046556,899.91270611057234,29.854510184287101,39.418040737148402,3548.2395732298742,259.14161008729388,9.684772065955384,414.91755577109603,331.44034917555774,64.65082444228905,1238.0843840931136,16.774975751697383,0,1221.3094083414162,0,7.2756640344580044,2.571921185332199,0.3705697935566668,4.4186590034075324E-2,0.25295358620613356,8.1798701759635204,11493.161978661494,13700.630455868089,2207.4684772065957,0.37715525632993163,6.0621506723727202E-2,15.421920465567412,0.96993210475266745,14.451988360814743,33705.723270440249,0.15421920465567412,5198.0698351115425,545,0.34681211447062393,27437,0.94486823855755897,50.343119266055048]
[null,null,null,12005.044570286476,24317.719453697537,12312.67488341106,7482.961359093938,14865.099933377749,1017.5195869420387,319.61025982678217,531.19920053297801,82.678214523650908,0,18.650899400399734,34.130579613590939,2.121918720852765,11157.108594270487,468.13124583610926,47.691538974017327,603.49100599600263,2.2651565622918057,80.429713524317123,409.99333777481678,110.80279813457695,6.9176020620271048,10.047026332196076,0.30771641120961057,4.1842722500333954E-2,7.6696745498327742E-4,14.787629297422558,11817.67488341106,23938.394403730847,12120.719520319788,0.27581848031519951,4.2465489223531536E-2,24.230512991339108,2.6648900732844769,21.565622918054629,30882.389331866925,0.24230512991339107,7482.961359093938,43,2.3632226063181723E-2,2861,0.37152237774321756,66.534883720930239]
[null,null,null,14853.205647727273,16707.223750000001,1854.0181022727272,6631.1633352272738,454.87152272727275,1034.3991477272727,691.19549999999992,575.44281818181798,9.5615909090909081,0,7310.5898352272716,54.842301136363638,23.631562499999998,0,131.85767045454548,1473.2320227272726,170.45454545454547,0,0,0,170.45454545454547,6.6186410503860227,3.4105510404572654,0.39690396408483325,6.1913287521948267E-2,0.43757059488876904,12.136189888542427,14860.32463068182,16706.91553977273,1846.590909090909,0.39691128619409299,6.1895979938914332E-2,25,0,25,26524.653340909095,0.25,6631.1633352272738,449,7.0565525130478299E-2,10857,0.83612662942271876,24.180400890868597]
[null,null,null,8507.8256058426468,9518.9554055549397,1011.1297997122939,5855.9710080779014,1987.3807679539668,414.55018258271548,295.05698793847512,112.07259046143631,211.14307845523956,0,642.78079008520524,143.30087418391059,208.92995463096159,0,270.54885470842095,237.48257164988379,150.86754453911695,61.543653867433882,0,89.323890671683074,0,"na",2.7342573945237802,0.6151905076328601,4.3549965823014368E-2,6.752639997768034E-2,5.4460806437374343,8558.8801593449152,9574.8146508797163,1015.9344915348013,0.6407412201424747,4.1208816608804585E-2,21.257054332189885,2.7885360185902397,18.468518313599645,27548.365434669442,0.21257054332189884,5855.9710080779014,879,9.0749339927639186E-2,31155.919999999998,0.82065166651106347,35.444732650739475]
[null,null,null,9499.3742177722143,"..",0,6427.7756024974206,0,1035.4450116601438,448.2102316250963,234.20323977011512,5.7687469637648912,60.971824598464295,1286.9995606572081,0,0,0,0,0,0,0,0,0,0,6.5732810708914213,"na","na","na","na","na",9668.3354192740917,10183.114046712059,514.77862743796595,0.8384693811520878,0.16108921828090064,20.181476846057571,2.816020025031289,17.365456821026282,31849.877248963963,0.20181476846057569,6427.7756024974206,46,4.0042313698372939E-2,2186,0.58785942492012777,47.521739130434781]
[null,null,null,11107.883720930233,11425.209302325582,317.32558139534882,7709.6104651162786,2062.7383720930234,853.3895348837209,70.656976744186053,450.50581395348837,249.3546511627907,0,28.953488372093023,17.63953488372093,9.5930232558139537,0,202.7093023255814,0,87.383720930232556,5.0755813953488369,82.308139534883722,0,0,7.8045060390213701,6.1684417365865301,0.67478942933211739,7.4693558104884331E-2,2.5341757517036989E-3,12.754329032425556,8482.5581395348836,8723.8372093023263,241.27906976744185,0.84338553815394857,9.3968677107630794E-2,17.267441860465116,3.476744186046512,13.790697674418603,44648.249158249157,0.17267441860465116,7709.6104651162786,88,8.9429743880005658E-2,4740,0.74766355140186913,53.863636363636367]
[null,null,null,8396.539878447873,9113.4122487143522,716.87237026647961,6120.8648901355773,1044.9929873772792,946.25469845722296,107.44740532959327,169.05095839177184,72.557269752220662,493.23515661524073,159.00888265544646,106.29733520336606,91.594202898550719,0,186.3487611033193,24.824684431977559,307.80738662926603,16.708742402992051,0,274.02524544179522,17.073398784478726,6.2833439355385909,2.8555215091487307,0.67163261389816531,0.10383099904107959,1.7447787756762367E-2,6.7416331987237728,8277.8868630201032,8866.6666666666661,588.77980364656378,0.71186029590104305,0.10545297324658069,19.214586255259466,2.3842917251051894,16.830294530154276,31855.304136253046,0.19214586255259467,6120.8648901355773,370,0.1288795267939245,9881,0.90002432498175622,26.705405405405404]
[null,null,null,19196.058252427185,23301.893203883494,4105.8349514563106,8776.8689320388348,4908.5533980582522,1504.6456310679612,29.771844660194176,1376.0873786407767,5.1407766990291259,4380.7572815533977,2320.0679611650485,58.063106796116507,27.660194174757283,2679.1699029126212,309.73786407766988,577,454.20388349514565,14.621359223300971,0,439.58252427184465,0,6.7543258702134272,4.4978870138023437,0.37665904891264723,6.4571819032163316E-2,9.9565642193329848E-2,17.935600664711888,20919.218446601943,24817.699029126212,3898.480582524272,0.41299604924922434,6.8294119879212425E-2,40.45145631067961,5.1941747572815524,35.257281553398059,21697.287891515662,0.40451456310679612,8776.8689320388348,0,0,0,0,"na"]
[null,null,null,5961.9300244100896,6522.0390561432059,560.10903173311635,4393.1244914564686,0,1551.1781936533766,251.07078925956063,117.9593165174939,208.70626525630593,0,0,178.39218877135883,45.711972628834125,67.770545158665584,173.92350336791122,42.707892595606182,51.602929210740442,0,0,51.602929210740442,0,6.6160622022834392,1.8972151438535434,0.67358144494987637,0.23783638526241249,0,5.45695954860662,6152.1562245728237,6740.439381611066,588.28315703824251,0.6908981168517625,5.4080154514727183E-2,15.134255492270137,3.7428803905614325,11.391375101708705,29027.688172043014,0.15134255492270138,4393.1244914564686,2289,0.51136668595872359,158156,0.96095717884130982,69.093927479248578]
[null,null,null,9430.1562199036907,"..",434.74479668271806,4244.0572364901018,5053.6321562332796,145.48956661316211,72.857811663991441,116.938697164259,16.523501872659175,215.40204654895669,0,113.38310593900482,26.63705189941145,0,176.15694221508826,35.670719636169075,82.896976993044404,8.5110888175494921,42.470652755484217,31.915235420010703,0,10.409765976597658,"na","na","na","na","na",7982.8785446762977,8506.3362760834661,523.4577314071696,0.4481226580695441,0.14152418719121193,13.6302835741038,0.93632958801498134,12.693953986088818,31136.969479882238,0.13630283574103799,4244.0572364901018,910,0.17262529682059671,34548.544000000002,0.89929834963929245,37.965432967032967]
[null,null,null,15545.55421322863,16311.153729990938,765.59951676230742,8322.4161884626992,2660.5980066445181,928.26940501359104,2013.4853518574448,951.89972817879789,21.316822712171547,172.51585623678645,1240.652370884929,57.055270311084257,58.731501057082447,238.1787979462398,171.59468438538204,0.27786167321051042,239.76140138930836,0.23859861069163393,121.54334038054968,117.97946239806704,0,7.7085063779293979,5.362660724729639,0.5102285421515258,5.6910100927244876E-2,7.6061595115970881E-2,12.330386558689293,14155.877378435516,14659.984898822107,504.10752038659012,0.59068658101357652,6.4125683133285441E-2,29.598308668076108,0,29.598308668076108,28117.877551020403,0.29598308668076106,8322.4161884626992,219,3.9796153396257583E-2,6600.2,0.69085173501577291,30.137899543378996]
[null,null,null,8617.9771595188922,9445.9871218563967,828.00996233750459,6283.0980439800751,1146.1292674037177,955.0965860770259,561.09464220629332,236.90924553517189,191.10314664074838,0,72.556190013364116,92.065362653383545,43.324018952739642,4.2522172275543675E-2,175.1354634916778,6.3175798809379176,511.12501518649009,22.194144089418053,0,382.38245656663833,106.54841453043372,5.3108821675467324,3.0548422344258879,0.66516055579221167,0.10111135805670282,7.6811654597200877E-3,9.2739165907258361,7623.0244938939895,9685.7016158425467,2062.6771219485563,0.66815916759791172,0.10034744046919453,23.690924553517188,3.0372980196816912,20.653626533835499,26521.117948717951,0.2369092455351719,6283.0980439800751,325,4.0990378882570309E-2,13544,0.625,41.673846153846156]
[null,null,null,11967.536502546691,13758.306196943973,1790.7696943972837,6315.7682512733445,4197.7292020373516,870.63217317487272,128.01358234295415,1395.5772495755518,73.463497453310694,0,777.12224108658745,76.270415959252972,10.0169779286927,1234.9800933786078,296.67232597623092,170.02122241086587,2.8086587436332771,0,0,2.8086587436332771,0,8.241919191919191,2.5412050246205782,0.45905129315091253,6.3280476587173173E-2,5.6483860001546093E-2,5.5670553381067123,11438.837011884551,12804.499151103566,1365.6621392190152,0.55458872822981098,4.719001306045599E-2,22.792869269949069,2.2071307300509337,20.585738539898131,27709.40409683426,0.22792869269949068,6315.7682512733445,180,4.3829612381865488E-2,4000,0.77021822849807442,22.222222222222221]
[null,null,null,11522.295272727273,12447.546181818181,925.25090909090909,6854.6792727272723,92.187636363636358,1242.3898181818181,291.10545454545456,318.04654545454548,78.519272727272721,0,3570.6181818181817,188.83490909090909,179.78618181818183,0,336.37381818181819,5.5243636363636366,214.73163636363637,108.26036363636364,106.39563636363637,7.563636363636364E-2,0,6.8189238818735216,3.4754431778031374,0.55068518506400321,9.9810018780773502E-2,0.28685317810137506,10.390549815870024,11773.968000000001,12799.713454545454,1025.7454545454545,0.54738725401011823,0.12202545897902489,22.676363636363636,2.8800000000000003,19.796363636363633,30228.300192431045,0.22676363636363636,6854.6792727272723,1119,0.11937284155750257,34341,0.87771589928621851,30.689008042895441]
[null,null,null,3878.8955223880598,4656.1990049751248,777.30348258706465,2061.990049751244,1167.2686567164178,1074.6119402985075,31.621890547263682,135.49751243781094,17.631840796019901,0,167.57711442786069,115.63681592039801,0.21890547263681592,50.766169154228855,186.54726368159203,162.52238805970148,261.61194029850748,0,0,261.61194029850748,0,6.6078580965096307,2.6835650650464089,0.44284835067144213,0.23079166915982116,3.5990110012223575E-2,3.3075789436482834,3402.9850746268658,4384.3327895617249,981.3477149348588,0.51263467883870539,0.20392391268252771,11.343283582089553,0.99502487562189057,10.348258706467663,18178.070175438595,0.11343283582089553,2061.990049751244,192,0.1541095890410959,6750,0.8938547486033519,35.15625]
[null,null,null,14446.773090079816,15240.490307867729,793.71721778791323,6664.1011022424927,1916.7350817179779,1049.6427213987076,-3.5651843405549219,224.70543519574304,74.606613454960083,27.985556822500946,5286.2789813759018,90.84758646902317,19.14101102242493,276.3245914101102,229.06499429874572,0,178.33903458760926,0,0,83.846446218167983,94.492588369441265,7.7827196858124692,5.2441862746252026,0.43726290740149132,6.8871978538435977E-2,0.34685754031462629,11.323491786473731,14415.294564804255,15209.01178259217,793.71721778791323,0.43447379989109053,6.9014524835867425E-2,28.620296465222346,2.5845686050931205,26.035727860129228,23284.528552456839,0.28620296465222345,6664.1011022424927,174,2.0692608124979993E-2,2585.5,0.69795427196149218,14.85919540229885]
[null,null,null,11427.498837749885,12413.193863319386,985.6950255695026,5097.9451417945147,2969.4328219432823,901.78056717805669,318.47977684797769,273.13807531380752,57.46629474662948,28.191538819153884,2766.7596466759646,14.700139470013948,24.765225476522549,219.12598791259879,202.54765225476524,247.08972570897257,277.46629474662944,10.534635053463505,0,266.93165969316595,0,7.3891347703666304,2.7761664237158783,0.4106876278520703,7.2646941400213771E-2,0.22288861973320631,8.5824242229436525,12294.546722454672,13464.235239423524,1169.6885169688517,0.39578310153765839,7.7223023475591956E-2,19.344490934449095,2.3245002324500232,17.01999070199907,26353.472722903149,0.19344490934449093,5097.9451417945147,220,0.18204747460389947,15049,0.84094644700126142,68.404545454545456]
[null,null,null,6229.1789215686276,7745.588235294118,1516.4093137254904,4450.8946078431372,1576.4154411764707,621.35416666666674,0,912.03431372549028,87.450980392156865,0,97.438725490196092,186.29289215686276,42.046568627450981,255.98039215686276,351.29901960784315,0,680.79044117647072,0,0,675.28186274509812,5.5085784313725492,6.3654446525733661,2.75401092819981,0.57463609898107715,8.0220397443199809E-2,1.2579900006328715E-2,11.382570641309634,6035.5392156862754,7938.7254901960787,1903.186274509804,0.63067304723680151,8.4902747761654837E-2,14.031862745098039,1.5318627450980393,12.5,31719.912663755458,0.14031862745098039,4450.8946078431372,72,3.87720045978793E-2,1501,0.75869336143308752,20.847222222222221]
[null,null,null,10230.223823626193,12185.005001645279,1954.7811780190855,7615.8769332017118,1434.0737084567293,1235.2485027969728,229.63145771635408,468.85817703191844,45.992102665350444,0.91477459690687735,1154.4093451793353,254.95467141408014,43.173330614484001,0,220.16090879736544,874.14939124712078,562.34287594603495,0,0,562.34287594603495,0,6.0272772912750447,2.1339763575560911,0.62502041912772122,0.10137447646760782,9.474016178273717E-2,7.4742259289236408,10282.987824942416,12240.868706811452,1957.8808818690361,0.63440860215053763,0.10215053763440859,27.311615663047057,2.7969726883843369,24.514642974662721,27885.120481927715,0.27311615663047056,7615.8769332017118,378,5.5722026968368879E-2,7959,0.81995661605206072,21.055555555555557]
[null,null,null,11111.923920994881,"..",7366.4959765910762,10151.747544658063,2610.671057705591,708.25324872665897,582.88104996148729,906.44633787835619,238.90693105341239,265.09311380644783,3014.4206137959422,945.38235573334623,838.68620959847419,1185.9053548226789,2078.1043382474281,1089.3607645507655,1229.0569536383825,151.4648069464449,195.54471913014734,568.54701951071638,313.50040805107392,16.553340314693806,"na","na","na","na","na",9956.1082662765184,10992.924760643204,1036.816494366685,0.53038799673842663,0.10538224472407692,33.06510607168984,5.852231163130944,27.212874908558891,30702.298437052144,0.33065106071689843,10151.747544658063,17,2.5079805414158572E-2,1889.5,0.27331189710610926,111.14705882352941]
[null,null,null,18493.866835957338,19605.873641442355,1112.0068054850176,13376.693753174201,2274.474352463179,2436.2412392077199,1070.3656678517013,399.82539360081256,34.936515997968513,7.1356018283392579,6.2011173184357542,272.45713560182833,118.14677501269679,0,124.81396648044692,0,596.58892839004568,31.745048247841545,154.12122905027934,410.72265109192477,0,6.9948018586917655,2.8092895847190342,0.68227991253085063,0.12426078448542381,3.1628875263829117E-4,13.442381355312502,18220.924327069577,19338.242762823767,1117.31843575419,0.69882081046300915,0.12508863618457336,41.55408836973082,5.078720162519045,36.47536820721178,32191.041310193112,0.41554088369730818,13376.693753174201,158,3.7972439591767333E-2,5248,0.65882745392377617,33.215189873417721]
[null,null,null,7004.795257035772,"..",2387.2735000000002,4758.545454545455,1383.45,783.76875703577196,236.08181818181819,651.59545454545457,37.490909090909092,0,1541.1363636363637,35.881818181818183,0.41895454545454547,198.81363636363636,215.34545454545454,1909.090909090909,27.722727272727273,0,0,27.722727272727273,0,8.9175767640610726,"na","na","na","na","na",5868.181818181818,7994.727272727273,2126.5454545454545,0.66214834777466969,0.10377578403948055,25,0.90909090909090906,24.09090909090909,19034.18181818182,0.25,4758.545454545455,89,3.2905557479224377E-2,3041,0.61805555555555558,34.168539325842694]
[null,null,null,9776.8114846996596,10105.591235360786,328.77975066112583,4324.4767661503593,1423.8723082735173,841.74914998111069,180.69512655836797,1104.4692104268984,91.639591990933141,234.72610502455612,1903.9629769550436,0,38.244705662452141,0,197.53920064657694,50.030222893842087,42.965621458254631,0,0,42.965621458254631,0,6.7738350639320348,4.339724880635055,0.42792912017047052,8.3295388698854181E-2,0.18840688611002077,8.3197778033509877,10340.899131091803,10532.697393275406,191.79826218360409,0.46784241778619479,9.4711092698901184E-2,29.278428409520213,1.1333585190782016,28.145069890442009,14770.18064516129,0.29278428409520213,4324.4767661503593,124,2.5503468917477991E-2,3295.9,0.61538461538461542,26.579838709677421]
[null,null,null,10291.234256926951,10867.229219143575,575.99496221662469,6987.4055415617122,1430.7304785894205,1275.6926952141057,299.04282115869017,534.53400503778334,339.82367758186393,0,0,0,135.86901763224179,0,137.25440806045339,176.32241813602013,126.54911838790932,0,0,126.54911838790932,0,5.0652390438247004,4.5727413405689568,0.64297949372897978,0.1173889562361362,0,12.249545712663259,10259.445843828715,11188.916876574307,929.47103274559186,0.64475461503827103,0.16006303466906799,23.059949622166247,7.0957178841309823,15.964231738035261,30301.044260934152,0.23059949622166248,6987.4055415617122,13,9.1483430078994538E-2,1498,0.58678029140412002,115.23076923076923]
[null,null,null,8952.8577044025151,9285.9984276729556,333.14072327044022,6333.5691823899369,926.3364779874214,805.5385220125786,614.69339622641508,165.51100628930817,50.283018867924525,0,390.06682389937106,37.971698113207545,7.8616352201257862E-3,12.20125786163522,202.33883647798743,0,80.621069182389931,0.6485849056603773,1.7138364779874213,78.258647798742132,0,8.8133938884204408,4.4476203565464436,0.68205581033865315,8.6747647900953198E-2,4.2005911043118786E-2,4.6989843616356834,8227.2012578616359,8510.2201257861634,283.01886792452831,0.65127020785219403,9.237875288683603E-2,18.00314465408805,3.3805031446540879,14.622641509433961,35180.34934497816,0.18003144654088049,6333.5691823899369,40,1.3389010406310069E-2,1010,0.46620046620046623,25.25]
[null,null,null,12324.95207697007,13034.093249847285,709.14117287721444,6821.1809407452665,1629.5364080635309,1045.4091325595602,213.3985949908369,940.45998778252897,60.069975565058037,0,2324.0382101405012,84.184911423335379,4.1321014050091627,35.096762370189374,241.79581551618816,178.84596823457545,165.08561392791694,1.0900427611484422,0,163.99557116676849,0,5.3118641414931922,3.3542537556279401,0.52333375325707354,8.0205742932812671E-2,0.17830455602791787,9.9573973660753889,12284.972510690288,13164.63042150275,879.65791081246186,0.52843321500661233,8.3362334980626895E-2,22.296884544899207,2.4434941967012831,19.853390348197923,30592.529315068499,0.22296884544899206,6821.1809407452665,402,0.14900104020947666,20770,0.84631578947368424,51.666666666666664]
[null,null,null,6199.3271604938263,6761.2117283950611,561.88456790123462,3748.6094771241833,928.15039941902694,784.31372549019613,16.797966594045025,375.49364560639066,30.577087872185913,0,877.26942628903419,68.112164124909228,38.268264342774152,213.25777051561369,219.22530864197535,0,23.021060275962238,0,0,23.021060275962238,0,9.2610467960215246,2.0463347063206503,0.55442864795686664,0.11600194713564638,0.12975032605542669,9.3148459729864914,5356.2091503267975,5612.3819898329702,256.17283950617286,0.47200207032639985,0.13974703199301267,10.84241103848947,1.6339869281045754,9.2084241103848949,34573.578365706635,0.10842411038489469,3748.6094771241833,162,8.6385931218873863E-2,4588,0.84436568331074746,28.320987654320987]
[null,null,null,7407.9948497854075,7910.1407725321887,502.14592274678114,4443.5793991416313,1056.7896995708154,826.91502145922743,0,115.19828326180257,35.898712446351929,0,1431.7596566523605,74.506437768240346,89.27038626609442,0,179.91416309012877,6.3519313304721026,152.10300429184548,0,0,152.10300429184548,0,5.9041412692721407,4.4843769921099064,0.56175730962612891,0.10453859738257426,0.18100305643410522,15.896475466959227,7918.4549356223179,8434.849785407725,516.3948497854077,0.57242586449026112,0.10099118718580181,15.845493562231761,4.0171673819742484,11.828326180257513,28043.174431202602,0.15845493562231761,4443.5793991416313,19,7.4513527911139639E-3,1126,0.17070979335130279,59.263157894736842]
[null,null,null,9338.1985638463939,10409.260068685608,1071.0615048392133,5125.9350608804243,1542.990945988136,688.90727443022161,41.570402747424289,993.75273181392436,330.99594130502652,0,1685.1077115204496,37.205744614423978,22.126131751482983,12.900405869497346,281.34561348735559,81.34249141429909,636.14111770215425,34.854823602872308,75.788323446768658,525.49797065251323,0,7.6458085535501885,3.6082713211516735,0.49243990706898377,6.6182156069159573E-2,0.16188544626623308,16.213217272904107,9027.5991258195445,9817.1089603496712,789.50983453012793,0.58123278696866199,7.382919584533873E-2,18.794879800187324,5.8694973462379023,12.925382453949421,27273.039867109634,0.18794879800187325,5125.9350608804243,261,9.0194656027082584E-2,9698,0.81257783312577836,37.157088122605366]
[null,null,null,8196.4260228034891,8521.0799463447347,324.65392354124748,5865.0503018108657,36.109993293091883,1293.4944332662644,529.0006706908116,257.21663313212611,2.4346076458752517,0,537.77330650570093,69.425217974513743,10.997652582159624,0,236.32461435278339,0,7.9064386317907438,7.9064386317907438,0,0,0,6.8600769148020655,2.17549057111008,0.68829894083164667,0.15179935423808943,6.3110933108471559E-2,6.8485390242193267,9304.7619047619046,9535.6673373574777,230.90543259557344,0.72035099960049742,0.17372735917533666,28.343393695506368,2.0120724346076457,26.331321260898726,20692.830099384766,0.28343393695506369,5865.0503018108657,268,5.9949802845783044E-2,4379.45,0.86379165860890872,16.341231343283582]
[null,null,null,14744.862726849697,15209.181014425314,464.31828757561658,7994.8348068869236,3482.6058631921824,794.78827361563515,470.7771056305258,210.41879944160073,54.308980921358767,150.31177291763612,2051.1354118194508,182.68962308050254,10.246626337831549,12.899022801302932,219.22754769660307,0,39.25546765937645,0,19.530013959981385,19.725453699395068,0,6.96177255009232,5.7150178525841655,0.52565846900659119,5.2257138162916827E-2,0.13486166085300905,13.782566710521877,16517.138203815728,16927.608189855746,410.46998604001863,0.55624325302804523,4.4238969053063952E-2,24.569567240577012,2.7919962773382969,21.777570963238713,32539.583333333332,0.24569567240577012,7994.8348068869236,175,3.4588293539167814E-2,3074,0.768217734855136,17.565714285714286]
[null,null,null,10358.10260993922,12311.475867000358,1953.3732570611371,5652.2184483375049,1489.828387558098,994.17518770110837,563.0943868430461,722.00750804433324,93.067572398998934,597.35609581694678,2199.7282803003218,107.15230604218806,132.61172685019665,70.502323918484095,312.76188773686096,147.37039685377189,1182.9746156596352,124.82481229889167,0,54.537003932785126,1003.6127994279585,5.5964864391951004,3.9823312029207836,0.45910161457471516,8.0751909717493131E-2,0.17867299615933674,17.955713492388355,10867.000357525922,12504.290311047551,1637.2899535216304,0.43007047992108532,1.6883729574404208E-2,20.77225598855917,1.787629603146228,18.984626385412945,27210.421686746991,0.20772255988559171,5652.2184483375049,541,6.6864121331928469E-2,13530.31,0.82318928788800971,25.009815157116449]
[null,null,null,9024.8690728945494,9707.9830148619949,683.11394196744504,5046.6135881104028,1659.2462845010614,811.74451521585274,446.07218683651803,219.07643312101908,142.35668789808915,349.64968152866237,1033.2236376503893,100.55555555555554,67.346072186836508,143.34748761500353,131.482661004954,63.22717622080679,177.15498938428874,47.738853503184707,0,65.721868365180455,63.694267515923563,5.8479817951204964,3.7151013045962844,0.51984161698516773,8.3616186181326171E-2,0.10643030957806812,4.1949751602086263,9058.7402689313512,9731.0686482661004,672.32837933474866,0.52,8.3636363636363634E-2,15.251238499646142,2.5123849964614293,12.738853503184714,33089.860788863109,0.15251238499646141,5046.6135881104028,245,0.11144505707811797,8784.2999999999993,0.850399166955918,35.854285714285709]
[null,null,null,17624.750499001995,"..",2741.1842980705255,12806.85142771141,2754.6144950744138,1831.8860304047928,2472.2033300977478,443.09701052267332,57.282503261486276,0,0,827.15353573812115,769.6661932293938,419.47437372403954,687.09971125968798,0,37.790484119282844,37.790484119282844,0,0,0,8.9341785657986392,"na","na","na","na","na",18809.048569527611,20456.002574451246,1646.9540049236384,0.69090137058464762,0.15880367075158588,27.611443779108448,5.9880239520958076,21.62341982701264,46382.404086386145,0.27611443779108447,12806.85142771141,46,3.1021674940550172E-2,2159,0.52571428571428569,46.934782608695649]
[null,null,null,10920.21210443038,11550.131764240507,629.91965981012652,5678.9513053797473,697.25810917721503,941.2753955696204,222.31408227848101,143.23124999999996,20.552531645569616,35.838607594936704,3810.7104825949364,82.097943037974687,33.607792721518983,12.436273734177215,413.73967563291137,0,88.037974683544306,0,0,88.037974683544306,0,6.8632069727473599,3.6607598537638508,0.49167848655735003,8.1494775538737338E-2,0.32992787964488773,17.831940773402387,11199.62420886076,12028.738132911392,829.11392405063282,0.48728404582248802,8.7869734434116595E-2,20.965189873417721,3.5601265822784804,17.405063291139239,27087.526226415099,0.20965189873417722,5678.9513053797473,64,0.10028728127448421,9600,0.54700854700854706,150]
[null,null,null,17771.36782005068,"..",1600,8817.7534246575342,2303.2876712328766,1331.882432085484,455.09589041095893,996.22511399259281,70.68493150684931,2547.1232876712329,2849.3150684931506,12.521608286341023,28.001520648164576,51.116654610192988,363.65358359524168,0,1144.7066328600599,0,112.9286277711555,18.927624222250628,1012.8503808666537,13.898281867324284,"na","na","na","na","na",16975.342465753423,19014.811800358078,2039.4693346046531,0.4972187286001517,9.819037391826535E-2,42.739726027397261,29.260273972602739,13.479452054794521,20631.282051282051,0.42739726027397262,8817.7534246575342,88,7.9393670876882066E-2,10931,0.53012048192771088,124.21590909090909]
[null,null,null,18267.742704065553,19704.714024582412,1436.9713205168609,9695.2726126693979,3369.4075007878978,1353.8567916797983,893.06965017333755,548.83075953356445,79.602899464229438,51.370942325874566,3713.3028679483136,215.51843681058935,77.072171446580526,0,1133.419476835802,0,10.961235423889063,10.961235423889063,0,0,0,5.8585439814266431,3.1426612797022759,0.49202808021340277,6.8707254009919061E-2,0.18844743766977898,13.06169271426333,18345.140245824139,19770.832020170186,1425.6917743460447,0.52262379279755344,6.8477520150925716E-2,29.908603844941695,5.3577056413488808,24.550898203592816,32416.332982086409,0.29908603844941695,9695.2726126693979,220,4.8942790096732317E-2,7936,0.6986344871387743,36.072727272727271]
[null,null,null,12704.42561111111,12969.977333333332,265.55172222222222,6345.9364444444445,2687.8088888888888,2171.8823888888887,0,792.84622222222231,90.964055555555561,49.553666666666665,830.9856666666667,80.844722222222217,1.1236111111111111,0,183.58338888888889,0,0,0,0,0,0,6.9169623209233402,5.2084311319533994,0.48927891555640179,0.16745460173681792,6.4069939777843879E-2,10.924641647168928,6410.7277777777781,6647.7666666666664,237.03888888888889,0.33375202031091483,0.15849600283470305,27.161111111111115,2.7777777777777777,24.383333333333333,23364.053180609528,0.27161111111111114,6345.9364444444445,13,2.1142834261001879E-2,1716,0.21005008886734527,132]
[null,null,null,9093.1956307129785,9498.1749611517353,404.97933043875685,4291.0905461608772,1860.6113688299811,926.87827925045701,1173.4939213893967,540.88938528336394,222.37160648994515,0,482.83985374771481,43.230301645338209,13.077159506398536,32.566944698354661,136.2761654478976,27.308078153564896,152.52068098720292,22.451599634369284,0.31495658135283361,129.7541247714808,0,8.1973531391585759,3.0412941395984574,0.45178053296678222,9.7584881626360892E-2,5.0835013644470323E-2,8.8443386335369354,8425.8097634826318,8821.2736574497249,395.46389396709321,0.48917806357790583,8.3942773374612589E-2,14.939442413162704,2.799360146252285,12.140082266910419,28723.230944550669,0.14939442413162704,4291.0905461608772,1151,0.32118013816415325,100528.5,0.89799102789155449,87.340139009556907]
[null,null,null,14450.422206991087,15069.591124057572,619.1689170664838,7617.8661754626455,2936.7538725154213,1734.1282042494859,278.61703221384505,1095.1953392734749,78.271076079506514,0,1328.759424263194,82.150651130911584,9.6236806031528435,19.979437971213159,197.87320082248115,183.43906785469497,126.10287868403016,0,0,30.934955448937625,95.16792323509253,8.452637949962444,5.7048829847547404,0.50551246631378366,0.11507466858082624,8.8174882339171132E-2,13.637639026296444,14455.106237148731,15071.96710075394,616.86086360520903,0.50552137335152347,0.10231923601637108,27.244688142563401,4.6264564770390679,22.618231665524331,27960.922641509431,0.272446881425634,7617.8661754626455,28,8.5360869840502354E-3,1112.25,0.26046511627906971,39.723214285714285]
[null,null,null,8951.333072713056,9507.509773260359,556.17670054730252,5298.9405785770132,1786.7513682564502,845.75449569976536,159.88272087568413,480.19937451133694,70.496481626270523,0,865.48475371383893,39.702892885066454,26.813917122752148,46.352619233776387,193.21735731039874,211.19624706802188,38.893666927286944,0.41438623924941359,0,38.479280688037527,0,8.9003864487146913,5.2444536930813488,0.55734263807754947,8.8956468714702711E-2,9.1031697505901482E-2,6.980722808568534,9474.5035183737291,10046.473807662236,571.97028928850659,0.57099764659004593,8.3700145687282873E-2,18.725566849100858,2.1501172791243155,16.575449569976545,28297.891440501047,0.18725566849100858,5298.9405785770132,23,1.8325020021314028E-2,1453,0.32440056417489421,63.173913043478258]
[null,null,null,7323.5499604534671,9104.1879778539405,1780.6380174004746,5732.01950962299,923.61059847086733,1081.7387292380702,223.99419984181387,564.18138676509352,297.83153176904824,15.355918797785394,265.45610334827313,173.91906142894805,56.956235170050093,487.11969417347746,489.35143685736881,251.20616925916161,322.08542051146844,20.823886105984709,0,301.26153440548376,0,6.4273545613327965,2.3900749299564787,0.62960249981285588,0.11881770585904138,2.9157581543131431E-2,7.4180287723112146,8039.810176641181,9858.950698655417,1819.1405220142367,0.60462628693675624,0.15173151490841022,23.332454521486948,1.3050355918797785,22.027418929607169,24566.723163841812,0.23332454521486948,5732.01950962299,1181,0.10933537297210258,35308,0.86966126656848308,29.896697713801863]
[null,null,null,12636.869753760819,13444.000924447433,807.13117068661222,6688.1596436675345,10.187410706782082,943.08604084376839,23.727372048071267,202.24008740230275,212.48939406672829,5.1917388015799641,5358.919236910664,201.04018825111353,78.729716782922935,0,433.58741070678207,0,93.773854945793758,63.423464156651818,0,30.350390789141944,0,6.499966696027851,5.2502581147204985,0.4974828312831604,7.0149209758592054E-2,0.39861044840942117,20.707227652410968,11887.662996890493,12638.273132195982,750.6101353054878,0.47358783263076631,6.2543317782885979E-2,22.606941759811747,3.6893856626607278,18.917556097151021,29584.539628252787,0.22606941759811747,6688.1596436675345,918,5.679613850127415E-2,26322,0.77337826453243474,28.673202614379086]
[null,null,null,11579.408312958436,12725.770171149145,1146.361858190709,6603.0073349633249,2556.2493887530563,1414.1809290953545,734.96821515892418,937.66748166259174,239.21760391198043,0,240.47921760391199,146.31784841075793,3.4229828850855744E-2,0,196.21515892420538,544.99755501222489,258.79706601466995,7.124694376528117,15.105134474327629,236.56723716381418,0,11.279867819013726,2.6519126457068269,0.51886897579944813,0.11112733532635008,1.8897026613690335E-2,7.7744053629362311,11802.444987775061,13356.479217603912,1554.0342298288508,0.58991725854872956,0.12649190891118109,24.938875305623473,2.4449877750611249,22.493887530562347,26476.76470588235,0.24938875305623473,6603.0073349633249,109,6.4711259578598107E-2,5734,0.68125000000000002,52.605504587155963]
[null,null,null,6999.6576576576581,8156.119099099099,1156.4614414414416,3944.6273873873874,2243.8597747747749,914.57117117117116,203.52698198198198,790.9414414414415,16.40990990990991,42.182432432432435,0,121.88927927927926,52.893783783783782,262.57126126126127,649.4050000000002,0,69.702117117117126,19.418918918918919,0,50.2831981981982,0,8.2055943104514526,3.4825578452152435,0.48364023863053929,0.11213313097306193,0,4.0194337545174434,6935.135135135135,7781.531531531532,846.39639639639643,0.49209840810419681,0.10164978292329956,14.594594594594593,2.4774774774774775,12.117117117117116,27028.002469135805,0.14594594594594593,3944.6273873873874,255,6.7101369668834274E-2,3787,0.88726513569937382,14.850980392156863]
[null,null,null,6501.9409413854355,"..",322.16647424511547,4620.0023534635884,1098.7200710479574,928.02175843694511,121.21323268206041,15.497158081705152,40.652841918294854,0,0,23.075399644760214,4.2833037300177619,172.46851687388991,121.82815275310836,0,0.511101243339254,0.511101243339254,0,0,0,7.3441739130434778,"na","na","na","na","na",9293.9609236234464,9665.4529307282428,371.49200710479573,0.5357915338178677,0.23684779409279508,16.385435168738898,3.330373001776199,13.055062166962699,28195.786720867214,0.16385435168738899,4620.0023534635884,42,2.5974025974025976E-2,1599,0.53231939163498099,38.071428571428569]
[null,null,null,9901.0537489410744,"..",380.49721662342796,3903.9426321709784,15.489313835770528,765.145613048369,208.81817591320993,1454.0944881889764,30.629921259842519,0,3903.4308211473563,27.908872830245532,21.034870641169853,5.6242969628796394E-2,297.86276715410571,33.301456829972587,0.33300619830551353,8.1906371935108357E-2,0,0.25109982637040518,0,4.4939188461308275,"na","na","na","na","na",8169.9662542182223,8488.9201349831274,318.95388076490434,0.44575407631200592,0.13418536701715331,13.160854893138357,3.0933633295838021,10.067491563554555,29663.290598290598,0.13160854893138357,3903.9426321709784,101,6.4552633521119826E-2,2624,0.81189710610932475,25.980198019801982]
[null,null,null,7416.6960579710139,8402.0004057971,985.304347826087,5054.4197101449272,1545.6695652173912,608.6647536231884,0,372.63188405797104,33.182608695652171,787.43188405797105,0,65.652173913043484,5.6231884057971016,25.66376811594203,263.53043478260872,597.10144927536237,27.733333333333334,0.78260869565217395,0,26.950724637681159,0,4.5624327748838525,2.1965831032193721,0.60157337134351319,7.2442837922648759E-2,0,5.6284371116565168,9605.7971014492759,10591.101449275362,985.304347826087,0.56490186722723934,9.2652568604215196E-2,16.231884057971012,1.7391304347826086,14.492753623188406,31138.835714285717,0.16231884057971013,5054.4197101449272,83,4.2669584245076594E-2,2028,0.74774774774774777,24.433734939759034]
[null,null,null,9057.2408677109379,"..",109.52316011796194,5263.4536082474224,622.72459499263618,2322.1690351926704,16.678939617083945,0,0,0,941.73784977908679,12.923416789396169,10.181740447379116,0,19.103006125864788,0,67.314996755321857,1.8523333167764995,14.97665460202106,50.486008836524299,0,"na","na","na","na","na","na",9138.4388807069208,9647.0096554887423,508.57077478182094,0.42764118792599798,5.817916260954234E-2,19.14580265095729,1.4727540500736376,17.67304860088365,27491.423076923074,0.19145802650957289,5263.4536082474224,64,7.1183608863876188E-2,3238,0.71111111111111114,50.59375]
[null,null,null,21690.081082782501,25607.577683349071,3917.4966005665719,13576.263581995596,4819.7878816493549,1362.5029272898962,363.14674220963173,1712.267768334907,32.809505823103557,6.9455461126849229,3733.8537299339005,115.52817123072082,0,0,87.764054139124966,3226.3141328297138,487.89024236701295,0,0,487.89024236701295,0,6.5110294752875575,4.3445483751588041,0.53016586534943322,5.3207021145769778E-2,0.14581050094253081,14.100458482171486,22665.387598363232,26582.884198929805,3917.4966005665719,0.54967754325381168,5.1254894581557443E-2,34.749763928234181,0.94428706326723322,33.805476864966955,39068.649818840589,0.34749763928234179,13576.263581995596,153,1.8910848855395995E-2,3458,0.58086560364464701,22.601307189542485]
[null,null,null,12749.530456852792,13205.321489001692,455.79103214890017,6762.4280879864637,2722.9991539763114,762.03045685279187,961.81472081218271,560.82910321488998,9.5896785109983078,0,1425.630287648054,0,0.35956006768189508,15.384940778341793,355.92639593908626,77.525380710659903,6.5947546531302876,6.5947546531302876,0,0,0,6.9118834474284707,3.5905983299210966,0.51209870911652422,5.7706316161061567E-2,0.10795877168423487,18.104483584547843,12193.857868020305,12584.293570219967,390.43570219966159,0.55824395018768525,7.8388478103832454E-2,22.123519458544838,0.63451776649746194,21.489001692047378,30566.692160611859,0.22123519458544838,6762.4280879864637,155,0.18589007037339139,19405.650000000001,0.74770863482875061,125.19774193548388]
[null,null,null,12277.068160462595,13663.327647271413,1386.2594868088183,6774.8942537043731,964.85692085290918,2077.462956270329,130.20961329960247,591.74557282255148,2.391073364654861,-23.155041561257679,3144.922298518251,96.570292735814959,0.60715576436573915,257.871340802313,86.628117094325987,470.57462956270331,474.0079508492953,0,0.31803397181062526,473.68991687748468,0,10.327412844036697,3.1521353420194078,0.49584511391391023,0.15204663240914093,0.23017250114369442,6.1760676572832534,12024.575352367185,12966.028189374774,941.45283700758944,0.53056275608328463,9.1674331744571722E-2,18.720636067943623,0.72280448138778464,17.997831586555836,36189.444787644781,0.18720636067943622,6774.8942537043731,39,1.3049901510177282E-2,1113,0.42951541850220265,28.53846153846154]
[null,null,null,11643.580526799386,13456.441169984684,1812.8606431852986,7812.0612557427257,1902.6921898928024,1124.5851209800917,635.96937212863702,1388.3981623277182,0,0,592.73506891271052,132.93415007656967,41.185298621745787,0,792.78713629402762,0,845.95405819295559,18.101071975497703,0,827.8529862174579,0,6.8705896182734847,3.2688335557926465,0.58054437700570849,8.3572254117867312E-2,4.4048427175146274E-2,7.8022831179809193,11892.395099540581,13423.788667687595,1531.3935681470139,0.58195651385269054,8.4647788764751472E-2,20.980091883614087,4.4410413476263404,16.539050535987748,37235.59124087591,0.20980091883614085,7812.0612557427257,169,3.2733892656815512E-2,3767,0.71157894736842109,22.289940828402369]
[null,null,null,7522.5137470167056,7946.2225775656316,423.70883054892602,3626.0381861575179,925.9188544152745,846.72377088305495,764.51073985680193,160.38186157517899,49.479713603818617,0,1573.1694510739858,45.43198090692124,7.9093078758949877,0,187.236276849642,114.81622911694511,68.315035799522676,16.868735083532219,10.639618138424821,40.806682577565631,0,6.8434657295155441,2.8048484128588753,0.45632225258764075,0.10655676488015685,0.19797701810108809,5.9028920998510737,7637.231503579952,8019.0930787589496,381.86157517899761,0.47023809523809529,8.6309523809523808E-2,17.470167064439142,3.1026252983293556,14.367541766109786,20755.601092896173,0.17470167064439143,3626.0381861575179,53,2.928071292170592E-2,1794,0.59151785714285721,33.849056603773583]
[null,null,null,8498.8674255691767,9223.7045534150602,724.83712784588442,6338.8546409807359,7.2329246935201397,1113.9772329246935,474.66252189141852,422.34676007005254,179.33625218914185,6.4220665499124348,680.87215411558668,72.373029772329247,69.547070336331245,0,264.610547877329,222.09106830122593,96.21541155866899,31.299474605954465,0,8.3450087565674256,56.570928196147108,6.3165585012672958,3.7156671887346198,0.68723522140936166,0.12077329954288761,7.3817645629542086E-2,11.92418873178849,8490.7005253940461,9059.8458844133092,569.14535901926445,0.72803166026569399,0.11852747211962024,23.157618213660243,3.2942206654991244,19.863397548161121,27372.653709445665,0.23157618213660242,6338.8546409807359,265,3.7781432376184317E-2,8437,0.66711980464718168,31.837735849056603]
[null,null,null,8313.9181072555202,9530.0379810725553,1216.1198738170347,5112.9716088328078,1858.6056782334385,277.74145110410097,0,801.80441640378547,149.39432176656152,39.634069400630914,1289.8864353312304,172.75709779179812,63.041009463722396,3.1545741324921135,159.84858044164037,580.0441640378549,237.2744479495268,0,0,237.2744479495268,0,"na",4.323589998998183,0.53651114706862579,2.9143792674878998E-2,0.13534955872086257,15.162576364421158,8360.7381703470037,9660.2334384858041,1299.4952681388013,0.55413360049688243,3.1740910572270332E-2,15.627760252365929,2.1324921135646688,13.495268138801261,32717.23859507469,0.1562776025236593,5112.9716088328078,322,0.23017523727557437,12035,0.92856936874585461,37.37577639751553]
[null,null,null,8065.9888927698239,8789.726685295147,723.73779252532313,7361.7750727674938,0.53934101758062636,1087.8479566887884,7.2157294213528935,188.49891721969962,143.84966818023054,0,0,137.85423215741065,82.445884270578659,11.642798928862499,330.35775992548611,50.662917685411571,110.77419955757365,47.543695424380019,10.84985446501339,52.380649668180233,0,7.14390199809705,2.5827417718790788,0.83754311554231176,0.12376357031768843,0,10.965900672813794,7909.1861683548723,8793.6896029805575,884.50343462568401,0.83606296919064194,0.12180751764223012,26.138083595296308,4.3660495983234373,21.772033996972873,28164.938129175949,0.26138083595296308,7361.7750727674938,964,7.7309413129710319E-2,30566.52,0.8111064366848969,31.708008298755185]
[null,null,null,30539.757148452798,34615.746180963572,4075.9890325107713,18968.272620446533,4910.6933019976495,1839.7963180571876,557.77516647081859,1269.8785742264004,110.84998041519781,560.51703877790828,6397.9631805718764,188.79749314531924,100.27418723070896,0,720.72072072072069,1120.2506854680767,1945.9459459459458,42.694868781825299,21.543282412847628,165.29573051312181,1716.4120642381511,4.9786663415823478,4.7224377512872966,0.54796659651028579,5.3149116255912371E-2,0.18482811686695183,13.057276845473968,32405.405405405403,36685.46807677242,4280.062671367019,0.52739755279847955,4.9307053321659661E-2,53.184488836662744,14.923619271445357,38.260869565217391,35665.046398585953,0.53184488836662747,18968.272620446533,221,4.3299071884003927E-2,9986,0.61942934020965301,45.185520361990953]
[null,null,null,8831.1266010841191,9614.4007829753064,783.27418189118657,5165.7332262597874,1483.6746034932748,529.59142742421193,0,157.85695643445089,19.746075085324232,9.0523991166432438,2248.746095161614,160.65898413973099,361.15195743826541,116.16807869905641,110.75541056012848,0,34.539751054005215,0,0,34.539751054005215,0,7.0207088004236917,2.9527249303118808,0.53729123040169136,5.5083144480723704E-2,0.23389352554800708,12.610237517895584,7901.6261794820311,8444.4890584220029,542.86287893997189,0.47280205411059867,6.352527221720318E-2,17.416181489660708,4.3766311985545068,13.039550291106202,29660.538559077817,0.17416181489660709,5165.7332262597874,915,0.18864338151711277,32775.75,0.91340154729223855,35.820491803278685]
[null,null,null,23791.371769383695,26967.143803843603,3175.772034459907,19739.277667329356,2851.8489065606359,1699.3373094764745,507.05102717031144,514.89065606361828,401.23923127899269,1142.6971504307487,110.80185553346587,455.22200132538103,75.62624254473161,0,641.88204108681248,1709.2113982770045,293.83035122597744,17.899271040424122,30.046388336646785,245.88469184890656,0,6.3134576595067049,5.6361687245933192,0.73197509572800712,6.3015101704403317E-2,4.1087723764677434E-3,17.087019323630926,24983.631544068918,27359.708416169648,2376.0768721007289,0.71756633031211692,6.1825131158897248E-2,70.907886017229941,2.8495692511597079,68.058316766070249,27837.915887850471,0.70907886017229937,19739.277667329356,100,3.568318830452169E-2,6434,0.48309178743961351,64.34]
[null,null,null,14800.560313531358,15432.81535684819,632.2550433168318,8086.0732363861407,4177.8879022277233,780.70978754125417,464.63304455445547,236.5564047029703,64.749412128712876,191.67029702970297,1430.5352722772277,107.84068688118812,27.317759900990101,15.934405940594059,107.45099009900991,148.33137376237624,225.37982673267328,25.374288366336632,142.45386757425743,57.551670792079214,0,7.6028032677387856,4.7445204893524888,0.52395321588539645,5.0587645189108049E-2,9.2694381368493395E-2,13.912317824332986,16280.940594059406,16835.396039603962,554.45544554455444,0.50569727266044251,4.4640888039403075E-2,27.877475247524757,2.2277227722772279,25.649752475247528,29005.758823529413,0.27877475247524758,8086.0732363861407,179,0,0,0.66518023039762164,"na"]
[null,null,null,9703.3893129770986,10319.064885496184,615.67557251908397,4577.8740458015263,3264.5381679389311,530.44274809160311,293.50763358778624,173.09923664122138,47.603053435114504,317.24045801526717,1114.7595419847328,64.580152671755727,5.1106870229007635,15.324427480916031,337.01908396946567,136.86259541984734,56.778625954198475,0,0,56.778625954198475,0,8.0044331258253152,3.9903223140251911,0.44363264468235808,5.140414892023399E-2,0.10802912418465042,10.914399557545346,9572.0610687022909,11016.412213740457,1444.3511450381679,0.49259675016457061,0.10422963655891627,13.16793893129771,3.4351145038167941,9.7328244274809155,34765.304347826081,0.1316793893129771,4577.8740458015263,41,6.6519585397327566E-2,3995,0.54304635761589404,97.439024390243901]
[null,null,null,12401.621347745313,"..",6433.0349603107579,5405.7255387089726,11133.14819976619,1360.2519030393755,240.08916603849033,545.43645964568475,150.00504085736003,0,0,130.01490697973929,83.619396957984804,4497.7160744940456,690.89125054471651,885.76463033476364,145.02870099950889,33.410247576375681,0,111.61845342313319,0,12.955150131137827,"na","na","na","na","na",13165.005911163655,23030.761259740495,9865.7553485768403,0.27263653665502841,5.3377137372870767E-2,18.821145076845127,2.6701570680628275,16.150988008782299,28721.555020365962,0.18821145076845128,5405.7255387089726,576,0.10444587310222046,21120,0.83789130687769109,36.666666666666664]
[null,null,null,2963.1824678418293,15120.295378751785,12157.112910909957,7440.2763220581228,1867.38923296808,836.23630300142918,1163.3968556455454,3259.1376846117196,117.94664125774177,0,435.91233920914721,105.2929966650786,0,538.24202000952835,809.93806574559312,0,10703.639828489757,24.087660790852787,0,604.4592663172939,10075.092901381609,7.0655877342419071,3.0352892120154893,0.49207215439149277,5.5305553367467508E-2,2.8829617959826706E-2,18.127634540033583,-741.9104335397808,12469.504525964745,13211.414959504526,0.58074028339361694,6.8771875665033594E-2,26.917579799904718,2.2868032396379228,24.630776560266796,27640.955752212387,0.26917579799904717,7440.2763220581228,649,0.18797356232073506,21253.4,0.91991495393338063,32.747919876733441]
[]
[]
[]
[]
[]
[]
[]
[null,null,null,"(P.02)[01]Total Book Issues","(P.02)[02]Adult Fiction Issues","(P.02)[03]Adult Non-Fiction Issues","(P.02)[04]Children's Fiction Issues","(P.02)[05]Children's Non-Fiction Issues","(P.03)[01]Total Book Issue Stock Turn","(P.03)[02]Adult Fiction Stock Turn","(P.03)[03]Adult Non-Fiction Stock Turn","(P.03)[04]Children's Fiction Stock Turn","(P.03)[05]Children's Non-Fiction Stock Turn","(P.04)[01]Total Audio Visual Issues","(P.05)[01]Music, Videos and DVDs; Multi-media and Open Learning Packs; CD-ROMs and Software Issues","(P.05)[02]Adult Talking Book Issues","(P.05)[03]Children's Talking Book Issues","(P.06)[01]Number of Requests for Specific Items","(P.06)[02]Number of Online Requests","(P.06)[03]Number of Enquiries","(P.06)[04]Number of Online Enquiries","(P.06)[05]Supplied","(P.06)[06]Received"]
[null,null,null,"SectionC","SectionC","SectionC","SectionC","SectionC","SectionC","SectionC","SectionC","SectionC","SectionC","SectionC","SectionC","SectionC","SectionC","SectionC","SectionC","SectionC","SectionC","SectionC","SectionC"]
[null,null,null,"#,##0","#,##0","#,##0","#,##0","#,##0","#,##0.0","#,##0.0","#,##0.0","#,##0.0","#,##0.0","#,##0","#,##0","#,##0","#,##0","#,##0","#,##0","#,##0","#,##0","#,##0.0","#,##0.00"]
[null,null,null,1515.2971698113208,474.07075471698113,273.92924528301887,643.91037735849056,123.38679245283019,2.3665878400777953,2.1968829238436656,1.7673930245297949,3.2178063786153737,1.7780043501903211,59.485849056603776,17.056603773584907,40.834905660377359,1.5943396226415094,64.594339622641513,37,72.54245283018868,684.64150943396226,0,0]
[null,null,null,1787.7378219841876,474.61616934455492,315.32772251976536,893.22366743177759,104.57026268808977,1.9350877725725548,2.5215028995718387,1.8637884771925595,2.684127434225148,0.44753214433844879,47.250701351695994,28.622800306044375,17.801581229278245,0.82631981637337404,31.644988523335883,8.2172915072685537,3.1726600357051771,0.3289977046671767,3.8255547054322873E-2,0.13771996939556236]
[null,null,null,3525.4428904428905,1366.8822843822845,557.47086247086247,1416.6724941724942,184.41724941724942,5.148734446543771,5.1195433909551253,3.4008318816879375,6.9247706944681813,3.7464188469279032,99.388111888111894,26.456876456876458,60.064102564102569,12.867132867132868,87.902097902097907,47.482517482517487,275.81002331002333,12.173659673659674,1.5151515151515151,1.5850815850815851]
[null,null,null,2775.6126162555597,915.992721391023,632.39789729073993,1056.6194904973715,170.60250707642538,4.8078294307587779,4.509036983956368,4.2689231609116955,6.2109766822752013,3.0517179023508136,43.768701981399111,9.9757379700768301,26.97128993125758,6.8216740800646987,86.158511928831373,39.474322684997979,458.55236554791747,20.432672866963202,23.643348160129396,11.342498989082086]
[null,null,null,1740.8663532572195,824.88247145735386,306.09805238415044,517.22632639355265,92.659503022162525,2.6323191908524075,3.4031087221544936,1.4940667409689898,3.4691441441441437,1.4258991318726748,70.436534586971121,14.036265950302216,54.284754869039624,2.1155137676292814,57.783747481531229,28.797850906648755,955.00335795836133,39.623908663532568,2.4916051040967093,1.2625923438549362]
[null,null,null,2018.1837760229719,1203.3668341708542,343.86216798277098,409.64106245513278,61.31371141421392,2.6612614659358758,3.6954432221511873,1.7143266167996851,2.2860862946196066,1.1579446854663775,69.791816223977023,5.5276381909547734,62.304379038047372,1.9597989949748742,90.165111270638903,30.760947595118449,283.20172290021532,62.814070351758787,2.1464465183058148,3.8334529791816219]
[null,null,null,1734.9824807288019,780.68675543097413,278.82971268395238,565.29782761037143,110.16818500350387,2.8281349059028469,3.9251638362342329,1.3892079674598048,3.6169125229789714,1.9134615384615385,56.85704274702173,6.8570427470217243,48.444288717589352,1.5557112824106518,181.19131044148565,94.222144358794679,323.23405746320958,4.3833216538192019,1.951646811492642,0.2768044849334268]
[null,null,null,3385.4858299595139,1434.0630422209369,618.95315211104685,1172.86003470214,159.6096009253904,3.5238515209709167,4.2559496734438165,1.8495692225265943,5.4565574211602623,2.1514383721836752,142.27009832272989,58.400809716599191,68.906882591093108,14.962406015037594,170.86466165413535,64.679005205320991,831.57894736842104,30.82706766917293,1.5442452284557546,1.0728744939271255]
[null,null,null,"na","na","na","na","na","na","na","na","na","na","na","na","na","na","na","na","na","na","na","na"]
[null,null,null,2680.0846432889962,557.24002418379689,559.86698911729138,1325.456469165659,237.52116082224907,3.4834739968881134,3.1042235020713349,3.368692931718142,4.0812886290863055,2.4016383420956107,56.345223700120918,27.578597339782345,26.012696493349456,2.7539298669891172,100.37182587666263,67.956469165659001,276.35731559854895,13.887545344619104,0,0]
[null,null,null,2928.5606060606065,936.9249311294767,671.74242424242425,1149.2011019283748,170.69214876033058,3.2376170154447066,3.3581372960430498,2.0026075351606609,5.0687727825030384,2.6929429021567879,239.62809917355375,175.63705234159781,52.892561983471076,11.09848484848485,113.65013774104685,57.851239669421496,227.34159779614328,10.409779614325069,2.9924242424242427,2.6170798898071626]
[null,null,null,3154.6353042727665,1012.0673284419508,772.05438066465263,1226.6033664220977,143.91022874406562,4.0925705071137015,3.950337763851687,3.2188323781590475,5.5102855924152241,2.7587804575352668,119.02460077686665,65.908502373759177,37.755718601640055,15.360379801467415,277.68450582649979,200.06042296072508,295.28916702632716,2.9952524816573156,0.23090202848511007,0.19205869659041866]
[null,null,null,4169.109030504379,1206.1612805798852,925.6297191180912,1751.6852914527333,285.63273935366959,4.9011422099294508,4.9770687936191429,3.2483571458854459,7.5795946104888978,3.0966928618205634,78.538205980066436,40.492298399275143,31.220175173663545,6.8257324071277559,117.22138326789489,58.589549984898817,363.33434007852611,17.668378133494411,0,4.587737843551797]
[null,null,null,2866.5617478244767,1120.581373819663,383.377152379189,1102.764302906869,259.83891871875579,5.4453592946001166,5.74174635701275,5.121240601503759,5.7702845406368981,3.9798933696330328,92.836511757082022,62.755045361970005,24.138122569894463,5.9433438252175517,197.67820773930754,111.78855767450472,119.47787446769117,4.0270320311053505,0.52582855026846875,0.21107202369931494]
[null,null,null,1374.3135192004208,789.3266701735929,184.02419779063652,345.17622304050502,55.786428195686483,2.5569812281010824,3.0903305529811553,1.7384584803458729,2.5207637048134917,1.4206296048225049,36.065228826933193,5.9389794844818518,26.84902682798527,3.2772225144660707,128.23776959495004,59.216201998947923,332.71962125197268,8.721725407680168,1.2309310889005787,2.6775381378221987]
[null,null,null,2397.5535459305092,1142.9366968110423,450.62351261304144,687.80580675868634,116.18752974773918,2.4466971051097723,2.9906841194126512,1.5566333996481478,2.8406195942758292,1.7569454440765797,119.41932413136603,73.869585911470736,41.5421227986673,4.0076154212279871,103.72679676344598,40.214183722037127,346.73964778676822,5.473584007615421,0.44264635887672538,0.27605901951451689]
[null,null,null,2894.6001534919415,994.16730621642364,357.31389102072143,1372.5141980046049,170.60475825019188,3.8478985663974661,4.6532178111125475,1.8284857005961686,5.2026682647551672,2.1492603693319157,80.755180353031463,25.734458940905604,34.310053722179589,20.710667689946277,167.62854950115118,93.037605525709907,517.58710667689945,22.666155026861091,0.15502686108979277,0.12279355333844973]
[null,null,null,1242.4866514111366,387.76125095347066,431.16323417238749,350.19832189168574,73.363844393592686,1.2068384300505659,1.4018945452539848,0.89077557066651947,1.8868955880237552,0.88056763561455709,47.013729977116704,24.992372234935164,20.892448512585812,1.1289092295957286,37.158657513348594,21.651411136536996,774.03890160183073,1563.4782608695652,0.21739130434782611,1.9069412662090009E-2]
[null,null,null,2691.900564174894,1080.0775740479548,382.56346967559938,1079.4569816643159,149.80253878702396,4.0133687309431183,4.771035170243918,2.594084736036725,4.8589613357882042,2.0049079754601227,77.919605077574047,13.980959097320168,51.717207334273624,12.221438645980253,130.68053596614951,41.304654442877286,192.71861777150914,7.3660084626234124,0.16220028208744711,0.63822284908321569]
[null,null,null,4765.9558823529414,1942.7468487394958,811.99842436974791,1784.3040966386554,226.906512605042,4.7979971289361467,5.8880019101436591,2.699619340306274,5.8059369899768436,4.1057733428367786,103.40598739495798,46.995798319327733,49.466911764705884,6.9432773109243699,141.95640756302521,71.465336134453779,802.9569327731092,12.778361344537815,4.3644957983193278,8.7605042016806713]
[null,null,null,3999.5624082232011,1606.0146842878121,689.67988252569751,1523.3010279001469,180.5668135095448,3.9699018201746714,5.1376657052396206,2.1310755381320554,4.9161564271226279,2.9413481318471035,97.744493392070481,40.719530102790017,54.616740088105729,2.4082232011747431,151.50660792951541,79.923641703377385,227.65345080763583,14.290748898678414,4.8810572687224667,5.3773861967694563]
[null,null,null,1865.0872410032714,707.76172300981455,308.69138495092693,747.47546346782985,101.15866957470011,1.8735611722594834,2.104978512932782,1.2504886964780721,2.3115004257543439,1.1364123610302901,71.335877862595424,28.116139585605232,40.523446019629226,2.6962922573609598,47.129225736095961,8.208833151581242,600.11995637949838,38.18702290076336,0.13904034896401307,6.5430752453653221E-2]
[null,null,null,1654.6664936413183,540.61250973267579,390.7941863483,628.84765118089797,94.412146379444579,2.1191038872546573,2.2631493171373003,1.4569794670330731,3.0564245528168126,1.3886471216979692,23.11705164806644,1.0589151310667013,16.916688294835193,5.1414482221645468,58.367505839605499,27.74980534648326,397.44874124059174,21.78821697378666,9.0838307812094468E-2,7.7861406696080979E-2]
[null,null,null,2417.6307877330128,1293.9466827019444,526.21367007416313,497.58468630988176,99.885748647023462,2.3757351811509992,3.8802300909424234,1.2351817523124839,2.6152525231242492,1.4715192676804962,87.035478051713781,26.596512327119665,53.527761074363603,6.9112046502305073,141.08438564842655,54.964922830226499,316.94928843455602,4.4437763078773305,0.4810583283223091,0.19242333132892364]
[null,null,null,2486.641651031895,1243.9305816135086,405.44090056285182,730.82551594746724,106.44465290806755,4.4854391931908557,5.9852403520649968,3.0593898209103134,4.3218684122933544,2.369388181248695,81.088180112570356,17.842401500938088,54.774859287054412,8.4709193245778618,81.106941838649163,30.112570356472798,310.85365853658539,19.540337711069419,1.153846153846154,0.41275797373358353]
[null,null,null,1868.5653188180406,908.84136858475904,358.23094867807157,506.49688958009335,94.996111975116648,2.0684275311171176,3.1340618086746668,1.6550268541969788,1.7086289888907833,0.94522031800069639,93.452566096423027,0,87.713841368584767,5.7387247278382585,144.66951788491448,89.517884914463451,284.50233281493001,34.249611197511669,5.8320373250388802E-2,2.7216174183514776E-2]
[null,null,null,2715.535018232114,1333.0089274487616,416.85275996479317,859.36376210235142,106.30956871620772,3.3914763376424331,4.6611531731166629,1.445117671930918,4.6501874493954674,2.5645474399417618,145.94241166855275,68.868351565447,54.578146611341637,22.495913491764114,176.51829498302527,78.922419212875653,451.76788633220173,15.234502703382372,0.67018735068527602,0.3168615616748397]
[null,null,null,3150.3892145369286,1721.8452520515827,561.41383352872219,765.20046893317704,101.92966002344666,2.9503855849209071,3.8464846348451442,1.7891311495008668,3.1497785026975378,1.6072537710736468,142.35873388042205,34.056271981242674,98.124267291910897,10.178194607268464,546.92145369284879,256.85814771395076,206.78077373974207,11.91324736225088,1.1723329425556859,0.90269636576787804]
[null,null,null,"na","na","na","na","na","na","na","na","na","na","na","na","na","na","na","na","na","na","na","na"]
[null,null,null,2827.4235807860259,1316.9681846537742,538.76169681846534,835.01247660636307,136.68122270742356,2.0446844457076088,3.5174154635654009,1.8490285286088957,2.1385946412308874,0.41852513347532494,171.46912039925138,62.932002495321271,98.858390517779156,9.6787273861509657,298.38116032439177,149.68184653774173,398.31565814098565,2.6512788521522146,7.4859638178415469E-2,0.54273237679351216]
[null,null,null,3252.4364326375712,1790.8671726755217,482.44781783681213,858.53320683111951,120.58823529411765,6.2544800382413364,7.3289044542461328,4.6255025742718363,6.1462920951462374,3.8069849637572637,109.37001897533207,0.47248576850094876,106.23339658444023,2.6641366223908918,450.78368121442128,92.455407969639467,1142.2201138519924,399.20303605313092,0.51802656546489567,0.10815939278937381]
[null,null,null,1773.078947368421,375.71637426900583,361.89766081871346,825.63450292397658,209.83040935672514,1.5721637724069628,1.3200908175635415,1.1158603653149175,2.3441700219999171,1.2590929028862181,35.432748538011694,22.304093567251464,8.2514619883040936,4.8771929824561404,101.40058479532163,52.798245614035089,367.64912280701753,7.0818713450292394,4.6783625730994149E-2,5.8479532163742687E-3]
[null,null,null,2619.8936170212764,1223.9920663541291,369.31482149296789,910.81319870176696,115.77353047241255,3.5537926463286675,4.3906834146152152,1.7778298570424187,4.5408022005681206,2.3098064608964677,95.796970789758376,27.816444284168771,56.624594302199782,11.35593220338983,140.360620266859,82.028489001081851,600.16227912008651,19.563649477100611,0.26505589614136316,0.22899386945546338]
[null,null,null,2349.8592392932019,645.36687631027257,493.88140161725073,1048.4306678646301,162.18029350104823,2.624895454879999,2.5797986328101614,2.2584431236133558,3.009292529871916,2.0798095018627341,88.83198562443846,31.269841269841272,53.830488170110819,3.7316561844863734,85.097334531296795,51.731057202755316,15.079365079365081,0.75471698113207553,0,0]
[null,null,null,2587.3562051698473,1153.1973203410475,430.10962241169307,894.82609284070918,109.22316957639735,2.9341375952410371,3.7010465553149765,1.9328565172967451,3.2693024658699272,1.476112960456524,111.31614562187035,57.43537691162539,52.329814589254298,1.5509541209906619,360.88848287995671,276.65245635403977,508.71159832182974,17.15658411151712,0.55149546623359047,1.1402084179185277]
[null,null,null,2465.9802469135802,1322.4543209876542,346.38024691358027,690.54320987654319,106.60246913580247,2.9258862131598993,3.793964723383155,2.1253219404296577,2.7590118974804172,1.3163607537044941,212.21728395061729,89.911111111111111,115.41234567901235,6.893827160493827,66.790123456790127,28.888888888888889,66.790123456790127,12.602469135802469,0.10864197530864197,0.35555555555555557]
[null,null,null,2710.213068181818,1053.5179924242425,474.98263888888886,997.1701388888888,184.54229797979798,5.1454499146016239,5.5577582761606612,3.7125322280201818,5.9211737251998535,4.5215003866976025,77.744633838383834,49.463383838383834,19.731691919191917,8.5495580808080813,308.15814393939394,165.52556818181819,257.3042929292929,8.6773989898989896,0.15782828282828282,0.58238636363636365]
[null,null,null,2990.1222921034241,819.58420684835778,547.44584206848356,1453.0398322851154,170.05241090146751,3.4428678328317859,2.9991305570827631,2.5829472955373483,4.7682164765235342,2.1650874149205928,228.72117400419287,130.5485674353599,94.493361285814117,3.6792452830188682,137.30607966457023,85.426275331935713,773.75960866526907,5.7651991614255769,0.10831586303284417,0.2026554856743536]
[null,null,null,2115.2592062924564,534.42974615659637,469.15981408652129,945.720414730068,165.94923131927067,2.1132947563937705,1.651803967070004,1.6590472337412765,3.4013733155025205,1.4237600073617376,249.45298534143726,196.87522345370041,46.839470861637473,5.7382910260993922,126.07794065069719,89.892742223811226,1874.7407937075438,25.227028959599572,1.1262066499821237,0.17161244190203789]
[null,null,null,2239.2133956386292,1169.7897196261681,364.15887850467288,598.43457943925227,106.83021806853581,1.8395073576455536,1.8481500166110911,1.2538682255772171,2.4242491166077738,2.2702747434624295,9.9844236760124598,0.20249221183800623,8.769470404984423,1.0124610591900312,329.43146417445479,143.13084112149531,244.47040498442365,11.199376947040498,0,0]
[null,null,null,1729.5469255663429,417.36245954692555,577.02804746494064,667.44336569579286,67.713052858683923,3.0164245936183023,2.9587045463235571,2.6410496951144244,3.8256353181227971,1.7201973143326938,50.765911542610567,42.481121898597628,5.8953613807982741,2.3894282632146711,63.624595469255659,45.960086299892126,387.31391585760514,15.9277238403452,0.21574973031283709,1.4023732470334411]
[null,null,null,3663.0102448594057,1420.6597398822933,618.53084356608304,1424.7111821550534,199.10847925597616,4.0467307649085402,5.2957344405532849,2.2997357942112457,4.7638981346057596,2.8901861519801715,120.73094528809126,18.950810143137399,82.503087989537164,19.277047155416696,179.7340696069171,179.7340696069171,433.81384872484199,6.4484487393736831,1.6253723752088935,1.5585264840514423]
[null,null,null,2124.6747967479673,511.51515151515144,557.70140428677007,928.96895787139681,126.48928307464892,2.0157243729533771,2.0894873497977176,1.6805942225884762,2.6220272863818423,1.0274975984630164,150.55432372505541,114.40872135994086,27.660753880266071,8.4848484848484844,83.876570583887656,26.249076127124905,136.22690317812268,6.8477457501847736,0,0]
[null,null,null,2521.015593762495,730.21991203518598,575.32986805277892,982.41503398640543,233.05077968812475,2.359925441288758,3.002416689956763,1.2532771250141537,3.7553035397689065,2.2326668198881485,69.008396641343467,38.644542183126752,23.122750899640145,7.2411035585765697,147.96881247501,76.413434626149538,363.82247101159538,40.995601759296285,0.15993602558976411,0.21591363454618154]
[null,null,null,2856.4507370054303,966.82699767261443,410.85725368502716,1307.3312645461597,171.43522110162917,3.3430013755283068,3.4807770190065219,2.1729202995178993,4.1858760991604154,2.2768533305857503,57.552366175329709,2.5407292474786654,53.394103956555469,1.6175329712955779,76.823118696664082,45.283165244375482,78.669511249030251,3.9526764934057406,3.8789759503491078E-3,1.5438324282389448]
[null,null,null,2451.920874544508,1333.2535137948985,476.14263404476839,565.61166059344089,76.913066111400312,3.0131589889904618,4.4536064547541203,1.7962530193829658,2.7978370027037465,1.6316951960242958,90.182196772514317,43.211868818323794,44.929724102030193,2.0406038521603334,182.07183758459135,122.7693909422176,239.60957834461217,10.978656949505467,3.1233732431025507E-2,0.24986985944820406]
[null,null,null,3510.8215130023636,1085.5943937858831,615.13171225937174,1609.432624113475,200.66278284363389,4.536027245287217,4.400109508409904,2.4059004765159844,7.3584429320867315,3.795352922389013,106.5256670043904,32.932286389733193,55.967578520770005,17.625802093887199,217.9221546774738,120.07261060452549,480.9143870314083,10.011820330969266,0.94562647754137108,0.69317798041202294]
[null,null,null,2453.367799113737,561.30354505169862,545.82717872968976,1129.2577548005909,216.97932053175774,3.8977987421383644,2.9058288248676134,3.3865646336434034,5.2975833694239931,3.5041746183206106,36.768833087149183,10.073855243722305,22.138109305760707,4.5568685376661744,164.58271787296897,97.016248153618903,1888.6078286558345,14.752584933530279,1.4771048744460856E-2,4.0620384047267352E-2]
[null,null,null,3027.5265017667843,1695.5618374558303,477.39222614840992,715.90812720848055,138.66431095406361,2.6805010668318534,3.9610044410691581,1.1492174208914598,3.702251297419779,1.4971005646268885,125.89399293286219,40.954063604240282,73.724381625441694,11.215547703180212,115.54063604240282,34.996466431095406,716.31095406360419,37.187279151943464,6.3604240282685506E-2,0.3462897526501767]
[null,null,null,2589.0798828941865,753.55499790882482,712.04516938519453,999.6026767043079,123.87703889585947,3.3587015495464212,3.1680791953861305,3.4949602775439823,3.5799020415499609,2.4756770310932796,332.05353408615645,265.58762024257635,55.236302802174826,11.229611041405271,237.90464240903387,156.39899623588457,605.98494353826857,21.053952321204516,0.20075282308657466,0.41823504809703055]
[null,null,null,2624.5326504481436,715.10243277848917,1004.3982074263765,779.94238156209997,125.08962868117798,2.9863776097440153,3.216118165327805,2.6844446725869648,3.5545019548345684,1.9884998982291877,87.183098591549296,38.463508322663252,46.229193341869404,2.4903969270166457,209.1741357234315,151.10115236875802,3436.1843790012808,100.34571062740078,0.65300896286811783,1.1459667093469912]
[null,null,null,2540.4743083003955,1036.85260742063,421.32028560499811,954.5856177483106,127.71579752645673,3.3584519891619018,3.9832944328654669,2.320377645997254,3.8364411990776324,1.9425294043498076,91.974372051510912,30.01912533469336,53.841642228739005,8.1136044880785416,288.6931021292873,144.32423817416804,238.71605253091931,16.948234094096648,0.39334438352671175,0.35190615835777128]
[null,null,null,3635.133903133903,817.69800569800566,425.41880341880341,2085.1851851851852,306.83190883190883,3.3461451716957678,2.6087256862388655,1.5140226715064993,5.7551976850250055,2.3671971162299981,117.28774928774929,45.042735042735046,34.917378917378919,37.327635327635328,82.883190883190878,33.53846153846154,43.361823361823362,2.1766381766381766,0.23931623931623933,0.25641025641025639]
[null,null,null,2957.0572679943807,1458.9447153127842,539.51904801256103,839.32071729609129,119.27278737294439,4.0613791960629415,4.9800119037209001,2.5930050599327994,4.5077224875286266,2.918451117177232,140.64292207255599,79.636393686472204,57.232460127262215,3.7740682588215853,163.05842492356004,62.927030823898853,307.57788612511365,0.39914056689529792,0.25369804148417491,6.6341624659119089]
[null,null,null,2139.9380630630631,530.81362612612611,407.2212837837838,1058.8851351351352,143.01801801801801,1.5501990504315477,1.6112065355790839,1.1274055136828813,1.8742076938409409,1.1460025266197436,55.382882882882882,30.768581081081081,21.5625,3.051801801801802,104.38344594594595,45.351914414414416,836.40484234234236,43.246058558558559,0.1097972972972973,5.6306306306306307E-2]
[null,null,null,2290.4339109265361,930.88930259200924,225.77688672490336,1005.2599169411428,128.50780466848062,3.2066827861917426,3.6444165367839161,1.80779947483689,3.6886346797542919,2.0922592678946144,75.060862093656027,25.045109551768583,39.776600315050842,10.239152226836604,49.493054561076903,26.584562508950309,293.71473578691109,17.37648575110984,2.2912788199914078E-2,2.8640985249892597E-2]
[null,null,null,1495.8978583196047,351.24876441515653,215.47940691927514,807.79571663920922,121.37397034596376,1.3986814337867188,1.0839468011550819,0.95060759346473633,2.0156041896180343,1.028478096993048,43.492586490939047,15.169686985172982,24.635914332784186,3.6869851729818781,59.3838550247117,40.299835255354203,836.98846787479408,523.03130148270179,61.818780889621088,37.347611202635917]
[null,null,null,2431.291346917174,1388.1794125430008,403.48107965070125,558.36596983328923,81.2648848901826,3.5884432119981251,5.0297271772844292,2.1263535892340411,3.2578065293077763,2.0118575780405519,126.58507541677693,44.13601481873512,73.179412543000794,9.2696480550410172,276.99523683514161,160.70256681661817,296.92114315956604,4.4654670547763962,0.26594337126223871,0.38502249272294259]
[null,null,null,1966.3755254553948,668.75758991125645,325.30593180756659,804.32508173750591,167.98692199906586,3.1460010013376078,2.9769216375241698,2.7492993328859594,4.2604156358238496,1.800911321416053,93.829985987856148,11.639420831387202,76.543671181690797,5.6468939747781413,148.03829985987858,74.054180289584309,161.75618869687062,1.2143858010275572,0,0]
[null,null,null,1890.4784514243972,538.86961285609937,550.90211833455078,689.93243243243239,110.77428780131483,1.4724261280802189,1.5004678077106917,1.1285844154386595,2.0278842334653739,1.1487766078327399,79.088750913075231,29.687728268809348,44.324324324324323,5.0766983199415634,141.53214024835646,108.1190650109569,790.90577063550029,5.2848794740686627,0.11869978086194302,8.2176771365960549E-2]
[null,null,null,3167.8805325656713,956.3404102195035,291.80280676502343,1408.557034904642,511.18028067650238,3.8119308759152535,3.9758695489565414,1.8943630714602753,4.2560099159535953,4.8447240979469344,76.77222022310184,39.25152932709608,32.42533285354444,5.0953580424613172,264.19215545160131,38.841309823677584,961.98992443324948,42.954300107952506,1.3134220942785175,1.9575386829794892]
[null,null,null,2883.6857419980602,572.54607177497576,791.5518913676043,1310.4801163918526,209.10766246362755,2.3071544696519961,2.1678908516655038,2.1652980273020335,3.3309214175654849,0.92201432695391849,32.967992240543161,12.851600387972843,17.929194956353058,2.187196896217265,79.354995150339477,49.57807953443259,34.844810863239573,1.7749757516973812,0.12609117361784675,6.3045586808923373E-2]
[null,null,null,1152.7948034643571,496.3424383744171,317.80146568954029,309.09726848767491,29.553630912724852,1.6750677637947724,2.2720993000808187,1.0021323305427463,2.4943817204301078,1.0292343387470997,79.726848767488349,48.564290473017991,31.042638241172554,0.11992005329780148,31.259160559626917,13.520986009327116,1035.203197868088,35.486342438374422,0.51632245169886748,0.68287808127914729]
[null,null,null,1867.3892045454545,374.875,284.43465909090907,1064.2301136363637,143.84943181818181,2.5754266773238044,1.5288433687479002,1.7943796261447749,4.0297870051635121,2.511656746031746,41.542613636363633,31.94034090909091,7.2556818181818183,2.3465909090909092,72.420454545454547,57.971590909090907,301.03977272727275,15.127840909090908,0,0]
[null,null,null,4398.0458116631626,1884.9861679760982,800.97820073033085,1457.4128582494191,254.66858470731435,5.387016718736235,6.9277118723336759,3.2745121101631276,6.2289316742573657,3.8740215799484909,222.87484784773707,103.1083324111984,76.440190328648882,43.326325107889787,286.85293792187673,69.901515989819629,314.54686289697906,1.0058647781343366,0.48578067942901404,0.27774703994688499]
[null,null,null,1329.7371714643302,887.36545682102621,194.71839799749685,205.71964956195242,41.933667083854814,1.7371385593878501,2.4128126595201631,0.8185620708704916,1.8267392753945322,0.88825556733828204,81.483103879849807,15.193992490613265,63.0162703379224,3.2728410513141424,78.40425531914893,12.941176470588234,214.31163954943679,9.8122653316645803,0.10638297872340424,1.8773466833541926E-2]
[null,null,null,2021.4709302325582,1116.6918604651162,340.66279069767444,482.71511627906978,81.401162790697668,2.3241044631457926,3.6935310180377678,1.6712016200336557,1.7992631921118216,0.85397987191216829,59.27325581395349,1.0930232558139534,56.703488372093027,1.4767441860465116,125.71511627906976,47.354651162790695,854.97674418604652,43.534883720930232,0.12790697674418605,0.10465116279069768]
[null,null,null,2999.5044413277233,1309.1444600280504,504.25432445067787,1037.7699859747545,148.33567087424029,4.7598112675638378,5.8856194039261842,2.9461090928955778,5.7231733099572004,2.6845756832219307,137.95231416549788,43.225806451612904,70.733987844787279,23.992519869097709,303.27723235156617,187.6577840112202,500.96306685366994,15.755025712949976,8.4151472650771386E-2,0.10752688172043011]
[null,null,null,2531.4757281553398,1368.9077669902913,370.378640776699,613.40291262135918,178.78640776699029,1.8164224957679367,3.5291283399036355,0.99522592090159656,1.5722995756964921,0.73427967622313495,117.44174757281553,54.359223300970875,43.150485436893206,19.932038834951456,107.13592233009709,26.752427184466018,1420.3300970873786,57.61165048543689,7.7669902912621352E-2,0.10679611650485436]
[null,null,null,3113.4808787632223,1608.1497152156226,487.10821806346621,893.7087062652563,124.51423921887714,4.351987953314544,5.4282528330284707,2.9201022379177806,4.3512819700186984,2.6515802606043803,159.37184703010578,53.829129373474366,97.104963384865741,8.4377542717656624,216.41334418226199,45.747762408462165,201.3767290480065,6.7925142392188773,0.17249796582587471,6.9975589910496336E-2]
[null,null,null,1909.6896736222579,782.19234884965215,272.23113964686996,744.75387907972174,110.5123060460139,2.7878626927575683,3.6322736533492348,1.4217254628012572,3.4961853151902949,1.6960707833798654,33.726591760299627,7.3194221508828248,24.677635098983412,1.7295345104333868,28.768057784911715,12.118780096308186,17.759497057249867,2.7260567148207597,8.2932049224184054E-2,0.28357410379882292]
[null,null,null,1763.1229235880398,575.30957414678346,464.8414376321353,628.52612503775288,94.445786771368162,1.3264877172013716,1.921606407876685,0.63282348587640314,2.7266712088257647,1.459420357492883,67.330111748716391,19.042585321655089,41.809121111446693,6.4784053156146175,106.63847780126849,48.583509513742065,1184.919963757173,25.681063122923586,1.014799154334038,0.42887345212926603]
[null,null,null,3149.7533714008018,1353.1612197788847,538.31733689709631,1080.4179322075081,177.85688251731258,3.1796102633034535,3.7674013489470228,2.0795075889127719,3.7763151189849333,2.0570489131198446,112.78823958206779,18.060988944235209,80.560077754829308,14.16717288300328,222.78216498602842,93.237759688980674,543.06281132304696,16.321224638561535,0.27821649860284292,0.20410642692260964]
[null,null,null,1813.5950764006791,826.96519524617997,344.17232597623092,567.03735144312395,75.420203735144312,1.8236032214146396,2.1286244947011905,1.2534703972793324,2.2356583439319899,0.969341552561235,27.156196943972837,5.3310696095076402,20.165534804753822,1.6595925297113752,4.8259762308998306,4.8259762308998306,607.32173174872662,11.434634974533108,1.2351443123938879,0.31833616298811546]
[null,null,null,3492.0320000000002,1175.8269090909091,707.17236363636368,1354.5003636363635,254.53236363636364,3.3255420621981133,4.3309295859161123,1.7186585314121692,4.7337281415209436,3.143814451510905,100.21818181818182,66.031999999999996,27.842909090909092,6.3432727272727272,250.19781818181818,159.50981818181819,235.22618181818183,7.9330909090909092,0.61672727272727268,0.20945454545454545]
[null,null,null,1940.6019900497513,843.81592039800989,228.12437810945275,790.50746268656712,78.154228855721399,1.8628889366478021,1.7907845973540559,1.0908290710122517,2.6112078882497944,1.3325133599117822,75.144278606965173,20.910447761194028,50.343283582089555,3.8905472636815919,88.845771144278601,35.477611940298509,433.81592039800995,16.621890547263682,1.4925373134328358E-2,0.61691542288557211]
[null,null,null,2251.5203344735842,902.99125807677683,357.29000380083613,865.91790193842633,125.32117065754466,2.6614983016731664,3.6676135047933682,1.4936284479471207,2.9997234950229101,1.7435355084342448,68.726719878373231,6.7616875712656777,55.385784872671984,6.5792474344355751,165.90269859369059,98.388445458000746,781.64196123147087,7.0315469403268711,4.804256936526035,1.7255796275180537]
[null,null,null,1871.5992561599257,789.89307298930737,324.61645746164578,674.10506741050676,82.984658298465831,1.4189376850415905,2.3515424965053353,0.61692126909518219,1.8446898376672942,0.90701219512195119,84.644351464435147,18.675034867503488,60.836820083682007,5.1324965132496514,87.619711761971175,34.94653649465365,968.85169688516976,13.458856345885636,0.86006508600650866,0.56717805671780563]
[null,null,null,3004.0747549019611,951.99754901960796,645.71078431372553,1224.3933823529412,181.9730392156863,2.343231720723046,2.3474857971715219,1.4172169398980594,3.4556758439402326,2.73437068409907,44.828431372549019,13.100490196078432,23.137254901960787,8.5906862745098049,105.58823529411765,66.985294117647058,363.56617647058829,16.636029411764707,7.9656862745098048E-2,0.10416666666666667]
[null,null,null,4554.359986837776,876.29483382691683,713.20829220138205,2404.5310957551828,560.32576505429427,3.0701302964832817,2.1918550099590117,1.469520587417708,5.1274032389345754,4.3316883315102643,63.92563343205002,39.937479434024354,19.374794340243504,4.6133596577821656,177.99605133267522,177.99605133267522,394.98190194142813,19.84863441921685,6.5811122079631459E-3,1.3162224415926292E-2]
[null,null,null,1420.5193855157279,1044.7037307973667,135.46452084857353,214.71104608632044,25.64008778346745,1.4950187854151267,2.3799850012498962,0.42725301093627432,1.5001022181334969,0.50250896057347672,59.173372348207756,0,56.488661302121436,2.6847110460863206,49.268471104608636,21.404535479151427,529.40746159473304,34.447695683979518,0,0]
[null,null,null,5268.4662265109191,1444.5302183849669,1124.5454545454545,2362.8288471305232,336.56170644997462,4.5558834767256489,5.435483870967742,3.2180301422820352,5.5581028612388756,2.8992868705429413,201.43219908583038,103.9207719654647,67.267648552564751,30.243778567800913,446.47536820721177,275.77450482478417,1078.2122905027932,27.389537836465209,0.43676993397663788,0.8938547486033519]
[null,null,null,2160.0636363636363,1148.3818181818183,49.736363636363635,655.4454545454546,306.5,2.5146791126915584,2.258855926899487,5.1759697256385993,2.3135348479014248,5.314470365699874,61.022727272727273,0.15454545454545454,60.2,0.66818181818181821,152.29090909090908,65.872727272727275,264.2318181818182,2.9,0,0]
[null,null,null,1604.6694370986022,878.08462410275786,209.84132980732906,456.96637703060071,59.777106157914623,2.8702444825861901,4.2286727917765852,1.4244864462852307,3.0763498563035685,1.0757359439798762,66.686815262561396,9.8375519455987916,54.510766905931249,2.3384964110313562,187.51416698148847,121.35247449943333,368.31885153003401,5.5496788817529277,7.5557234605213453E-3,0]
[null,null,null,3735.4156171284631,1760.6297229219142,546.39798488664985,1207.808564231738,220.5793450881612,3.2945881098373766,4.9355317045615026,2.3522012578616351,2.9699597398575412,1.597118365858107,260.57934508816118,67.556675062972289,163.02267002518892,29.999999999999996,446.77581863979844,176.80100755667505,101.96473551637278,8.3123425692695214,0,5.6675062972292185]
[null,null,null,1800.5856918238994,713.27044025157227,244.28852201257862,760.12185534591197,82.904874213836479,2.1219570947463997,2.5875709437298577,1.5830000764155989,2.1506422732580774,1.2727656749743528,101.14386792452829,1.3718553459119496,95.900157232704402,3.8718553459119498,3.7853773584905661,3.7853773584905661,381.47012578616352,4.182389937106918,1.5251572327044025,0.15330188679245282]
[null,null,null,2604.8900427611488,979.27611484422732,327.55039706780701,1108.6744043982897,189.3891264508247,2.3924286415597171,2.3741521281952549,1.3662190740693556,3.2173658692241558,2.0587688425526265,68.656078191814302,6.0140500916310327,61.951740989615153,0.69028711056811243,172.33048259010386,80.78191814294442,855.52840562003666,10.843005497861943,3.6652412950519242E-2,0.16188149053146]
[null,null,null,2281.4814814814818,1339.9854756717502,454.041394335512,408.48946986201889,78.965141612200441,4.3932624336626604,5.6638222113082444,2.7880889206002366,4.4957838788314746,2.7214366161932171,133.15541031227306,25.374001452432829,102.7523602033406,5.0290486564996373,179.90196078431373,77.814088598402336,100.26143790849675,0.87872185911401601,0.69353667392883089,0.23238925199709515]
[null,null,null,1554.5802575107296,657.82832618025748,308.27296137339056,516.50987124463518,71.969098712446353,1.8884363530196862,2.3735590532647004,1.4171428120462151,2.1913748397622657,0.77528526251548835,70.604291845493563,30.564806866952789,36,4.0394849785407727,172.32274678111588,102.73648068669527,314.89613733905577,17.000858369098712,0.37768240343347642,4.2918454935622317E-2]
[null,null,null,2362.7224477052764,1355.3262566344051,409.19138307836403,524.54261629722134,73.662191695285671,2.5873616624101259,4.0853660831921701,1.4178737951253284,2.3645869984377859,1.0375093443560088,80.087418045582268,30.053075241960659,42.26974711208242,7.7645956915391814,192.16047455510457,70.743053387449265,980.20605682172959,36.678114267873866,0.25913206369029035,0.94598813612238519]
[null,null,null,3279.9731723675386,531.48222669349434,442.36753856472166,1931.6834339369552,374.43997317236756,3.2948452774764698,2.3313229972639817,2.34455424427698,4.2440505135346216,3.0274388590640422,16.626425217974514,0,15.466130114017439,1.1602951039570759,68.806170355466136,44.171696847753189,725.24480214621065,33.205902079141516,0,0]
[null,null,null,1886.5704979060026,762.38715681712426,252.21498371335505,778.99022801302931,92.978129362494187,1.9944508943505381,2.0399302745439831,1.1102894483479115,2.9364146640940185,1.1661608497723823,45.467659376454165,2.1498371335504887,33.378315495579336,9.9395067473243373,60.832945556072588,26.314564913913447,459.34388087482552,3.0060493252675662,0.85621219171707774,10.930665425779432]
[null,null,null,3219.510189488738,1391.195924204505,545.66857347157668,1143.276725062567,139.36896675008938,3.6441139573469306,4.8071541963419833,1.6113293003515663,5.3152238954821982,3.4547347897372265,111.39792634966035,49.408294601358598,54.451197711834112,7.5384340364676445,194.32427601001072,95.940293171254922,802.01823382195209,71.288880943868435,0.20736503396496248,0.60958169467286383]
[null,null,null,3065.6970983722572,1221.3269639065816,459.84430290162771,1229.2993630573249,155.22646850672328,5.1300383110000531,5.648887070376432,3.2498562032660616,6.160011348322576,3.8486576592384631,135.58386411889595,69.225053078556257,41.652512384996456,24.70629865534324,208.99150743099787,90.803255484784145,371.3658881811748,19.317055909412595,142.87331917905166,122.14437367303609]
[null,null,null,2361.4637391882898,1303.9121756487025,328.76247504990016,643.35329341317356,85.435795076513628,1.5135264217241498,1.6191979113307005,1.2599892903587731,1.6801501251042534,0.7688761152026824,59.846972721224212,0.1330671989354624,53.93213572854291,5.7817697937458412,51.803060545575512,22.408516300731868,990.35928143712567,1.6234198270126412,1.9228210246174318,4.4910179640718564]
[null,null,null,3511.7167721518986,1397.9865506329113,782.57120253164555,1165.193829113924,165.96518987341773,4.3224707010804204,4.9041268872113672,2.9089812963180806,5.4884756563379229,3.6038481360590966,115.03164556962025,35.122626582278478,66.633702531645568,13.275316455696203,322.34572784810126,322.34572784810126,536.65348101265818,31.570411392405063,0.58148734177215189,1.3528481012658227]
[null,null,null,2788.2465753424658,1318.4931506849316,533.01917808219173,831.88493150684928,104.84931506849315,2.635461984669567,4.8021274048056206,1.1104566210045661,4.0654188089117396,1.0614044819170181,70.646575342465752,21.676712328767124,44.613698630136987,4.3561643835616435,143.813698630137,111.33150684931506,485.49041095890414,22.224657534246575,3.2438356164383562,3.0410958904109591]
[null,null,null,3970.4412228175229,1083.5140245824141,1182.9751024267255,1444.10967538607,259.84242042231324,4.6155742810038474,3.9055641386831463,4.6850645298185176,5.5725734855947557,3.6518580856623997,226.58367475575164,167.72455089820357,48.071225969114401,10.787897888433658,121.28900094547747,95.735896627797032,688.41790104002519,17.620548376930348,6.3031831074692717E-3,3.7819098644815634E-2]
[null,null,null,2061.5222222222224,946.57777777777778,192.84444444444443,790.18888888888887,131.9111111111111,1.8296181248921433,2.7300753084441594,1.1956873686748648,1.804885476809847,0.72903681414842325,65.672222222222217,17.033333333333335,48.544444444444444,9.4444444444444442E-2,617.50555555555559,267.09444444444443,269.70555555555558,2.9555555555555557,0.61111111111111116,0.35]
[null,null,null,2159.7829067641683,1095.2296617915904,292.31032906764165,689.96800731261419,82.274908592321751,2.7736737227327022,3.9975352817535779,1.7386251656529275,2.5122626006282114,1.3285424354243542,79.923446069469833,21.263711151736747,46.779021937842778,11.88071297989031,106.51279707495429,41.902422303473493,193.18441499085921,8.1432815356489936,0.23080438756855576,0.12682815356489943]
[null,null,null,2783.3447566826594,1320.3461274845783,472.2446881425634,834.23577793008906,156.51816312542837,3.901953907574935,5.0604452617061799,2.3482669302341437,4.3328824178562533,2.6634009797060885,99.228923920493486,43.474982864976006,54.965729952021931,0.78821110349554491,253.24194653872513,166.28855380397533,305.47978067169294,2.3680603152844415,1.2988348183687457,0.72995202193283071]
[null,null,null,1706.2392494136043,729.36278342455034,369.42533229085223,551.43080531665362,56.020328381548083,2.1308935031710305,2.4415813856099664,1.3622852035520701,2.926837365647176,1.321102609016318,92.431587177482399,29.921813917122751,56.047693510555121,6.4620797498045341,157.74042220484753,72.947615324472238,521.58326817826423,53.639562157935885,0.18373729476153244,3.1274433150899138E-2]
[null,null,null,3277.2950171368311,1457.8196678091219,536.98523596098073,1114.5531241761139,167.9369891906143,3.8028107830300661,4.4628813559322031,2.713687113621829,4.1938443987004295,2.3482885108108609,138.5605061956235,67.469021882414978,61.838913788557868,9.2525705246506718,582.82494068020037,375.17400474558394,297.34510941207486,17.246243079356709,0.60242552069601896,0.36250988663327183]
[null,null,null,4094.9894949155387,1549.9537776283721,726.03496092108571,1563.7843516261869,255.2164047398941,5.3698669387989009,5.8505242120957384,2.6911040919059008,8.4978809495538119,5.8202273032178935,70.531977477098906,25.671064795360952,25.112194302042187,19.74871837969577,205.51727035885366,114.50121858979745,575.68535171022768,9.8882259013362468,3.7742667451046303,0.92864946634170931]
[null,null,null,3034.8410757946212,764.97310513447428,498.03422982885087,1432.2836185819071,339.55012224938878,3.8811379042949699,3.1456004182417758,2.1029071688140073,6.5461737886644027,4.0845882352941176,18.777506112469439,2.5378973105134475,14.361858190709047,1.8777506112469438,43.711491442542787,39.623471882640587,52.533007334963322,0,0,0]
[null,null,null,3074.7792792792793,1218.1306306306305,406.83333333333331,1084.2567567567567,365.55855855855856,5.0084084789164365,6.1892065090517931,2.1380347039746228,5.9960392586687918,7.9477034570561154,91.747747747747752,34.256756756756758,40.801801801801801,16.689189189189189,85.711711711711715,74.027027027027032,278.82882882882882,28.603603603603602,0.1891891891891892,9.45945945945946E-2]
[null,null,null,2050.9991119005331,1011.682948490231,313.29484902309059,650.2930728241563,75.728241563055064,2.973687260178723,3.3138090528275543,1.9572237017310252,3.5875162293917344,1.7576007420385447,37.082593250444049,3.6367673179396096,32.735346358792185,0.71047957371225579,121.44316163410302,54.684724689165186,167.12699822380108,20.546181172291298,1.3676731793960923,0.19982238010657194]
[null,null,null,1631.8166479190099,741.82227221597293,205.46681664791899,587.61529808773901,96.912260967379069,1.948391992532452,2.9252367539754709,1.1440561192534136,1.8297052591022926,1.165122726350666,56.473565804274465,0.55118110236220474,49.139482564679412,6.7829021372328455,135.41057367829021,58.830146231721031,378.95388076490434,20.88863892013498,5.6242969628796394E-2,3.937007874015748E-2]
[null,null,null,1867.4086956521739,707.06666666666672,217.21739130434781,859.6289855072464,83.495652173913044,2.2769574406423843,2.6388221803941931,1.1156434228547609,2.9524928321121378,1.2587834294703724,71.646376811594209,29.617391304347827,40.799999999999997,1.2289855072463769,248.37681159420291,112.49855072463768,301.44927536231882,7.1652173913043482,0.14492753623188406,8.1159420289855067E-2]
[null,null,null,2353.7113402061855,1370.1914580265095,375.76583210603826,543.44624447717229,64.307805596465386,2.3755955079562092,3.8937786427271019,0.87370944268470174,3.3183453237410072,1.4276606179499756,144.44035346097201,67.260677466863029,68.924889543446241,8.2547864506627384,80.773195876288653,29.98527245949926,684.27098674521346,9.1384388807069215,0,2.2091310751104563E-2]
[null,null,null,2120.0503619767078,533.55681460497328,423.03430909663206,1058.8983317595216,104.56090651558074,2.084411324164738,1.7406810293483397,1.5096658242066834,2.9903554698263988,1.3712127466358457,183.21372363865282,162.17815549260308,17.056971986150458,3.9785961598992761,117.54800125904943,117.54800125904943,312.70066100094431,10.853005980484735,4.4066729619137553E-2,0]
[null,null,null,2162.191201353638,729.14551607445003,329.35702199661591,951.64551607445003,152.04314720812184,1.9723028245099552,1.7618439208872079,1.1675263915547025,3.1973990903922682,1.4805371339127569,50.063451776649742,1.8316412859560067,42.195431472081218,6.0363790186125206,243.16412859560066,176.31133671742808,1200.4949238578679,38.578680203045685,1.2690355329949238E-2,0.11844331641285956]
[null,null,null,1679.9638597759306,381.09143476689559,285.6451029996386,895.58366461872072,117.64365739067583,2.0104056742496326,1.8115100498196188,1.4028753993610221,2.6677001248762005,1.3689965514340987,25.511384170581859,1.0733646548608602,20.596313697144922,3.8417058185760755,49.136248644741599,36.114925912540656,673.11167329237446,82.580411998554396,7.2280448138778465E-3,0]
[null,null,null,4308.7013782542117,1109.2924961715162,976.20520673813166,1889.7243491577335,333.47932618683001,3.4014966874607095,3.3340145259727709,2.9903365325977838,4.4643141397623838,1.8100375702363933,105.09035222052067,68.820826952526801,23.57427258805513,12.695252679938744,177.18223583460949,124.40122511485451,366.92189892802452,24.961715160796324,8.2695252679938741E-2,1.4640122511485452]
[null,null,null,2562.8639618138427,1170.4677804295943,443.67541766109787,831.15035799522673,117.57040572792363,2.7820554006860321,3.8208859871916734,1.8558450633922332,2.6981637870922754,1.7349440022539975,32.930787589498806,3.6801909307875893,26.133651551312649,3.1169451073985681,120.00477326968974,52.138424821002388,302.14797136038186,67.064439140811459,1.7326968973747017,0.21002386634844869]
[null,null,null,2783.0788091068302,1224.1138353765325,456.69352014010508,980.81260945709278,121.45884413309983,3.4588209687775469,4.1711313875146949,1.7197348897022458,4.9422769752111337,2.5762630014858843,79.541155866900169,29.784588441331,49.427320490367777,0.32924693520140103,187.73029772329247,140.84763572679509,565.38704028021016,6.8388791593695268,12.476357267950963,8.3887915936952719]
[null,null,null,2953.6656151419556,985.82965299684543,415.05362776025237,1335.2050473186121,217.57728706624604,4.2358242175836702,4.4437050308562984,2.5962350526855835,5.4735671425615564,3.0365413401426435,172.06940063091483,31.817034700315457,101.45741324921136,38.794952681388011,237.72870662460568,175.90536277602524,180.45425867507888,26.485804416403784,0,0]
[null,null,null,4029.7275585050647,1668.2209803236699,819.90452904878339,1380.5472115496566,161.05483758295495,5.5619293255556093,6.6296587622903411,3.9253082428485429,6.263348052990767,3.6942181866737882,175.51402957270929,52.236581674234486,94.984282221446037,28.293165677028757,313.61625334730468,172.4298521364536,213.930608918384,6.5153102805914545,0.3737338456164862,0.24100593782745372]
[null,null,null,3598.8366627497062,867.72032902467686,1373.7132784958872,1120.0274187230709,237.37563650607129,3.2141800156024249,4.2765390629524527,2.3833597238173554,4.4994964594807243,2.5950413223140498,121.7156286721504,108.44496670583626,10.567959263611437,2.7027027027027026,170.07442224833528,122.85938112025067,2004.3674108891498,83.54093223658441,1.3905209557383469,1.2925969447708578]
[null,null,null,3278.8536438466172,1454.370608311584,541.07408150973697,1131.6061031921301,151.80285083316602,5.0148985626510347,5.8951214550189199,2.8512832991261297,6.5156923717155841,3.475660767639623,193.64585424613531,118.23930937562739,54.924713912868903,20.481830957639026,174.05139530214817,67.456334069463963,517.96827946195538,9.1005822124071472,0.70066251756675368,1.0138526400321219]
[null,null,null,3272.0145791915174,1196.3618290258448,570.91451292246518,1342.1272365805169,162.61100066269051,2.8877808840903509,3.1802103334683882,1.924903923496291,3.8043956043956046,1.5128236744759558,75.62624254473161,34.791252485089458,29.966865473823724,10.868124585818423,277.06428098078197,178.69449966865474,2861.9946984758117,131.00728959575878,0.13253810470510272,0.34459907223326708]
[null,null,null,2488.7933168316831,1243.7314356435645,407.10086633663366,734.23267326732673,103.72834158415841,2.5047658490560161,3.4299000827666242,1.3274180042574228,2.8077332639201118,1.6512338078116533,141.27784653465346,116.73267326732673,20.696163366336634,3.8490099009900991,78.997524752475243,18.462252475247524,315.94368811881191,3.4653465346534653,1.8564356435643563E-2,9.5915841584158418E-2]
[null,null,null,2478.4122137404579,934.85877862595419,330.79770992366412,768.2709923664122,444.48473282442745,2.1937964329996515,2.570908251199211,1.2786055706361383,2.5857408953690024,2.113866148735728,105.69847328244275,31.072519083969464,69.473282442748086,5.1526717557251906,68.992366412213741,34.736641221374043,559.16412213740455,8.1106870229007626,3.8167938931297711E-2,5.3435114503816793E-2]
[null,null,null,3889.6453301807128,1774.7736868772165,1025.2128018915723,952.63300118223265,137.02584022969091,3.7055625456546433,5.9549346616345353,2.3471922016557176,3.9493495399868368,1.8605499117114224,50.010133423408206,17.025840229690932,26.8637054551596,6.1205877385576759,145.75747339976354,107.07650734673197,351.05894274615775,11.839216348589765,2.7022462421888195E-2,1.3511231210944098E-2]
[null,null,null,3343.9542639352071,1399.9047165316817,774.53072891853265,1003.4159123392092,166.10290614578369,4.7960095661086433,5.3985926620000368,3.3754957124763822,5.8895724392494619,4.359759909966237,110.53835159599809,1.8056217246307764,90.152453549309186,18.580276322058122,245.30728918532634,150.48594568842304,326.23153882801336,14.940447832301095,0.19056693663649357,8.0990948070509758E-2]
[]
[]
[]
[]
[]
[]
[]
[null,null,null,"(P.03)[01]Total Book Stock","(P.03)[02]Reference Book Stock","(P.03)[03]Adult Fiction Stock","(P.03)[04]Adult Non-Fiction Stock","(P.03)[05]Children's Fiction Stock","(P.03)[06]Children's Non-Fiction Stock","(P.03)[07]Reserve Stock","(P.05)[01]Total Audio Visual Stock","(P.06)[01]Music, Videos and DVDs; Multi-media and Open Learning Packs; CD-ROMs and Software Stock","(P.06)[02]Adult Talking Book Stock","(P.06)[03]Children's Talking Book Stock","(P.06)[04]Reserve stock","(P.06)[05]Reference Stock","(P.07)[01]Total Book Acquisitions","(P.07)[02]Adult Fiction Acquisitions","(P.07)[03]Adult Non-Fiction Acquisitions","(P.07)[04]Children's Fiction Acquisitions","(P.07)[05]Children's Non-Fiction Acquisitions","(P.07)[06]Reference Book Acquisitions","(P.08)[01]Total Audio Visual Acquisitions","(P.08)[02]Adult Talking Book Acquisitions","(P.08)[03]Children's Talking Book Acquisitions","(P.08)[04]Music, Videos and DVDs; Multi-media and Open Learning Packs; CD-ROMs and Software Acquisitions","(P.08)[05]Reference Acquisitions","(P.10)[01]Lending Stock Replenishment Rate"]
[null,null,null,"SectionD","SectionD","SectionD","SectionD","SectionD","SectionD","SectionD","SectionD","SectionD","SectionD","SectionD","SectionD","SectionD","SectionD","SectionD","SectionD","SectionD","SectionD","SectionD","SectionD","SectionD","SectionD","SectionD","SectionD","SectionD"]
[null,null,null,"#,##0","#,##0","#,##0","#,##0","#,##0","#,##0","#,##0","#,##0","#,##0","#,##0","#,##0","#,##0","#,##0.0","#,##0","#,##0","#,##0","#,##0","#,##0","#,##0.0","#,##0","#,##0","#,##0.0","#,##0","#,##0.000","#,##0"]
[null,null,null,714.04716981132071,58.886792452830186,215.79245283018867,154.99056603773585,200.10849056603774,69.396226415094333,14.872641509433961,53.014150943396224,34.136792452830186,17.382075471698112,1.4952830188679245,1.4952830188679245,0,53.905660377358494,12.004716981132075,6.783018867924528,31.056603773584907,3.8349056603773586,0.22641509433962265,0.29245283018867924,0.28301886792452829,9.433962264150943E-3,0,0,12.845656353784303]
[null,null,null,1000.8849783218566,29.841877072175464,188.22749298648304,169.18643203264472,332.77990308594747,233.65978066819687,47.189492476409079,49.989798520785513,36.095383830655443,13.325682223922469,0.5687324662076001,0.5687324662076001,0,84.583014537107871,24.567712318286151,19.466972711043102,31.604182606477938,8.6151491966335119,0.3289977046671767,5.6873246620760005,1.2012241775057382,0,4.4861004845702626,0,10.827539272954121]
[null,null,null,1332.3251748251748,70.670163170163178,266.99300699300699,163.92191142191143,204.5804195804196,49.224941724941729,576.93473193473199,66.078088578088582,22.977855477855478,22.208624708624708,4.1375291375291381,4.1375291375291381,0.43706293706293708,125.97902097902099,48.508158508158509,24.061771561771561,46.515151515151516,6.7249417249417256,0.16899766899766899,3.4440559440559442,1.5675990675990676,0.48951048951048953,1.3869463869463869,0,5.8087015329125347]
[null,null,null,630.17387788111603,26.570966437525271,203.14597654670439,148.13991103922362,170.12131014961585,55.903760614638088,26.291953093408814,39.834209462191666,11.908613020622726,24.322684997978165,3.2672866963202587,3.2672866963202587,0,118.12778002426202,36.619490497371615,20.485240598463403,51.763040841083701,8.4512737565709664,0.80873433077234125,3.1742822482814392,1.4112414071977355,0.11726647796198948,1.6457743631217145,0,5.1218202563930468]
[null,null,null,874.02283411685687,135.49361987911348,242.39086635325722,204.87575554063127,149.09335124244458,64.983210208193412,77.186030893216923,29.053055742108796,9.375419744795165,16.501007387508395,3.0624580255204834,3.0624580255204834,0,54.022834116856949,24.311618535930155,9.0396239086635326,15.164539959704499,5.3861652115513765,0.1208865010073875,0.58428475486903964,0.44325050369375418,0.14103425117528542,0,0,12.671021816837175]
[null,null,null,842.44795405599416,81.414213926776739,325.63531945441491,200.58147882268483,179.18880114860013,52.950466618808321,2.6776740847092602,41.794687724335965,2.4623115577889445,35.577889447236181,3.7544867193108398,3.7544867193108398,0,114.04881550610193,61.012203876525483,19.791816223977026,28.557071069633881,4.3144292893036607,0.37329504666188079,2.3259152907394109,2.1033740129217513,5.0251256281407031E-2,0.17229002153625267,0,6.8977659508632962]
[null,null,null,796.9096005606167,44.548002803083392,198.89278206026631,200.71128241065173,156.29292221443589,57.57533286615277,138.88927820602663,40.357393132445694,16.415557112824107,22.494744218640506,1.4225648213034339,1.4225648213034339,0,68.174491941135258,27.592852137351088,10.017519271198319,25.049053959355295,4.968465311843028,0.54660126138752629,2.5508058864751226,1.9201121233356695,9.8107918710581651E-2,0.5325858444288718,0,9.3166408707374337]
[null,null,null,1006.2521688837478,29.866975130133024,336.95488721804509,334.64719491035277,214.94505494505495,74.18739155581261,15.650665124349334,113.57721226142279,66.749566223250426,41.483516483516482,4.6992481203007515,4.6992481203007515,0,97.08212839791787,38.097165991902834,26.281087333718911,27.333718912666281,5.1850780798149216,0.18507807981492191,4.5720069404279933,1.9635627530364372,0,2.6084441873915556,0,10.587579799361606]
[null,null,null,"na","na","na","na","na","na","na","na","na","na","na","na","na","na","na","na","na","na","na","na","na","na","na","na","na"]
[null,null,null,804.73700120918977,11.925634824667473,179.51027811366384,166.19709794437725,324.76420798065294,98.899637243047152,23.440145102781138,31.711003627569529,17.871825876662637,12.019347037484884,1.8198307134220071,1.8198307134220071,0,121.53567110036275,35.737605804111247,24.229141475211609,50.903869407496977,10.486698911729141,0.17835550181378476,1.9921402660217653,0.61970979443772667,0.15417170495767835,1.2182587666263602,0,6.4944123125183806]
[null,null,null,1101.3808539944905,196.83884297520663,279.00137741046836,335.43388429752071,226.72176308539946,63.384986225895325,0,121.6150137741047,92.493112947658403,25.66115702479339,3.2920110192837466,3.2920110192837466,0.16873278236914602,122.5275482093664,47.465564738292017,24.996556473829202,39.88636363636364,9.1735537190082646,1.0055096418732783,6.1191460055096423,1.1776859504132233,0.15495867768595042,4.7865013774104685,0,8.0393881349987844]
[null,null,null,1516.2494605092793,658.51100561070348,256.19766940008634,239.85541648683645,222.60250323694433,52.164436771687527,86.918429003021146,92.82477341389729,48.47000431592577,29.96331463098835,6.3271471730686235,6.3271471730686235,0,93.349158394475623,33.80664652567976,18.767803193785067,30.485541648683643,3.970651704790678,6.31851532153647,7.0543806646525686,2.2291756581786792,0.61070349589987061,4.214501510574018,0,9.1794077845822155]
[null,null,null,1126.4119601328903,120.24161884627,242.34370280881907,284.95318634853516,231.10540622168529,92.237994563575953,155.53005134400482,81.815161582603437,50.594986408939896,23.150105708245242,3.4340078526125035,3.4340078526125035,0,139.63757173059497,55.560253699788582,24.143763213530654,50.211416490486258,8.8039867109634553,0.91815161582603433,5.4364240410752034,1.8483841739655691,0.25974025974025972,3.3282996073693747,0,6.4683846637335005]
[null,null,null,920.1573782632845,39.788927976300684,195.16385854471395,74.860211072023702,191.11090538789114,65.287909646361783,353.94556563599332,56.072949453804846,24.339937048694686,13.427143121644139,3.2327346787631916,3.2327346787631916,0,97.741159044621369,50.164784299203852,11.877430105536011,27.106091464543603,7.2171820033327156,1.3756711720051842,4.5806332160710976,0.91464543603036474,0.19070542492131087,3.4752823551194223,0,5.7703637130646923]
[null,null,null,765.89163598106268,88.732246186217779,255.41820094687009,105.85481325618096,136.93319305628617,39.268805891635985,139.68437664387164,71.751709626512366,18.248290373487638,27.648605996843767,0.27880063124671228,0.27880063124671228,2.6301946344029457E-2,42.903734876380852,22.619673855865333,5.6286165176223042,11.067859021567596,3.4718569174118885,0.11572856391372963,1.0468174644923725,1.020515518148343,0,0,2.6301946344029457E-2,13.898235929437178]
[null,null,null,1080.3236554021894,41.803902903379345,382.16563541170871,289.48595906711091,242.13231794383628,66.130414088529278,58.60542598762494,83.084245597334601,52.508329366968113,27.510709186101856,3.065207044264636,3.065207044264636,0,104.12184673964779,44.607329842931939,29.700142789148025,26.634935744883389,2.341742027605902,0.83769633507853403,9.7953355544978589,2.3655402189433605,3.3317467872441699E-2,7.396477867682056,0,9.4004545837191671]
[null,null,null,933.59324635456642,136.41903300076746,213.65157329240216,195.41519570222565,263.80966999232538,79.378357636224095,44.919416730621641,49.161933998465081,21.605525709900231,19.450498848810437,6.1519570222563313,6.1519570222563313,0,80.432847275518029,38.678434382194936,10.431312356101305,19.108211818879507,8.3468917881811198,3.8679969301611665,2.3745203376822719,1.3798925556408288,4.6047582501918649E-2,0.94858019953952422,0,10.152307064107799]
[null,null,null,1357.4332570556828,78.196033562166292,276.59801678108317,484.03127383676588,185.59496567505721,83.314263920671252,249.698703279939,99.630053394355457,80.938215102974837,16.407322654462245,1.4073226544622426,1.4073226544622426,0,50.881006864988564,17.173913043478262,12.971014492753623,14.912280701754387,5.1983218916857359,0.62547673531655223,2.192982456140351,1.2700228832951945,3.8138825324180018E-3,0.91914569031273841,0,21.529086678301336]
[null,null,null,707.07334273624815,36.339915373765862,226.38222849083215,147.47531734837798,222.15796897038081,74.717912552891391,0,32.767983074753168,13.025387870239774,15.691114245416077,4.0479548660084621,4.0479548660084621,3.5260930888575456E-3,150.73342736248236,59.643864598025381,29.255994358251055,50.15514809590973,11.311706629055006,0.36671368124118475,4.0162200282087444,0.36318758815232721,1.7313117066290549,1.9217207334273623,0,4.556859968480917]
[null,null,null,1058.7605042016805,44.968487394957982,329.95010504201679,300.7825630252101,307.32405462184875,55.26523109243697,20.470063025210084,41.53623949579832,20.522584033613445,17.371323529411764,3.0698529411764706,3.0698529411764706,0,127.63655462184873,43.035714285714285,22.752100840336134,48.382352941176471,13.182773109243698,0.28361344537815125,4.8949579831932768,1.2106092436974789,0.33876050420168063,3.3455882352941178,0,7.825138999205719]
[null,null,null,1081.5271659324524,51.497797356828194,312.59618208516889,323.62995594713658,309.85609397944199,61.389133627019092,22.558002936857562,46.434654919236415,28.26725403817915,16.505139500734213,1.2745961820851688,1.2745961820851688,0,113.03377386196769,44.079295154185019,20.355359765051396,39.753303964757713,8.4375917767988255,0.40822320117474303,8.4405286343612342,2.7165932452276063,0.11160058737151249,5.6123348017621142,0,8.7052131091866194]
[null,null,null,1016.0387131952017,20.444383860414394,336.23227917121045,246.85659760087239,323.37241003271538,89.01581243184296,0.11723009814612868,72.050163576881133,46.401308615049075,22.445474372955289,3.2033805888767719,3.2033805888767719,0,126.30043620501635,41.038713195201744,19.719193020719736,52.390948745910578,12.418211559432933,0.73336968375136313,5.9950926935659758,2.8135223555070881,0.14449291166848419,3.0370774263904035,0,8.1142424933170325]
[null,null,null,865.81884246042046,28.445367246301583,238.87620036335323,268.22216454710616,205.74617181417076,67.9885803270179,56.540358162470802,27.677134700233584,8.7749805346483249,15.234881910199844,3.6672722553854138,3.6672722553854138,0,60.781209447184011,20.669608097586295,12.071113418115754,23.441474175966778,4.5652738126135475,3.3739942901635088E-2,0.48533610173890473,0.33739942901635089,0.14274591227614844,5.1907604464053979E-3,0,13.203874030432756]
[null,null,null,1300.5191421126478,148.75726598516738,333.47163760272599,426.02124674283425,190.26257767087594,67.879334535979154,134.12707957506515,77.123672078572866,39.12206855081179,32.240930046101425,5.7606734816596514,5.7606734816596514,0,91.9643215073161,35.025055121266789,20.663459611144518,27.899378632992583,7.40829825616356,0.96812988574864711,4.2693926638604935,3.7602725997193827,0.45500100220485068,5.4119061936259774E-2,0,11.491647029119676]
[null,null,null,2144.22138836773,1250.9380863039401,207.8330206378987,132.52345215759851,169.09943714821765,44.924953095684806,338.90243902439028,91.969981238273931,24.043151969981238,17.392120075046904,6.8292682926829276,6.8292682926829276,1.6135084427767354,74.502814258911826,38.442776735459667,8.696060037523452,22.138836772983115,4.8217636022514077,0.40337711069418386,4.5403377110694185,3.4427767354596623,0.61913696060037526,0.45966228893058164,1.8761726078799251E-2,8.2191339615889305]
[null,null,null,1402.5660964230171,251.27527216174184,289.98833592534993,216.45023328149301,296.4346811819596,100.50155520995335,247.91601866251946,36.675738724727843,1.2636080870917574,24.272939346811821,7.0101088646967344,7.0101088646967344,3.2620528771384136,100.0855365474339,52.717729393468119,13.052099533437014,26.403576982892691,7.7177293934681188,0.19440124416796267,4.1951788491446349,3.4331259720062208,0.76205287713841374,0,0,9.031451944268051]
[null,null,null,897.14698855777704,96.452910851251104,285.98264805733686,288.45592858040993,184.80196152395322,41.453539544825851,0,97.120583427637371,69.087136929460584,23.408776562303533,4.6246699358732553,4.6246699358732553,0,41.110272853011445,21.495033320759465,6.0656356092040742,12.350056582421729,1.1379353703005155,6.1611970325663276E-2,5.117565698478562,1.347919024267572,0.22884446120960644,3.5408022130013834,0,19.447434361041505]
[null,null,null,1135.4865181711607,66.628370457209854,447.64126611957795,313.79132473622508,242.93786635404456,63.418522860492381,1.0691676436107855,92.658851113716295,45.24970691676436,39.519343493552171,7.8898007033997652,7.8898007033997652,0,46.5158264947245,24.609613130128956,8.0890973036342313,11.395076201641267,1.5099648300117234,0.91207502930832351,2.2837045720984759,0.37280187573270807,7.0339976553341153E-3,1.9038686987104338,0,24.232814336075201]
[null,null,null,"na","na","na","na","na","na","na","na","na","na","na","na","na","na","na","na","na","na","na","na","na","na","na","na","na"]
[null,null,null,1391.1197754210855,8.3031815346225812,374.41359950093573,291.37554585152839,390.44915782907049,326.57829070492824,0,114.38240798502807,63.231441048034931,45.664379288833437,5.4865876481597002,5.4865876481597002,0,113.36868371802869,48.699313786650031,16.147847785402369,40.583281347473488,7.7199001871490953,0.21834061135371177,8.2501559575795369,2.5171553337492201,4.9906425452276977E-2,5.6830941983780408,0,12.3327252639963]
[null,null,null,1010.4098671726755,26.920303605313094,244.35673624288424,104.30170777988614,139.68311195445921,31.675521821631879,463.47248576850097,22.741935483870968,4.3643263757115747E-2,16.929791271347248,1.2485768500948766,1.2485768500948766,0,51.814041745730549,27.563567362428842,5.8728652751423152,16.981024667931688,1.3434535104364327,5.3130929791271347E-2,1.50853889943074,1.2675521821631879,0.24098671726755219,0,0,10.188935988316176]
[null,null,null,1317.1081871345029,53.923976608187132,284.61403508771929,324.32163742690057,352.20760233918128,166.65204678362574,135.38888888888889,114.15789473684211,63.672514619883039,11.602339181286549,5.9327485380116958,5.9327485380116958,0,47.3187134502924,14.728070175438596,7.1842105263157894,21.529239766081872,3.8128654970760234,6.4327485380116955E-2,5.8479532163742687E-3,5.8479532163742687E-3,0,0,0,26.279032357854359]
[null,null,null,871.94554633970426,60.732059141723759,278.77028489001083,207.73350162279118,200.58420483231157,50.122610890732055,74.002884962134871,67.412549585286683,30.117201586729173,30.551749008294266,4.2913811756220701,4.2913811756220701,0,80.971871619184995,36.462315182113237,10.943021997836277,29.112874143526867,4.0858276235124409,0.36783267219617743,3.6891453299675439,1.2369275153263612,0.18752253876667868,2.2646952758745043,0,9.5455303856766989]
[null,null,null,988.17909553758614,10.368373764600181,250.16172506738548,218.68224019167417,348.39772386942201,77.978436657681939,82.590595986822407,57.586103623839477,36.942198262952985,18.104222821203955,2.53968253968254,2.53968253968254,0,315.61545372866129,84.579215333932325,35.573525007487277,175.10332434860737,19.934112009583711,0.42527702905061399,9.0326445043426187,2.2641509433962264,0.47918538484576223,6.2893081761006293,0,2.9387389384618228]
[null,null,null,979.58654757071326,59.588577615374206,311.58681824333468,222.52537555826228,273.70550818784682,73.993774529706329,38.186493436188933,84.464744891054266,53.516037352821762,29.083773176343215,1.8649343618892948,1.8649343618892948,0,114.62985519014752,52.809581810799841,15.442549736094195,39.876167275680068,5.1725537961835162,1.3290025713899039,5.117065908783327,2.351468398971444,1.2180267965895251E-2,2.7534172418459875,0,8.1598818272208824]
[null,null,null,1090.9481481481482,130.44938271604937,348.5679012345679,162.97777777777779,250.28641975308642,80.982716049382717,117.68395061728395,155.01234567901236,103.02716049382715,46.316049382716052,5.6691358024691354,5.6691358024691354,0,92.4,52.943209876543207,14.488888888888889,21.48641975308642,3.3185185185185184,0.16296296296296298,5.3382716049382717,2.276543209876543,6.4197530864197536E-2,2.9975308641975307,0,10.226226023584189]
[null,null,null,648.86047979797979,16.920770202020201,189.5580808080808,127.94034090909091,168.40751262626262,40.814393939393938,105.21938131313131,22.632575757575758,9.4854797979797976,7.9845328282828278,2.4984217171717171,2.4984217171717171,0,29.351325757575758,12.725694444444445,3.4075126262626263,11.305239898989898,1.8055555555555556,0.10732323232323232,2.9198232323232323,0.42455808080808077,0.5997474747474747,1.8955176767676767,0,17.079837087197607]
[null,null,null,968.4905660377359,11.254367575122293,273.27393431167019,211.94619147449336,304.73445143256464,78.542976939203356,88.73864430468204,122.24668064290707,86.39412997903564,23.053808525506639,3.5639412997903563,3.5639412997903563,4.1928721174004195E-2,108.85394828791055,34.46890286512928,17.56114605171209,47.375960866526903,9.4444444444444446,3.4940600978336828E-3,9.350104821802935,1.5269042627533194,0,7.8232005590496163,0,8.3818912767152458]
[null,null,null,1008.7558097962103,7.826242402574187,323.54308187343582,282.7887021809081,278.04075795495174,116.55702538434036,0,229.7247050411155,191.44082946013586,32.61351447979979,5.6703611011798358,5.6703611011798358,0,105.69896317483018,33.81122631390776,26.070790132284593,37.307829817661784,7.865570253843404,0.64354665713264214,21.136932427601003,8.7844118698605644,1.3585984983911334,10.993922059349304,0,9.7522098821396188]
[null,null,null,1427.5934579439252,3.3255451713395638,632.95171339563865,290.4283489096573,246.85358255451712,47.056074766355138,206.97819314641742,11.012461059190031,0.17912772585669781,10.241433021806854,0.59190031152647971,0.59190031152647971,0,403.02959501557632,177.46884735202491,53.660436137071649,146.38629283489095,25.514018691588785,0,2.7258566978193146,2.7258566978193146,0,0,0,3.0271982187757915]
[null,null,null,716.32146709816607,81.402373247033438,141.06256742179073,218.48435814455232,174.46601941747574,39.363538295577129,61.54261057173678,64.5631067961165,44.201725997842502,7.4541531823085219,2.4811218985976269,2.4811218985976269,5.3937432578209273E-3,96.25134843581445,26.752966558791801,21.046386192017259,33.435814455231927,3.8241639697950376,11.192017259978424,"na",0.81445523193096003,0.20496224379719524,5.4584681769147787,0,"na"]
[null,null,null,1034.0042141974861,2.8889050352394099,268.26491317300008,268.95734941509846,299.0641575237957,68.891230109714456,125.93765894063795,45.513332848942817,7.5201627552132528,30.293540652474025,5.4123374264331909,5.4123374264331909,0,111.22066409939694,49.444888469083779,16.266802296011043,40.568190074838334,4.8288890503523945,0.1118942091113856,2.0627770108261281,1.6864055801787401,0.37491825910048682,1.4531715469011117E-3,0,8.4004417108591536]
[null,null,null,1555.0849963045084,82.601626016260155,244.80413895048039,331.84774575018474,354.29416112342938,123.10421286031041,418.43311160384326,189.59719142645972,151.13821138211381,12.793791574279378,6.6740576496674056,6.6740576496674056,0,119.43828529194381,30.450849963045084,32.524020694752402,47.09164818920916,9.3126385809312637,5.9127864005912779E-2,13.440502586844049,1.0643015521064301,0.44345898004434586,11.932742054693273,0,9.3634289530063146]
[null,null,null,1184.3142742902839,78.188724510195925,243.21071571371451,459.06037584966015,261.60735705717713,104.38224710115954,37.86485405837665,99.072371051579367,76.017592962814874,19.624150339864055,3.4306277489004398,3.4306277489004398,0,15.329868052778888,5.9456217512994805,3.05077968812475,4.6421431427429027,1.5353858456617353,0.15593762495002,0.16393442622950821,0.16393442622950821,0,0,0,76.10792492179354]
[null,null,null,951.40418929402631,75.065942591155931,277.76183087664856,189.08068269976727,312.31962761830874,75.294802172226525,21.881303335919316,33.510473235065945,1.8890612878200155,29.158262218774244,1.1598138091543833,1.1598138091543833,3.8789759503491078E-3,98.855702094647015,35.062063615205581,14.666408068269977,48.789759503491076,0.2482544608223429,8.9216446858029472E-2,1.6252909231962762,1.6252909231962762,0,0,0,8.8450214443027697]
[null,null,null,1028.9744924518479,59.661634565330559,299.36491410723585,265.07548152004165,202.16033315981261,47.13690786048933,155.57522123893807,60.567412805830301,32.316501821967726,17.272254034357108,1.993753253513795,1.993753253513795,0,83.498178032274865,45.346173867777203,15.408641332639251,20.817282665278501,1.7595002602811036,0.1665799062988027,7.1108797501301408,3.7168141592920354,0,3.3940655908381054,0,9.6669736387705765]
[null,null,null,823.50303951367778,49.517055048969937,246.71985815602835,255.67629179331306,218.71918270854439,52.870651806822018,0,37.567544748395811,16.879432624113473,17.293988517392773,3.007429922323539,3.007429922323539,0.38669368456602499,134.19284025667002,51.06973995271867,32.125970955758184,43.329956095913538,7.0879770347855446,0.57919621749408978,4.3363728470111447,2.1437014522120905,0.14859844647078688,2.0440729483282674,0,5.8829534604744538]
[null,null,null,641.71344165435744,7.6920236336779908,193.16469719350073,161.17429837518463,213.16469719350073,61.920236336779908,4.5974889217134418,77.511078286558345,43.485967503692763,31.045051698670605,2.9800590841949779,2.9800590841949779,0,72.134416543574588,23.23116691285081,12.740029542097489,31.307237813884786,4.7415066469719349,0.11447562776957164,1.5841949778434268,1.3589364844903988,0.22525849335302806,0,0,9.6045554886614486]
[null,null,null,1211.5053003533569,32.798586572438161,428.0636042402827,415.40636042402826,193.37102473498234,92.621908127208485,49.243816254416963,86.282685512367493,46.812720848056536,35.229681978798588,4.2402826855123674,4.2402826855123674,0,91.561837455830386,48.466431095406364,15.356890459363958,24.021201413427562,3.6325088339222615,8.4805653710247356E-2,6.862190812720848,2.3604240282685511,0,4.5017667844522968,0,12.362773984908374]
[null,null,null,869.77415307402759,33.751568381430367,237.8586365537432,203.73483897950649,279.22626516102048,50.037641154328732,65.16520284399833,161.72731074864075,131.17942283563363,22.651610204935174,5.5332496863237139,5.5332496863237139,2.3630280217482227,134.91007946465913,40.472605604349646,32.471769134253449,54.809703053115854,6.9719782517774993,0.18402342116269343,17.553324968632371,4.3747386030949391,0.46005855290673359,12.714345462149728,4.1823504809703057E-3,6.1241691842900305]
[null,null,null,1858.2202304737518,534.80153649167733,222.34955185659413,374.15492957746483,219.42381562099874,62.906530089628689,444.58386683738797,50.473751600512166,35.723431498079385,12.189500640204866,1.5749039692701665,1.5749039692701665,6.4020486555697829E-3,166.44686299615879,36.421254801536492,39.622279129321385,45.038412291933419,6.0371318822023055,39.327784891165173,9.6094750320102431,1.4276568501920615,0.54417413572343154,7.637644046094751,0,6.7967411153251867]
[null,null,null,872.13821241871733,74.11895958179268,260.30026775468571,181.57401504526331,248.82060436057631,65.747163075353825,41.577202601045521,65.371669004207575,24.9196735942879,21.958434272599771,3.9308937906413366,3.9308937906413366,0.35828126992222364,88.095754175698076,38.480173403034556,15.401632028560501,30.583322708147396,3.265332143312508,0.36529389264312129,3.8416422287390031,1.3100854264949637,0.1230396531939309,2.4085171490501085,0,8.9744987468671678]
[null,null,null,1217.4586894586894,30.273504273504273,313.44729344729348,280.98575498575497,362.3133903133903,129.61823361823363,100.82051282051282,92.182336182336186,50.467236467236468,31.846153846153847,9.6296296296296298,9.6296296296296298,0,102.65527065527066,38.974358974358971,18.205128205128204,40.358974358974358,4.7692307692307692,0.3475783475783476,6.0911680911680914,1.982905982905983,0,4.1082621082621085,0,10.872319175777966]
[null,null,null,989.36616808528231,106.02594826873813,292.9600859433105,208.06710189240559,186.19618213370796,40.868523262540286,155.24832658457979,50.866870506569711,27.344021155276426,20.771837038261303,2.6014378976944057,2.6014378976944057,0,106.38707544831007,60.791670109908274,9.2165936699446327,30.414841748615821,5.9639699198413361,0,3.4088091893231969,1.2949343029501694,0.23634410379307497,1.8775307825799523,0,7.0946080202312141]
[null,null,null,1484.4988738738739,30.160472972972975,329.45101351351354,361.20213963963965,564.97747747747746,124.79729729729731,73.910472972972968,139.87331081081081,64.693130630630634,30.717905405405407,0.98536036036036034,0.98536036036036034,0.3997747747747748,125.64752252252252,26.438626126126128,16.171171171171171,67.89414414414415,13.465653153153154,1.677927927927928,4.1019144144144146,2.1565315315315314,8.4459459459459457E-2,1.8552927927927929,5.6306306306306312E-3,11.870721681211668]
[null,null,null,746.04324788772738,18.122583416869542,255.42889875411717,124.89044823141917,272.52899899756551,61.420592868394678,13.651725619361306,56.2938565086639,32.424459401403411,19.24531003866533,4.4164399255334388,4.4164399255334388,0,106.50579979951311,39.375626521552341,16.474294715738221,43.398252899899759,7.2246885292854079,3.2937133037376491E-2,9.0777602749534587,1.9318344551052558,0.534154374910497,6.6117714449377063,0,6.6686165400488289]
[null,null,null,1229.5255354200988,95.76935749588138,324.04612850082373,226.67545304777596,400.77100494233935,118.01317957166393,64.250411861614495,52.355848434925868,33.261943986820427,14.507413509060955,4.5864909390444808,4.5864909390444808,0,82.602965403624381,26.471169686985174,9.4266886326194399,38.421746293245469,8.2372322899505761,4.6128500823723231E-2,0.87314662273476107,0.44810543657331137,4.6128500823723231E-2,0.37891268533772654,0,13.446743809486199]
[null,null,null,820.18655729028853,64.09102937284996,275.99497221487167,189.75258004763165,171.39322572109023,40.392961100820322,78.561788833024607,66.717385551733273,27.89494575284467,18.504895474993386,3.9917967716327074,3.9917967716327074,0.19581899973537975,64.690394284202171,32.226779571315163,9.9073829055305644,19.061921143159566,3.2574755226250334,0.2368351415718444,3.7615771368086799,0.85736967451706803,0.14554114845197144,2.7573432124900767,1.3231013495633766E-3,10.910351649630506]
[null,null,null,829.1312470808034,18.425969173283512,224.64736104624009,118.32321345165811,188.79028491359179,93.278841662774411,185.6655768332555,45.553479682391405,10.401681457262962,31.303129378794956,2.9285380663241476,2.9285380663241476,0.1120971508640822,88.879028491359179,35.427370387669313,6.28211116300794,37.944885567491831,9.061186361513311,0.16347501167678655,2.3120037365716954,1.3825315273236805,0.16814572629612332,0.76132648295189165,0,7.36692493201293]
[null,null,null,2277.08911614317,993.16837107377648,359.13440467494519,488.13550036523009,340.22279035792548,96.428049671292911,0,98.44229364499634,63.855003652300944,24.81373265157049,9.7735573411249081,9.7735573411249081,0,82.260774287801311,30.343316289262233,16.627100073046019,24.329802775748721,6.3330898466033601,4.6274653031409789,3.341855368882396,0.64828341855368876,0.25566106647187725,2.4379108838568295,0,17.071444679987373]
[null,null,null,884.5483987045701,8.7981288233177413,240.53616408780138,154.03742353364521,330.95717884130983,105.51277437927313,44.706729039222743,35.631522130262688,21.831594098596618,11.565311263044261,2.2346167686218066,2.2346167686218066,0,80.683699172364172,18.985246491543723,5.6783015473191805,48.326736236056142,7.6466354803886301,4.6779417056495146E-2,3.0190716084922635,1.0219503418495863,0.2770780856423174,1.72004318100036,0,10.3599879559532]
[null,null,null,1340.9990300678953,28.205625606207565,264.1028128031038,365.56256062075659,393.42870999030072,226.79437439379245,62.904946653734243,37.133850630455868,16.954413191076625,14.689621726479148,5.4898157129000973,5.4898157129000973,0,67.555771096023278,21.886517943743939,21.527643064985451,22.041707080504366,2.061105722599418,3.8797284190106696E-2,0.21823472356935017,0.21823472356935017,0,0,0,19.000787570702364]
[null,null,null,972.92471685542978,284.71685542971352,218.45103264490339,317.1252498334444,123.91738840772818,28.714190539640242,0,53.307794803464361,36.169220519653564,17.101932045303133,3.6642238507661559E-2,3.6642238507661559E-2,0,40.063291139240505,19.003997335109929,9.9267155229846775,8.3877415056628912,0.4863424383744171,2.2584943371085942,3.9407061958694207,1.9220519653564292,3.3311125916055964E-2,1.9853431045969354,0,17.762767315671883]
[null,null,null,785.25284090909088,14.724431818181818,245.20170454545453,158.51420454545453,264.09090909090907,57.272727272727273,45.448863636363633,40.03125,25.133522727272727,6.71875,0.60511363636363635,0.60511363636363635,0.32102272727272729,111.86363636363636,38.352272727272727,10.099431818181818,54.3125,8.7755681818181817,0.32386363636363635,1.4772727272727273,0.33806818181818182,0,1.1392045454545454,0,6.7698707958373125]
[null,null,null,1046.3394931946441,119.98118844749364,272.09361513776696,244.609936925971,233.97477038840321,65.737523514440625,109.94245878056877,81.872302755339163,38.801593449153479,23.110545535022684,9.8882372468739614,9.8882372468739614,2.4388624543543211,139.34048910036515,59.672457674006857,22.345911253734645,48.402124598871303,8.6046254287927404,0.31537014495961047,9.206595108996348,0.67832245214119724,0.87307734867765852,7.6385968794954078,1.6598428682084762E-2,6.0600267249938415]
[null,null,null,975.85106382978711,45.450563204005,367.77221526908636,237.87859824780975,112.61576971214016,47.209011264080097,164.92490613266582,103.86107634543178,37.647058823529406,42.027534418022526,4.9249061326658321,4.9249061326658321,0.14392991239048811,71.476846057571962,38.42928660826032,10.65081351689612,19.561952440550687,2.2403003754693365,0.59449311639549429,4.7559449311639543,1.4455569461827282,0.33792240300375465,2.9724655819774717,0,11.493339952014562]
[null,null,null,1246.4767441860465,96.156976744186053,302.33720930232556,203.84302325581396,268.28488372093022,95.319767441860463,280.53488372093022,51.686046511627907,4.1395348837209305,17.691860465116278,2.2616279069767442,2.2616279069767442,0.11627906976744186,75.093023255813947,34.02325581395349,10.377906976744185,22.11046511627907,8.1162790697674421,0.46511627906976744,2.7325581395348837,2.63953488372093,8.7209302325581398E-2,5.8139534883720929E-3,0,11.911393356380579]
[null,null,null,754.03459560542308,45.642823749415612,222.4310425432445,171.15942028985506,181.32772323515661,55.254791958859279,78.218793828892004,68.443197755960725,25.086489013557738,30.102851799906496,8.7050023375409076,8.7050023375409076,3.2725572697522208E-2,88.190743338008417,38.46657316503039,12.959326788218794,23.800841514726507,12.828424497428704,0.13557737260402056,5.2360916316035526,2.0243104254324451,0.49555867227676481,2.7162225338943431,0,7.4885492357805052]
[null,null,null,1520.3349514563106,106.22330097087378,387.88834951456312,372.15533980582524,390.13106796116506,243.48543689320388,20.45145631067961,62.233009708737868,34.45145631067961,19.033980582524272,8.7475728155339798,8.7475728155339798,0,133.80582524271844,54.66990291262136,24.966019417475728,33.582524271844662,14.592233009708737,5.9951456310679614,4.733009708737864,1.0436893203883495,0.85436893203883491,2.8349514563106797,0,10.984251391737473]
[null,null,null,863.26769731489014,70.024410089503661,296.25549227013835,166.81204231082179,205.38974776240846,46.958502847843775,77.827502034174131,54.315703824247358,21.589910496338486,25.728234336859234,2.9698942229454843,2.9698942229454843,0,129.13588283157037,67.502034174125299,19.759153783563875,31.183075671277461,10.393816110659072,0.29780309194467047,8.0618388934092753,2.9536208299430431,0.34662327095199347,4.7615947925142388,0,5.6225854383358103]
[null,null,null,768.27314071696094,77.813001605136435,215.34510433386836,191.47940074906367,213.01899411449972,65.157838416265378,5.4588014981273405,52.891920813269124,24.863563402889245,23.984751203852326,2.3515248796147672,2.3515248796147672,0.16720171214553237,5.9443552701979669,2.2873194221508828,0.59657570893525946,2.2244515783841625,0.83600856072766183,0,0.3611556982343499,0.19261637239165327,1.0700909577314071E-2,0.15783841626538256,0,117.0235468816292]
[null,null,null,1860.0302023557836,394.71156750226515,299.38991241316819,734.55149501661128,230.51041981274537,64.714587737843544,136.1522198731501,97.656297191180911,46.463304137722737,22.18665055874358,4.868619752340682,4.868619752340682,0.81546360616128055,81.449713077620046,27.408637873754152,17.979462398067049,31.162790697674417,4.4971307762005432,0.40169133192389006,2.2379945635759588,1.2987012987012987,0.27786167321051042,0.66143159166414978,0,17.131599941978536]
[null,null,null,1054.5000607459604,32.915806098894421,359.17628477706234,258.86769529826267,286.10375410035232,86.46215526667477,30.974365204713887,52.100595310411855,22.218442473575507,22.918235937310168,6.9639168995261818,6.9639168995261818,0,117.57137650346252,44.783136921394728,19.651318187340543,45.23022718989187,7.7900619608796013,0.11663224395577694,5.3614384643421209,3.172154051755558,0.89053577937067185,1.2987486332158911,0,8.4900089029577614]
[null,null,null,1117.0840407470289,13.463497453310696,388.49745331069613,274.57555178268251,253.6332767402377,77.805602716468599,109.10865874363328,42.911714770797964,16.735993208828525,19.456706281833618,2.1731748726655349,2.1731748726655349,0,84.040747028862484,33.582342954159593,16.608658743633278,30.0169779286927,3.3998302207130733,0.43293718166383705,0.71731748726655353,0.63667232597623091,7.2156196943972836E-2,8.4889643463497456E-3,0,12.302662707001561]
[null,null,null,1136.8363636363636,53.24218181818182,271.49527272727272,411.46763636363636,286.13818181818181,80.962909090909093,33.530181818181816,72.61963636363636,48.171636363636367,16.946909090909092,4.0814545454545454,4.0814545454545454,0.31709090909090909,115.648,37.375999999999998,19.732363636363637,48.527999999999999,8.9512727272727268,1.0603636363636364,7.0705454545454547,1.4661818181818183,0.30690909090909091,5.2974545454545456,0,9.2281802965088477]
[null,null,null,1062.6467661691543,10.104477611940299,471.19900497512435,209.12935323383084,302.7363184079602,58.651741293532339,10.82587064676617,58.034825870646763,23.840796019900498,30.35820895522388,3.8358208955223883,3.8358208955223883,0,104.33830845771145,49.572139303482587,14.791044776119403,35.791044776119406,4.0298507462686564,0.15422885572139303,5.08955223880597,3.427860696517413,0,1.6616915422885572,0,10.064195957020578]
[null,null,null,1003.45496009122,157.49524895477003,246.20676548840743,239.20942607373621,288.66590649942987,71.877613074876464,0,32.253895857088558,14.618015963511972,12.75560623337134,4.8156594450779169,4.8156594450779169,6.4614215127328012E-2,77.423033067274787,33.318129988597491,16.959331052831622,21.984036488027364,4.8156594450779169,0.34587609274040287,2.4819460281261874,0.79437476244773841,2.2805017103762825E-2,1.6647662485746864,0,11.038505637301739]
[null,null,null,1922.7522082752209,358.55416085541611,335.90423059042308,526.18781961878199,365.43003254300328,91.492329149232916,245.18363551836356,88.270571827057182,59.786145978614599,22.361692236169223,6.1227336122733611,6.1227336122733611,0,75.439330543933053,24.686192468619247,18.238028823802882,25.894932589493258,5.7601115760111581,0.86006508600650866,2.8358902835890283,1.199442119944212,4.6490004649000468E-3,1.6317991631799165,0,18.178417006966132]
[null,null,null,1774.4914215686276,84.356617647058826,405.53921568627453,455.61887254901961,354.31372549019608,66.550245098039227,408.11274509803923,65.870098039215691,23.088235294117649,39.185049019607845,3.5968137254901964,3.5968137254901964,0,68.694852941176478,26.825980392156865,8.5049019607843146,26.02328431372549,3.903186274509804,3.4375000000000004,1.5257352941176472,0.79656862745098045,0.34313725490196079,0.3860294117647059,0,20.18313606752913]
[null,null,null,1574.1033234616652,90.661401776900306,399.79598552155318,485.33399144455416,468.95689371503789,129.35505100361962,0,82.938466600855548,62.731161566304714,17.064823955248439,3.1424810793024025,3.1424810793024025,0,143.54063836788418,43.843369529450477,16.44290885159592,69.799276077657126,12.734452122408689,0.72063178677196449,2.3724909509707142,1.2240868706811452,0.15136558078315238,0.99703849950641665,0,10.78830115130088]
[null,null,null,958.93196781272866,8.7637161667885888,438.95391367959036,317.05925384052671,143.13094367227507,51.024140453547922,0,31.631309436722752,0,27.271397220190199,4.3599122165325532,4.3599122165325532,0,32.809070958302854,25.018288222384786,1.3313825896122897,5.7278712509144114,0.59985369422092183,0.13167520117044623,1.9824433065106073,1.9824433065106073,0,0,0,28.326720135078091]
[null,null,null,1365.5662772981209,65.926866429659725,265.7592686642966,349.45149822244792,425.11427120365664,116.08430675469781,143.2300660233621,127.79583544946674,95.368207211782632,18.974098527171151,10.289487049263585,10.289487049263585,0,213.12849162011173,68.085322498730321,44.007110208227523,83.428136109700347,11.747079735906551,5.8608430675469778,12.219400711020823,2.5139664804469275,1.2544438801422042,8.4509903504316917,0,5.8509382881736354]
[null,null,null,924.59090909090912,54.363636363636367,508.39090909090908,9.6090909090909093,283.30909090909091,57.672727272727272,11.245454545454546,25.663636363636364,0.50454545454545452,19.59090909090909,0.24545454545454545,0.24545454545454545,0.22727272727272727,76.936363636363637,44.018181818181816,2.0499999999999998,24.768181818181819,6.1,0,2.1272727272727274,1.6454545454545455,0.25909090909090909,0,0.22272727272727272,11.189030700241462]
[null,null,null,761.91915375897247,5.5610124669437102,207.65017000377787,147.3101624480544,148.54174537211938,55.568568190404235,197.28749527767283,74.155647903286749,45.413675859463545,21.745372119380431,2.8673970532678505,2.8673970532678505,0,88.046845485455236,30.468454854552323,8.5870797128825096,37.136380808462413,11.579146203248962,0.2757839063090291,1.5224782772950511,1.2618058179070646,3.7778617302606727E-3,0.25689459765772577,0,7.0915129463530215]
[null,null,null,1414.5843828715365,144.18136020151132,356.7254408060453,232.29219143576825,406.67506297229215,138.11083123425692,136.59949622166246,107.48110831234256,45.69269521410579,34.987405541561714,14.68513853904282,14.68513853904282,0.98236775818639788,151.73803526448361,74.811083123425689,22.216624685138537,45.793450881612088,8.6397984886649866,0.27707808564231734,12.569269521410579,4.0806045340050376,1.3350125944584381,7.1536523929471025,0,7.5674140049140037]
[null,null,null,922.22484276729563,43.781446540880502,275.65251572327043,154.31996855345912,353.43946540880501,65.137578616352201,29.893867924528301,40.562106918238996,0.65644654088050314,37.236635220125784,2.6690251572327042,2.6690251572327042,0,76.50157232704403,26.132075471698112,9.5636792452830193,29.752358490566039,7.067610062893082,3.9858490566037736,2.6965408805031448,2.6926100628930816,0,3.9308176100628931E-3,0,11.821365109229644]
[null,null,null,1099.8320097739768,11.026267562614539,412.4740378741601,239.74954184483815,344.59071472205255,91.991447770311552,0,35.232131948686622,0,30.607819181429445,3.1001832620647529,3.1001832620647529,1.5241295051924253,156.11484422724496,58.066585216860112,21.533292608430056,67.193036041539401,9.2425167990226029,7.9413561392791696E-2,2.9260843005497863,2.7183872938301774,2.4434941967012829E-2,0.15882712278558339,2.4434941967012829E-2,7.0711321189762515]
[null,null,null,663.47857661583157,112.55628177196806,236.58678286129268,162.85039941902687,90.860566448801748,29.015976761074803,31.608569353667395,44.342774146695717,16.721132897603486,20.37763253449528,2.6870007262164126,2.6870007262164126,4.5570079883805379,44.538852578068266,24.375453885257809,8.2752360203340594,9.4299201161946264,2.1169208424110386,0.34132171387073351,3.6383442265795209,2.2766884531590414,0,1.3616557734204795,0,11.783133444663731]
[null,null,null,1198.283261802575,363.65665236051501,277.14849785407728,217.53133047210301,235.70128755364806,92.829184549356228,11.416309012875537,70.115021459227464,44.753648068669527,13.902145922746781,4.7828326180257514,4.7828326180257514,5.4935622317596566,95.759656652360519,37.775107296137342,16.436051502145922,28.836051502145924,9.6034334763948497,3.1090128755364805,2.1665236051502146,0.33991416309012873,0.12532188841201716,1.7012875536480687,0,9.4215567344426141]
[null,null,null,1085.5635341866998,51.757727130814857,331.75148298470185,288.59506712457073,221.83265688417109,70.999063378083051,120.6275366843584,57.243209491102093,22.891039650327816,15.338744926631282,5.6852950359038399,5.6852950359038399,0,60.371526693724633,29.169528566968467,13.047143303153293,15.029659694036839,2.9160162347798937,0.20917889478613799,2.4071183265688418,1.2769278801123947,0.48392132375897595,0.64626912269747105,0,15.509505513696922]
[null,null,null,1012.0858484238767,0.77800134138162313,227.97451374916164,188.67873910127432,455.15090543259561,123.68209255533199,15.821596244131456,23.822937625754527,0,20.731052984574113,2.4279007377598929,2.4279007377598929,0,124.69483568075118,32.971160295103957,16.250838363514422,61.770623742454731,13.70221327967807,0,2.9242119382964455,2.6827632461435278,0.2414486921529175,0,0,7.9871242379651033]
[null,null,null,1477.7291763610981,95.09539320614239,373.73196835737554,227.16147045137274,265.28617961842718,79.730107026523967,436.72405770125641,75.99348534201954,25.956258724988366,41.344811540251278,8.6924150767798967,8.6924150767798967,0,68.045602605863195,27.110283852954861,13.997208003722662,24.164727780362959,2.3592368543508608,0.41414611447184735,1.3308515588645882,1.0516519311307584,0.27919962773382967,0,0,14.818286099865045]
[null,null,null,1050.121558813014,34.492313192706476,289.40114408294602,338.64497676081515,215.09474436896676,40.341437254200933,132.14694315337863,57.912048623525209,23.830890239542367,25.895602431176261,4.1544511977118344,4.1544511977118344,7.1505184125849122E-2,122.59563818376833,49.360028602073655,26.784054343939935,39.989274222381127,5.9778333929209868,0.48444762245262785,7.7225598855917061,2.0790132284590634,0.61494458348230252,4.5495173400071511,0.47908473364318915,7.2507675997191212]
[null,null,null,630.8634111818825,5.0813871196036793,216.20665251238498,141.49681528662418,199.56121726822363,40.332625619249818,28.184713375796175,72.147912243453632,42.604387827317758,20.141542816702049,9.3276716206652512,9.3276716206652512,0,94.854918612880383,38.372257607926393,13.443029016277423,38.347487615003537,4.6709129511677281,2.1231422505307854E-2,6.2384996461429578,1.8506723283793347,0.79617834394904452,3.5916489738145785,0,6.6264047894128772]
[null,null,null,1652.548236859614,56.487025948103785,805.28276779773785,260.92481703260142,382.91417165668662,111.11776447105788,35.821689953426478,31.503659347970721,1.2707917498336658,26.55355954757152,3.6793080505655351,3.6793080505655351,0,149.86693280106454,57.63805721889554,29.341317365269457,46.793080505655354,16.094477711244178,0,2.9940119760479038,2.9940119760479038,0,0,0,10.413014145810662]
[null,null,null,1061.4082278481012,175.75949367088606,285.0632911392405,269.01898734177212,212.29825949367088,46.052215189873415,73.215981012658219,55.992879746835442,25.719936708860757,22.583069620253163,5.5419303797468356,5.5419303797468356,0,80.557753164556956,29.7626582278481,9.7151898734177209,37.844145569620252,2.9153481012658227,0.32041139240506328,2.2468354430379747,1.0680379746835442,0,1.1787974683544302,0,10.528390562056398]
[null,null,null,1130.986301369863,65.101369863013701,274.56438356164381,480,204.62465753424658,98.783561643835611,7.912328767123288,58.61917808219178,31.589041095890412,24.389041095890413,2.6410958904109587,2.6410958904109587,0,49.715068493150682,26.317808219178083,1.6493150684931508,18.56986301369863,2.9808219178082194,0.19726027397260273,6.9917808219178079,3.6547945205479451,2.882191780821918,0.45479452054794522,0,19.759332880830023]
[null,null,null,896.41033722029624,1.6987078474629687,277.42830129215253,252.49921210211156,259.14591868893791,71.153482508666869,34.484714780964389,118.20044122281752,90.233217774976353,25.631894106523795,2.3353293413173652,2.3353293413173652,0,133.03183107469272,42.180901355184368,40.781594705326185,46.435549952726127,3.4163252442483452,0.21745981720768987,9.8959974787267573,0.89820359281437123,2.5212732429877087E-2,8.9725811534825084,0,6.8560355107989928]
[null,null,null,1151.2666666666667,24.516666666666666,346.72222222222223,161.28333333333333,437.80555555555554,180.9388888888889,0,58.983333333333334,36.538888888888891,21.411111111111111,1.0333333333333334,1.0333333333333334,0,123.70555555555555,39.06666666666667,12.777777777777779,59.144444444444446,12.066666666666666,0.65,3.8,2.338888888888889,0,1.461111111111111,0,9.3471139528772884]
[null,null,null,890.06855575868371,22.917047531992687,273.97623400365632,168.1272851919561,274.64008226691038,61.928702010968919,88.479204753199269,34.418418647166362,7.6348263254113338,18.947669104204753,6.5127970749542961,6.5127970749542961,5.712979890310786E-3,88.265539305301644,32.826782449725776,9.2321755027422299,37.826782449725776,8.2986745886654472,8.1124314442413165E-2,0.14853747714808044,7.883912248628884E-2,6.9698354661791584E-2,0,0,9.2048403161339571]
[null,null,null,778.62577107607945,9.664153529814941,260.91501028101436,201.10349554489375,192.53598355037695,58.766278272789577,55.640849897189852,47.155586017820426,20.366689513365319,25.359835503769705,1.429061000685401,1.429061000685401,0,118.62234407128169,64.420836189170657,14.061000685400959,34.938313913639476,4.8594928032899247,0.3427004797806717,7.4366004112405752,2.6182316655243318,0.30500342700479782,4.513365318711446,0,6.0491494929669605]
[null,null,null,857.27130570758402,48.397185301016414,298.72556684910086,271.18060985144643,188.40500390930413,42.404222048475368,8.1587177482408126,"na",50.629397967161843,23.221266614542611,2.1071149335418293,2.1071149335418293,0,71.583268178264262,31.950742767787332,13.244722439405786,23.975762314308053,1.5089913995308835,0.90304925723221263,5.211102423768569,2.1266614542611415,6.6458170445660672E-2,3.0179827990617669,0,"na"]
[null,null,null,969.93145267598209,27.384655945162141,326.65436330081729,197.88030582652254,265.75929343527548,71.51463221724228,80.738201950962292,63.245452148694966,46.46585815976799,14.649354073292908,2.0445557606116531,2.0445557606116531,8.5684155022409697E-2,98.11494858950698,41.167940943843924,13.59477985763248,36.091484313208539,6.5884524123385182,0.67229106248352222,5.3229633535460055,1.0638017400474558,0.23200632744529395,4.0271552860532562,0,9.0015906000667041]
[null,null,null,954.52138835196229,39.245314732330442,264.92562400201695,269.79073871753928,184.02050592486762,43.849903353222956,152.68930162198504,53.806202201865702,29.10244558366249,14.181864022186737,5.2340532817883849,5.2340532817883849,0.26304731490041178,100.18068745272711,47.056055130683248,18.35280275653416,30.410118497352716,4.3423817127489706,1.932935540801748E-2,4.7390537019917636,0.98915875283637278,0.34708799058744427,3.4028069585679468,0,7.7825526153451747]
[null,null,null,842.49388753056235,19.158924205378973,243.18826405867969,236.83129584352079,218.79706601466992,83.12958435207824,41.388753056234719,15.946210268948656,0.73838630806845962,13.89242053789731,1.315403422982885,1.315403422982885,0,76.948655256723711,27.295843520782395,16.52322738386308,27.877750611246945,5.0220048899755501,0.22982885085574573,0.92420537897310517,0.92420537897310517,0,0,0,10.276420204055928]
[null,null,null,766.87837837837833,77.373873873873876,196.8153153153153,190.28378378378378,180.82882882882882,45.995495495495497,75.581081081081081,33.846846846846844,18.617117117117118,7.2702702702702702,4.7837837837837842,4.7837837837837842,1.8918918918918919,72.837837837837839,35.900900900900901,13.63963963963964,20.617117117117118,2.4594594594594597,0.22072072072072071,3.9684684684684686,0.88288288288288286,0.27027027027027029,2.8153153153153152,0,8.458122573814844]
[null,null,null,877.65097690941388,99.578152753108355,305.2930728241563,160.07104795737123,181.26554174067496,43.086145648312616,88.357015985790412,37.895204262877442,4.5115452930728246,31.642984014209592,1.3365896980461813,1.3365896980461813,0.36412078152753108,82.726465364120784,45.257548845470694,10.266429840142097,23.183836589698046,3.7522202486678511,0.26642984014209592,0.8792184724689166,0.8792184724689166,0,0,0,8.730711849957375]
[null,null,null,845.47806524184466,7.9583802024746904,253.59392575928007,179.59505061867264,321.15298087739029,83.177727784026985,0,37.103487064116983,1.1192350956130483,27.497187851518557,8.4870641169853762,8.4870641169853762,0,93.976377952755897,29.263217097862764,6.9853768278965127,49.910011248593925,7.6771653543307083,0.14060742407199101,1.1698537682789651,1.1023622047244095,6.749156355455567E-2,0,0,9.2060146815060389]
[null,null,null,879.64057971014495,57.565217391304351,267.94782608695652,194.70144927536231,291.15362318840579,66.330434782608691,1.9420289855072463,"na",42.979710144927537,23.67536231884058,1.8434782608695652,1.8434782608695652,0,82.353623188405791,31.333333333333332,11.762318840579709,32.695652173913047,3.3739130434782609,3.1884057971014492,3.2173913043478262,1.4318840579710146,0.1681159420289855,1.6173913043478261,0,"na"]
[null,null,null,1053.7776141384388,62.989690721649481,351.89248895434457,430.081001472754,163.7702503681885,45.044182621502202,0,67.982326951399116,45.751104565537553,18.24742268041237,3.9837997054491896,3.9837997054491896,0,39.521354933726066,21.907216494845358,8.0633284241531662,7.6730486008836518,1.840942562592047,3.6818851251840937E-2,7.4889543446244469,1.2223858615611192,0.5228276877761413,5.7437407952871862,0,22.539739771124005]
[null,null,null,1053.4309096632044,36.333018570978915,306.52187598363236,280.21718602455149,354.10450110166823,76.254327982373312,0,87.510229776518727,66.789423984891414,19.571923197985523,1.1488825936418006,1.1488825936418006,0,147.02864337425245,64.384639597104183,13.679571923197987,66.518728360088133,2.379603399433428,6.6100094428706332E-2,6.2763613471828767,1.8445073969153289,0.13220018885741266,4.2996537614101351,0,7.2084052255361115]
[null,null,null,1162.0389170896785,6.5989847715736039,413.85363790186125,282.09813874788495,297.63113367174282,102.69458544839256,59.162436548223347,41.823181049069376,2.6269035532994924,33.760575296108293,4.9238578680203045,4.9238578680203045,0,72.296954314720807,31.620135363790187,12.533840947546532,25.723350253807105,2.3392554991539765,8.037225042301184E-2,2.1192893401015227,1.8147208121827412,0.17766497461928935,0.12690355329949238,0,15.310248676947591]
[null,null,null,857.08348391760035,21.449222985182509,210.37224430791471,203.61402240693894,335.71376942537046,85.934224792193717,0,48.460426454644022,19.045898084568126,24.275388507408746,5.1391398626671485,5.1391398626671485,0,98.48211058908565,32.367184676544994,13.686302855077702,48.362847849656667,3.8995301770870983,0.16624503071919047,1.3805565594506686,1.2829779544633177,9.7578604987350923E-2,0,0,8.8678677590081918]
[null,null,null,1634.9341500765697,69.702909647779478,332.71975497702908,326.45329249617151,423.29555895865235,184.23889739663093,298.52373660030628,73.081163859111797,38.924961715160798,14.952526799387442,6.0275650842266462,6.0275650842266462,0,119.06891271056662,43.34456355283308,28.866768759571208,42.067381316998471,4.6707503828483921,0.11944869831546708,2.903522205206738,0.6891271056661562,0.27565084226646247,1.9387442572741194,0,10.995123790373254]
[null,null,null,1157.7899761336516,177.44152744630071,306.3341288782816,239.06921241050119,308.04295942720762,67.766109785202858,59.136038186157521,24.019093078758949,8.1288782816229119,12.859188544152744,2.7159904534606207,2.7159904534606207,0,101.18854415274463,40.410501193317423,23.570405727923628,30.620525059665869,6.1813842482100236,0.40572792362768495,1.6372315035799523,1.4988066825775657,0.13842482100238662,0,0,9.2289695670410588]
[null,null,null,903.7057793345009,95.949211908931701,293.47285464098076,265.5604203152364,198.45359019264447,47.145359019264447,3.1243432574430825,128.95971978984238,102.58143607705779,25.441330998248688,0.54115586690017514,0.54115586690017514,1.0507880910683012E-2,112.22416812609457,51.889667250437832,19.099824868651488,33.499124343257442,3.2802101576182134,4.4553415061295976,3.5253940455341506,2.5936952714535901,7.0052539404553416E-3,0.91768826619964972,7.0052539404553416E-3,8.3885033596122671]
[null,null,null,730.64353312302842,33.337539432176655,221.84858044164037,159.86750788643533,243.93690851735016,71.652996845425861,0,51.287066246056781,21.552050473186121,21.230283911671926,8.4037854889589898,8.4037854889589898,0.10094637223974763,74.85804416403785,23.880126182965299,20.063091482649842,26.662460567823345,3.7665615141955837,0.48580441640378547,5.205047318611987,0.93375394321766558,0.30914826498422715,3.9621451104100944,0,9.4071196384682469]
[null,null,null,894.85388287344279,93.003842123646521,251.62999185004077,208.87646990336478,220.41681220165327,43.596460589125627,77.330306205611834,59.00686925136803,20.18279194318314,28.337408312958434,7.0590289905693329,7.0590289905693329,0,110.12923506811038,44.934218186051929,24.336942601001283,36.065898241937361,4.2507858889276982,0.54139015019210623,5.405751542670858,2.6627081150308536,0.81848876469903364,1.9245546629409711,0,6.8136542199902799]
[null,null,null,1738.617312965139,265.91461026243633,202.90246768507637,576.37681159420288,248.92283587935762,91.472777124951037,353.02781041911476,96.972189580885228,80.289855072463766,8.0963572267920085,1.5707011359185272,1.5707011359185272,0.26243634939287114,160.65413239326281,47.422640031335682,51.723462593027811,54.735605170387778,6.7685076380728555,3.9169604386995686E-3,"na",1.9036427732079906,0.81472777124951035,12.35017626321974,0,"na"]
[null,null,null,984.12166231680385,150.73479221039952,246.70748845613329,189.76510740815095,173.67396105199759,43.675968680987751,179.56434450913471,133.61573981128288,40.341296928327644,17.295723750250954,5.5531017867898012,5.5531017867898012,0.52198353744228065,45.488857659104596,22.597871913270428,5.8843605701666331,14.591447500501907,2.2886970487853842,0.12648062638024493,6.5007026701465564,0.65047179281268819,0.16462557719333468,5.6856053001405336,0,15.183021716409243]
[null,null,null,1280.7620941020543,49.668654738237244,376.18952948972827,296.59377070907885,352.78330019880713,107.48840291583829,98.038436050364481,63.10801855533466,30.278330019880716,27.455268389662027,5.3081510934393634,5.3081510934393634,6.6269052352551358E-2,187.26971504307488,82.889330682571241,34.877402253147778,57.733598409542743,11.391650099403579,0.37773359840954274,4.6322067594433394,1.7097415506958249,0.37773359840954274,2.5447316103379722,0,6.2454932355281825]
[null,null,null,1413.3013613861388,209.39047029702971,362.61448019801981,306.68626237623761,261.50371287128712,62.818688118811885,210.28774752475249,68.861386138613867,43.700495049504951,23.344678217821784,1.8162128712871288,1.8162128712871288,0,60.219678217821787,28.982054455445546,4.0501237623762378,24.730816831683168,2.456683168316832,0,2.5340346534653468,1.1076732673267327,0,1.426361386138614,0,16.931022581599446]
[null,null,null,1148.0534351145038,18.31679389312977,363.62977099236639,258.71755725190837,297.11832061068702,210.2709923664122,0,43.664122137404583,21.965648854961831,15.706106870229007,5.9923664122137401,5.9923664122137401,0,40.465648854961835,21.759541984732824,7.3969465648854964,8.8740458015267176,1.8702290076335877,0.56488549618320616,1.2633587786259541,0.75190839694656486,0,0.51145038167938928,0,28.505424200278163]
[null,null,null,1166.5495693295052,90.432359398750208,298.03411585880764,436.78263806789391,241.21263300118221,73.648032426954899,26.439790575916231,42.832291842594152,23.830434048302649,14.664752575578449,3.5314980577605133,3.5314980577605133,0,76.541124809998308,37.279175814896128,11.845971964195236,22.465799695997298,1.5673028204695152,3.3828745144401284,2.5738895456848505,0.36480324269549064,7.9378483364296565E-2,2.1297078196250632,0,14.425971766909752]
[null,null,null,981.467365412101,94.888041924726053,259.30919485469269,229.45688423058598,170.37160552644116,38.099094807050975,189.3425440686041,25.688423058599334,0.41924726060028583,18.16579323487375,3.9876131491186277,3.9876131491186277,0,83.897093854216294,36.998570747975222,20.657455931395901,20.30490709861839,3.0252501191043355,2.9109099571224393,1.4387803716055263,1.0862315388280133,0.35254883277751309,0,0,8.7707068955551701]
[]
[]
[]
[]
[]
[]
[]
[null,null,null,"(P.02)[01]Percentage supplied within 7 days","(P.02)[02]Percentage supplied within 15 days","(P.02)[03]Percentage supplied within 30 days"]
[null,null,null,"SectionE","SectionE","SectionE"]
[null,null,null,"0%","0%","0%"]
[null,null,null,0.32369999999999999,0.61909999999999998,0.81330000000000002]
[null,null,null,0.56000000000000005,0.78,0.88]
[null,null,null,0.71,0.78,0.87]
[null,null,null,0.54,0.74,0.88]
[null,null,null,0.62,0.77,0.91]
[null,null,null,0.15,0.54,0.74]
[null,null,null,0.7,0.79,0.88]
[null,null,null,0.65500000000000003,0.84,0.94]
[null,null,null,"na","na","na"]
[null,null,null,0.53139999999999998,0.69349999999999989,0.9274]
[null,null,null,0.7419,0.84109999999999996,0.9264]
[null,null,null,0.4,0.68,0.86]
[null,null,null,0.6,0.73,0.81]
[null,null,null,0.68,0.74,0.81]
[null,null,null,0.52,0.63,0.73]
[null,null,null,0.74,0.83,0.92]
[null,null,null,0.43,0.78,0.87]
[null,null,null,0.73,0.82,0.91]
[null,null,null,0.74,0.81,0.89]
[null,null,null,0.71,0.82,0.9]
[null,null,null,0.68,0.8,0.89]
[null,null,null,0.53,0.63,0.7]
[null,null,null,0.56000000000000005,0.78,0.89]
[null,null,null,0.48100000000000004,0.70599999999999996,0.84799999999999998]
[null,null,null,0.56000000000000005,0.68,0.83]
[null,null,null,0.66400000000000003,0.81,0.88700000000000001]
[null,null,null,0.53,0.78,0.88]
[null,null,null,0.43,0.57999999999999996,0.8]
[null,null,null,"na","na","na"]
[null,null,null,0.79330000000000001,0.94129999999999991,0.99730000000000008]
[null,null,null,0.35,0.6,0.81]
[null,null,null,0.27050000000000002,0.54289999999999994,0.69779999999999998]
[null,null,null,0.70799999999999996,0.78099999999999992,0.8590000000000001]
[null,null,null,0.43209999999999998,0.63029999999999997,0.82930000000000004]
[null,null,null,0.49,0.76,0.85]
[null,null,null,0.51,0.67,0.88]
[null,null,null,0.42,0.72,0.83]
[null,null,null,0.61,0.7,0.78]
[null,null,null,0.52,0.69,0.75]
[null,null,null,0.28999999999999998,0.3,0.35]
[null,null,null,0.73,0.84,0.91]
[null,null,null,0.66,0.72,0.78]
[null,null,null,0.65,0.73,0.8]
[null,null,null,0.34,0.55000000000000004,0.76]
[null,null,null,0.59089999999999998,0.8337,0.93989999999999996]
[null,null,null,0.72,0.86,0.89]
[null,null,null,0.47,0.64,0.76]
[null,null,null,0.71,0.77,0.91]
[null,null,null,0.67,0.76,0.87]
[null,null,null,0.67,0.75,0.82]
[null,null,null,0.74,0.84,0.92]
[null,null,null,0.7,0.77,0.84]
[null,null,null,0.62,0.83,0.93]
[null,null,null,0.41,0.73,0.85]
[null,null,null,0.76,0.86,0.93]
[null,null,null,0.496,0.74900000000000011,0.85099999999999998]
[null,null,null,0.39,0.62,0.77]
[null,null,null,0.71,0.82,0.89]
[null,null,null,0.43,0.64,0.81]
[null,null,null,0.629,0.75700000000000001,0.88099999999999989]
[null,null,null,0.59,0.69,0.82]
[null,null,null,0.5,0.71900000000000008,0.83230000000000004]
[null,null,null,0.32,0.63,0.79]
[null,null,null,0.44819999999999999,0.57700000000000007,0.64439999999999997]
[null,null,null,0.65900000000000003,0.73,0.78599999999999992]
[null,null,null,0.67900000000000005,0.77300000000000002,0.87400000000000011]
[null,null,null,0.56999999999999995,0.73,0.87]
[null,null,null,0.4,0.7,0.79]
[null,null,null,0.42,0.62,0.73]
[null,null,null,0.57999999999999996,0.77,0.88]
[null,null,null,0.81810000000000005,0.89269999999999994,0.94230000000000003]
[null,null,null,0.55000000000000004,0.78,0.86]
[null,null,null,0.56999999999999995,0.76,0.85]
[null,null,null,0.64,0.78,0.87]
[null,null,null,0.67,0.81,0.89]
[null,null,null,0.73,0.83,0.9]
[null,null,null,0.6876000000000001,0.81169999999999998,0.90359999999999996]
[null,null,null,0.48,0.56000000000000005,0.76]
[null,null,null,0.6,0.76,0.88]
[null,null,null,0.47,0.72,0.85]
[null,null,null,0.81,0.86,0.92]
[null,null,null,0.78,0.86,0.94]
[null,null,null,0.48,0.7,0.8]
[null,null,null,0.74,0.86,0.92]
[null,null,null,0.41399999999999998,0.752,0.86299999999999999]
[null,null,null,0.65,0.8,0.94]
[null,null,null,0.56000000000000005,0.72,0.85]
[null,null,null,0.47,0.55000000000000004,0.66]
[null,null,null,0.52,0.72,0.82]
[null,null,null,0.66,0.78,0.87]
[null,null,null,0.52,0.61,0.68]
[null,null,null,0.49,0.63,0.75]
[null,null,null,0.48,0.75,0.88]
[null,null,null,0.33,0.66,0.81]
[null,null,null,0.43,0.51500000000000001,0.59360000000000002]
[null,null,null,0.70319999999999994,0.77310000000000001,0.85]
[null,null,null,0.62409999999999999,0.7720999999999999,0.85159999999999991]
[null,null,null,0.52,0.61,0.7]
[null,null,null,0.54,0.72,0.86]
[null,null,null,0.76467160325131378,0.82028353545197885,0.88445578675561887]
[null,null,null,0.72499999999999998,0.7984,0.88459999999999994]
[null,null,null,0.71,0.82,0.91]
[null,null,null,0.73,0.87,0.94]
[null,null,null,0.85,0.9,0.95]
[null,null,null,0.44,0.62,0.8]
[null,null,null,0.61,0.78,0.88]
[null,null,null,0.72,0.79,0.87]
[null,null,null,0.53,0.72,0.83]
[null,null,null,0.53,0.79,0.86]
[null,null,null,0.53,0.73,0.87]
[null,null,null,0.33200000000000002,0.58609999999999995,0.79059999999999997]
[null,null,null,0.51,0.65,0.78]
[null,null,null,0.36,0.6,0.84]
[null,null,null,0.6,0.79,0.9]
[null,null,null,0.52,0.63,0.73]
[null,null,null,0.65,0.8,0.89]
[null,null,null,0.68420000000000003,0.77400000000000002,0.87260000000000004]
[null,null,null,0.75,0.81,0.88]
[null,null,null,0.72,0.84,0.91]
[null,null,null,0.71050000000000002,0.85709999999999997,0.93169999999999997]
[null,null,null,0.72,0.8,0.86]
[null,null,null,0.43,0.69,0.82]
[null,null,null,0.65,0.78,0.87]
[null,null,null,0.71467331619271557,0.84534683910644826,0.92466310934249796]
[null,null,null,0.46,0.64,0.77]
[]
[]
[]
[]
[]
[]
[]
[null,null,null,"(P.01)[01]Percentage of Pupils who achieved a Standard 9-4 pass in English & Maths","(P.01)[02]Indices of Deprivation","(P.02)[01]Population","(P.02)[02]Area (hectares)","(P.02)[03]Population Density"]
[null,null,null,"Appendix2","Appendix2","Appendix2","Appendix2","Appendix2"]
[null,null,null,"0%","#,##0","#,##0","#,##0","#,##0"]
[null,null,null,0.6,34.199930000000002,212000,3610.77,58.7132384505244]
[null,null,null,0.76200000000000001,16.635739999999998,392100,8674.83,45.199733020704727]
[null,null,null,0.68900000000000006,17.77506,171600,47640.82,3.6019531149967614]
[null,null,null,0.69299999999999995,16.71096,247300,6057.64,40.824479500267429]
[null,null,null,0.64200000000000002,35.227589999999999,148900,13702.22,10.866852232703899]
[null,null,null,0.47299999999999998,40.388739999999999,139300,3485.15,39.969585240233563]
[null,null,null,0.61299999999999999,30.457699999999999,285400,13979.23,20.416002884279035]
[null,null,null,0.70599999999999996,23.380759999999999,345800,11094.58,31.16837230431436]
[null,null,null,"na","na",395800,16132.16,24.534842203399919]
[null,null,null,0.69700000000000006,30.501239999999999,330800,4323.25,76.516509570346386]
[null,null,null,0.68299999999999994,25.996320000000001,290400,8278.5300000000007,35.078691506825486]
[null,null,null,0.61799999999999999,25.166370000000001,463400,10969.8,42.24324964903645]
[null,null,null,0.70099999999999996,14.95096,331100,15013.47,22.053529264054212]
[null,null,null,0.7,12.93244,540100,156494.91,3.451230458549738]
[null,null,null,0.62,22.230789999999999,190100,9946.01,19.113192124278982]
[null,null,null,0.68400000000000005,23.17915,210100,36396.080000000002,5.7725996865596514]
[null,null,null,0.93299999999999994,10.196109999999999,651500,305251.42,2.1343062056844815]
[null,null,null,0.66200000000000003,25.430129999999998,262200,2178.9499999999998,120.33318800339615]
[null,null,null,0.64400000000000002,10.73218,283600,71566.539999999994,3.9627457188792419]
[null,null,null,0.69700000000000006,13.28698,380800,116635.77,3.2648646294357211]
[null,null,null,0.64400000000000002,16.88616,340500,91670.05,3.7144083591096546]
[null,null,null,0.60199999999999998,28.439450000000001,366800,9863.9,37.186102859923558]
[null,null,null,0.63400000000000001,22.75526,385300,8649.43,44.546288021291574]
[null,null,null,0.77,12.491020000000001,498900,682219.22,0.73128986310294808]
[null,null,null,0.65500000000000003,25.411390000000001,106600,19747.580000000002,5.3981297961573009]
[null,null,null,0.59200000000000008,24.583480000000002,257200,7803.11,32.961216745630907]
[null,null,null,0.65300000000000002,18.469010000000001,795300,656716.28,1.2110252543153033]
[null,null,null,0.64200000000000002,17.010020000000001,426500,254173.02999999997,1.677990776598131]
[null,null,null,"na","na",376500,249135.45,1.511226122175708]
[null,null,null,0.60199999999999998,23.216760000000001,320600,9795.84,32.7281784920946]
[null,null,null,0.61499999999999999,26.41338,527000,223154.22,2.361595492121995]
[null,null,null,0.69400000000000006,25.008880000000001,342000,5554.47,61.572031174891571]
[null,null,null,0.64200000000000002,14.621650000000001,554600,171269.16,3.2381778482477523]
[null,null,null,0.61399999999999999,26.058140000000002,333900,8220.02,40.620339123262468]
[null,null,null,0.66400000000000003,20.227360000000001,1477800,347198.10000000003,4.2563596978209262]
[null,null,null,0.64599999999999991,29.475549999999998,202500,14235.93,14.224571208203468]
[null,null,null,0.62,15.29814,633600,265303.11,2.3882117326102965]
[null,null,null,0.58499999999999996,31.9373,286200,4733.3999999999996,60.463937127646091]
[null,null,null,0.67599999999999993,42.886299999999999,279700,1904.92,146.83031308401402]
[null,null,null,0.58099999999999996,32.537970000000001,128400,7908.39,16.235921597189819]
[null,null,null,0.70700000000000007,27.476569999999999,185400,1639.76,113.06532663316582]
[null,null,null,0.63500000000000001,14.560600000000001,1376300,367889.97,3.7410642100408449]
[null,null,null,0.621,36.096159999999998,270600,2959.83,91.424169631363966]
[null,null,null,0.68900000000000006,15.49492,250100,5046.34,49.560671694733209]
[null,null,null,0.67799999999999994,16.62894,257800,11234.97,22.946211694379247]
[null,null,null,0.64500000000000002,17.912559999999999,192100,217970.94,0.88131014161796062]
[null,null,null,0.69099999999999995,11.343769999999999,1184400,164306.49,7.2084797137349845]
[null,null,null,0.68900000000000006,21.840109999999999,270800,5597.8,48.376147772339131]
[null,null,null,0.54500000000000004,20.729230000000001,141500,37961.47,3.7274636624977906]
[null,null,null,0.6409999999999999,35.874229999999997,239100,1485.65,160.93965604280953]
[null,null,null,0.73699999999999999,23.30939,156200,1212.3800000000001,128.83749319520282]
[null,null,null,0.66700000000000004,11.45152,1568600,354605.54,4.4235067506277543]
[null,null,null,0.79299999999999993,11.664960000000001,175500,3726.12,47.099932369327881]
[null,null,null,0.73299999999999998,17.68863,1210100,290453.95,4.1662370231150234]
[null,null,null,0.56100000000000005,33.646540000000002,355200,7334.21,48.430573981383134]
[null,null,null,0.63800000000000001,22.47514,698300,208378.74999999994,3.3511094581381267]
[null,null,null,0.60899999999999999,30.969180000000001,303500,3514.88,86.347186817188629]
[null,null,null,0.66099999999999992,11.686590000000001,755800,593727.80999999994,1.2729738901736809]
[null,null,null,0.56600000000000006,25.779219999999999,214100,4335.25,49.385848566979988]
[null,null,null,0.55500000000000005,41.13456,547600,11564.83,47.350458242793017]
[null,null,null,0.63800000000000001,20.535979999999999,277900,19354.060000000001,14.358744366815024]
[null,null,null,0.68299999999999994,14.5557,206200,3762.48,54.804278029384875]
[null,null,null,0.60799999999999998,29.738409999999998,300200,11345.62,26.459550028997974]
[null,null,null,0.65599999999999992,41.837960000000002,352000,3620.17,97.233002870030958]
[null,null,null,0.67099999999999993,18.905719999999999,903700,538160.55999999994,1.6792386272230728]
[null,null,null,0.60799999999999998,29.29928,159800,19186.39,8.3288205858423598]
[null,null,null,0.64500000000000002,21.74541,172000,84629.66,2.0323843910042885]
[null,null,null,0.66200000000000003,15.183719999999999,213900,37463.97,5.7094856738354212]
[null,null,null,0.64599999999999991,22.239899999999999,206000,8231.7199999999993,25.025146627922233]
[null,null,null,0.63500000000000001,18.650110000000002,614500,804026.18999999983,0.7642785864972883]
[null,null,null,0.624,13.96796,747600,236698.99,3.1584418674536803]
[null,null,null,0.54400000000000004,34.417079999999999,331100,7461.34,44.375407098456847]
[null,null,null,0.68400000000000005,17.397089999999999,823100,208471.13,3.9482685204421348]
[null,null,null,0.57100000000000006,30.406140000000001,235600,14234.5,16.551336541501282]
[null,null,null,0.624,19.524940000000001,687500,260594.75,2.6381958961183982]
[null,null,null,0.55500000000000005,25.630739999999999,201000,34337.82,5.8536039853432742]
[null,null,null,0.58799999999999997,25.630330000000001,263100,7983.02,32.957452192278112]
[null,null,null,0.73,16.124770000000002,215100,4038.82,53.258129849807617]
[null,null,null,0.57399999999999995,25.409859999999998,163200,4039.79,40.398139507251614]
[null,null,null,0.74400000000000011,20.369119999999999,303900,5641.91,53.864737296412031]
[null,null,null,0.60899999999999999,20.594719999999999,136700,24482.02,5.583689581170181]
[null,null,null,0.71700000000000008,10.11806,196900,5740.7,34.298953089344508]
[null,null,null,0.58899999999999997,33.848579999999998,220000,15812.83,13.912753125152172]
[null,null,null,0.59200000000000008,28.118369999999999,264700,28653.43,9.2379865167974646]
[null,null,null,0.61599999999999999,28.545200000000001,39700,39374.9,1.0082565289054701]
[null,null,null,0.54899999999999993,34.738439999999997,254400,9719.74,26.173539621430205]
[null,null,null,0.50700000000000001,36.970970000000001,327400,8555.89,38.266036613373949]
[null,null,null,0.627,24.245329999999999,275400,15499.11,17.76876220634604]
[null,null,null,0.59799999999999998,27.387160000000002,582500,36793.019999999997,15.831807228653696]
[null,null,null,0.79299999999999993,8.6197979999999994,320300,319727.58,1.0017903366359573]
[null,null,null,0.63500000000000001,16.362749999999998,149100,3254.19,45.817853290680631]
[null,null,null,0.67500000000000004,16.375689999999999,214900,17828.21,12.053930259964405]
[null,null,null,0.66599999999999993,12.262890000000001,559400,345209.89999999997,1.6204633760503393]
[null,null,null,0.74,24.155950000000001,282600,49694.73,5.6867196984468977]
[null,null,null,0.61799999999999999,28.346019999999999,150300,6439.41,23.3406476680317]
[null,null,null,0.622,10.619590000000001,252800,4991.3599999999997,50.647518912681115]
[null,null,null,0.57100000000000006,24.977810000000002,182500,4175.57,43.706607720622578]
[null,null,null,0.68500000000000005,29.72559,317300,2886.18,109.93770312315934]
[null,null,null,0.60299999999999998,28.372669999999999,180000,13635.87,13.200477857298434]
[null,null,null,0.66700000000000004,16.61645,875200,262331.45,3.3362374202559395]
[null,null,null,0.67299999999999993,18.876470000000001,291800,12604.02,23.151343777620156]
[null,null,null,0.66900000000000004,23.4603,255800,9344.85,27.373366078642245]
[null,null,null,0.63,16.37275,758600,380234.47000000003,1.9950847696685678]
[null,null,null,0.60699999999999998,15.995419999999999,1189900,167007.32999999999,7.124836975718372]
[null,null,null,0.79700000000000004,15.427239999999999,204500,4384.71,46.639344449233818]
[null,null,null,0.53600000000000003,35.318849999999998,222000,23009.32,9.6482642685659545]
[null,null,null,0.621,29.616800000000001,225200,10315.43,21.831373001416324]
[null,null,null,0.61199999999999999,16.45635,177800,29031.37,6.1244095611057974]
[null,null,null,0.59299999999999997,23.62791,172500,16349.36,10.550871716079406]
[null,null,null,0.60399999999999998,19.45476,135800,6289.1,21.592914725477414]
[null,null,null,0.64300000000000002,39.587780000000002,317700,1978.64,160.5648324101403]
[null,null,null,0.79500000000000004,17.046900000000001,236400,10604.47,22.292486093128655]
[null,null,null,0.63300000000000001,35.438890000000001,276700,3880.78,71.300099464540637]
[null,null,null,0.71700000000000008,21.463450000000002,326500,3426.35,95.290907233645129]
[null,null,null,0.64500000000000002,26.817740000000001,209500,18062.79,11.598429699952222]
[null,null,null,0.64,8.8027990000000003,571000,197752.27,2.8874510517628953]
[null,null,null,0.67200000000000004,18.486440000000002,158500,70416.92,2.2508794761259083]
[null,null,null,0.72,14.766360000000001,858900,199087.17,4.3141906130867191]
[null,null,null,0.73799999999999999,24.59374,255300,2148.6999999999998,118.8160282961791]
[null,null,null,0.69599999999999995,9.9801850000000005,498100,325533.81,1.5301022035161262]
[null,null,null,0.68400000000000005,12.193770000000001,150900,19842.72,7.6048041800720867]
[null,null,null,0.67,26.84225,323200,15704.63,20.579918151526016]
[null,null,null,0.57700000000000007,34.414459999999998,262000,6943.65,37.732316577016412]
[null,null,null,0.69299999999999995,14.13344,592100,174051.41,3.4018684479487984]
[null,null,null,0.755,5.4465659999999998,209900,27193.7,7.7186995517344092]